Workbook
Name Z_62402EC8_062B_4A52_BB2A_ECBAF15826A4_.wvu.Cols: 'C1'!#REF!
Name Z_62402EC8_062B_4A52_BB2A_ECBAF15826A4_.wvu.Cols: 'C10'!#REF!
Name Z_62402EC8_062B_4A52_BB2A_ECBAF15826A4_.wvu.Cols: 'C11'!#REF!
Name Z_62402EC8_062B_4A52_BB2A_ECBAF15826A4_.wvu.Cols: 'C12'!#REF!
Name Z_62402EC8_062B_4A52_BB2A_ECBAF15826A4_.wvu.Cols: 'C16-長'!#REF!
Name Z_62402EC8_062B_4A52_BB2A_ECBAF15826A4_.wvu.Cols: 'C18'!#REF!
Name Z_62402EC8_062B_4A52_BB2A_ECBAF15826A4_.wvu.Cols: 'C19'!#REF!
Name Z_62402EC8_062B_4A52_BB2A_ECBAF15826A4_.wvu.Cols: 'C20'!#REF!
Name Z_62402EC8_062B_4A52_BB2A_ECBAF15826A4_.wvu.Cols: 'C21'!#REF!
Name Z_62402EC8_062B_4A52_BB2A_ECBAF15826A4_.wvu.Cols: 'C22'!#REF!
Name Z_62402EC8_062B_4A52_BB2A_ECBAF15826A4_.wvu.Cols: 'C23Y'!#REF!
Name Z_62402EC8_062B_4A52_BB2A_ECBAF15826A4_.wvu.Cols: 'C24D'!#REF!
Name Z_62402EC8_062B_4A52_BB2A_ECBAF15826A4_.wvu.Cols: 'C25'!#REF!
Name Z_62402EC8_062B_4A52_BB2A_ECBAF15826A4_.wvu.Cols: 'C26'!#REF!
Name Z_62402EC8_062B_4A52_BB2A_ECBAF15826A4_.wvu.Cols: 'C27'!#REF!
Name Z_62402EC8_062B_4A52_BB2A_ECBAF15826A4_.wvu.Cols: 'C28D'!#REF!
Name Z_62402EC8_062B_4A52_BB2A_ECBAF15826A4_.wvu.Cols: 'C29'!#REF!
Name Z_62402EC8_062B_4A52_BB2A_ECBAF15826A4_.wvu.Cols: 'C30'!#REF!
Name Z_62402EC8_062B_4A52_BB2A_ECBAF15826A4_.wvu.Cols: 'C31-12.5圓'!#REF!
Name Z_62402EC8_062B_4A52_BB2A_ECBAF15826A4_.wvu.Cols: 'C34-12.5圓'!#REF!
Name Z_62402EC8_062B_4A52_BB2A_ECBAF15826A4_.wvu.Cols: 'C36-12.5圓'!#REF!
Name Z_62402EC8_062B_4A52_BB2A_ECBAF15826A4_.wvu.Cols: 'C37'!#REF!
Name Z_62402EC8_062B_4A52_BB2A_ECBAF15826A4_.wvu.Cols: 'C38'!#REF!
Name Z_62402EC8_062B_4A52_BB2A_ECBAF15826A4_.wvu.Cols: 'C40DY'!#REF!
Name Z_62402EC8_062B_4A52_BB2A_ECBAF15826A4_.wvu.Cols: 'C43長'!#REF!
Name Z_62402EC8_062B_4A52_BB2A_ECBAF15826A4_.wvu.Cols: 'C5'!#REF!
Name Z_62402EC8_062B_4A52_BB2A_ECBAF15826A4_.wvu.Cols: 'C7'!#REF!
Name Z_62402EC8_062B_4A52_BB2A_ECBAF15826A4_.wvu.Cols: 'C9'!#REF!
Name Z_6FAA6C97_FB7D_4B53_BB01_B757EA5C6C1A_.wvu.Cols: 'C1'!#REF!
Name Z_6FAA6C97_FB7D_4B53_BB01_B757EA5C6C1A_.wvu.Cols: 'C10'!#REF!
Name Z_6FAA6C97_FB7D_4B53_BB01_B757EA5C6C1A_.wvu.Cols: 'C11'!#REF!
Name Z_6FAA6C97_FB7D_4B53_BB01_B757EA5C6C1A_.wvu.Cols: 'C12'!#REF!
Name Z_6FAA6C97_FB7D_4B53_BB01_B757EA5C6C1A_.wvu.Cols: 'C16-長'!#REF!
Name Z_6FAA6C97_FB7D_4B53_BB01_B757EA5C6C1A_.wvu.Cols: 'C18'!#REF!
Name Z_6FAA6C97_FB7D_4B53_BB01_B757EA5C6C1A_.wvu.Cols: 'C19'!#REF!
Name Z_6FAA6C97_FB7D_4B53_BB01_B757EA5C6C1A_.wvu.Cols: 'C20'!#REF!
Name Z_6FAA6C97_FB7D_4B53_BB01_B757EA5C6C1A_.wvu.Cols: 'C21'!#REF!
Name Z_6FAA6C97_FB7D_4B53_BB01_B757EA5C6C1A_.wvu.Cols: 'C22'!#REF!
Name Z_6FAA6C97_FB7D_4B53_BB01_B757EA5C6C1A_.wvu.Cols: 'C23Y'!#REF!
Name Z_6FAA6C97_FB7D_4B53_BB01_B757EA5C6C1A_.wvu.Cols: 'C24D'!#REF!
Name Z_6FAA6C97_FB7D_4B53_BB01_B757EA5C6C1A_.wvu.Cols: 'C25'!#REF!
Name Z_6FAA6C97_FB7D_4B53_BB01_B757EA5C6C1A_.wvu.Cols: 'C26'!#REF!
Name Z_6FAA6C97_FB7D_4B53_BB01_B757EA5C6C1A_.wvu.Cols: 'C27'!#REF!
Name Z_6FAA6C97_FB7D_4B53_BB01_B757EA5C6C1A_.wvu.Cols: 'C28D'!#REF!
Name Z_6FAA6C97_FB7D_4B53_BB01_B757EA5C6C1A_.wvu.Cols: 'C29'!#REF!
Name Z_6FAA6C97_FB7D_4B53_BB01_B757EA5C6C1A_.wvu.Cols: 'C30'!#REF!
Name Z_6FAA6C97_FB7D_4B53_BB01_B757EA5C6C1A_.wvu.Cols: 'C31-12.5圓'!#REF!
Name Z_6FAA6C97_FB7D_4B53_BB01_B757EA5C6C1A_.wvu.Cols: 'C34-12.5圓'!#REF!
Name Z_6FAA6C97_FB7D_4B53_BB01_B757EA5C6C1A_.wvu.Cols: 'C36-12.5圓'!#REF!
Name Z_6FAA6C97_FB7D_4B53_BB01_B757EA5C6C1A_.wvu.Cols: 'C37'!#REF!
Name Z_6FAA6C97_FB7D_4B53_BB01_B757EA5C6C1A_.wvu.Cols: 'C38'!#REF!
Name Z_6FAA6C97_FB7D_4B53_BB01_B757EA5C6C1A_.wvu.Cols: 'C40DY'!#REF!
Name Z_6FAA6C97_FB7D_4B53_BB01_B757EA5C6C1A_.wvu.Cols: 'C43長'!#REF!
Name Z_6FAA6C97_FB7D_4B53_BB01_B757EA5C6C1A_.wvu.Cols: 'C5'!#REF!
Name Z_6FAA6C97_FB7D_4B53_BB01_B757EA5C6C1A_.wvu.Cols: 'C7'!#REF!
Name Z_6FAA6C97_FB7D_4B53_BB01_B757EA5C6C1A_.wvu.Cols: 'C9'!#REF!
Name Z_F856E5C8_623B_46A2_9BA6_8E327465E71F_.wvu.Cols: 'C1'!#REF!
Name Z_F856E5C8_623B_46A2_9BA6_8E327465E71F_.wvu.Cols: 'C10'!#REF!
Name Z_F856E5C8_623B_46A2_9BA6_8E327465E71F_.wvu.Cols: 'C11'!#REF!
Name Z_F856E5C8_623B_46A2_9BA6_8E327465E71F_.wvu.Cols: 'C12'!#REF!

Sheet 6.7月夜班
A1: 大夜班輪值人員(週六不用輪值班)
A2: 44719 | B2: 週二 | C2: 曾凱詣 | D2: 44749 | E2: 週四 | F2: 陳鴻維
A3: 44720 | B3: 週三 | C3: 曾凱詣 | D3: 44750 | E3: 週五 | F3: 陳鴻維
A4: 44721 | B4: 週四 | C4: 曾凱詣 | D4: 44751 | E4: 週六
A5: 44722 | B5: 週五 | C5: 曾凱詣 | D5: 44752 | E5: 週日
A6: 44723 | B6: 週六 | D6: 44753 | E6: 週一 | F6: 陳鴻維
A7: 44724 | B7: 週日 | D7: 44754 | E7: 週二 | F7: 陳鴻維
A8: 44725 | B8: 週一 | C8: 曾凱詣 | D8: 44755 | E8: 週三 | F8: 陳鴻維
A9: 44726 | B9: 週二 | C9: 曾凱詣 | D9: 44756 | E9: 週四 | F9: 陳鴻維
A10: 44727 | B10: 週三 | C10: 曾凱詣 | D10: 44757 | E10: 週五 | F10: 陳鴻維
A11: 44728 | B11: 週四 | C11: 曾凱詣 | D11: 44758 | E11: 週六
A12: 44729 | B12: 週五 | C12: 曾凱詣 | D12: 44759 | E12: 週日
A13: 44730 | B13: 週六 | D13: 44760 | E13: 週一 | F13: 陳鴻維
A14: 44731 | B14: 週日 | D14: 44761 | E14: 週二 | F14: 陳鴻維
A15: 44732 | B15: 週一 | C15: 曾凱詣 | D15: 44762 | E15: 週三 | F15: 陳鴻維
A16: 44733 | B16: 週二 | C16: 曾凱詣 | D16: 44763 | E16: 週四 | F16: 陳鴻維
A17: 44734 | B17: 週三 | C17: 謝承祐 | D17: 44764 | E17: 週五 | F17: 陳鴻維
A18: 44735 | B18: 週四 | C18: 謝承祐 | D18: 44765 | E18: 週六
A19: 44736 | B19: 週五 | C19: 謝承祐 | D19: 44766 | E19: 週日
A20: 44737 | B20: 週六 | D20: 44767 | E20: 週一 | F20: 楊璨嶸
A21: 44738 | B21: 週日 | D21: 44768 | E21: 週二 | F21: 楊璨嶸
A22: 44739 | B22: 週一 | C22: 謝承祐 | D22: 44769 | E22: 週三 | F22: 楊璨嶸
A23: 44740 | B23: 週二 | C23: 謝承祐 | D23: 44770 | E23: 週四 | F23: 楊璨嶸
A24: 44741 | B24: 週三 | C24: 謝承祐 | D24: 44771 | E24: 週五 | F24: 楊璨嶸
A25: 44742 | B25: 週四 | C25: 謝承祐 | D25: 44772 | E25: 週六
A26: 44743 | B26: 週五 | C26: 謝承祐 | D26: 44773 | E26: 週日
A27: 44744 | B27: 週六 | D27: 44774 | E27: 週一 | F27: 楊璨嶸
A28: 44745 | B28: 週日 | D28: 44775 | E28: 週二 | F28: 楊璨嶸
A29: 44746 | B29: 週一 | C29: 謝承祐 | D29: 44776 | E29: 週三 | F29: 楊璨嶸
A30: 44747 | B30: 週二 | C30: 謝承祐 | D30: 44777 | E30: 週四 | F30: 楊璨嶸
A31: 44748 | B31: 週三 | C31: 謝承祐 | D31: 44778 | E31: 週五 | F31: 楊璨嶸

Sheet C1
A1: 日期 | C1: 品名-可對角定位 | D1: 投產數 | E1: 當日產量 | F1: 累積產量 | G1: 未生產數 | H1: 預交日 | I1: 訂單數量 | J1: 銅條 | K1: 進料日 | L1: 架位 | M1: 工令單號 | N1: 實際入庫 | O1: 差異 | P1: 單重 | Q1: 備註(出貨日) | R1: 後製程
A2: 46174 | B2: =A2 -> 46174 | E2: 76 | F2: =#REF!+E2 -> #REF! | G2: =#REF!-F2 -> #REF!
C3: NFCN25241-009-80 | D3: 105 | E3: 139 | F3: =E3 -> 139 | G3: =$D$3-F3 -> -34 | H3: 46174 | I3: 105 | J3: WWMD6CH-14.5 | L3: 15B右 | M3: M01150518246 | R3: 熱處理(硬度不足重新打樣)
C4: NFS20260421-5-1-80 | D4: 50 | E4: 40 | F4: =E4 -> 40 | G4: =$D$4-F4 -> 10 | H4: 46177 | I4: 50 | J4: WWMD4CA-14.50 | L4: 5C | M4: M01150505103 | Q4: 車刀痕(重新打樣) | R4: 熱處理+電鍍
C5: 50.8012.2741A-80 | D5: 200 | E5: 66 | F5: =E5 -> 66 | G5: =$D$5-F5 -> 134 | H5: 2026/06/18 | I5: 50000 | J5: WWMD6CH-9.0 | M5: M01150522050 | Q5: 6/5出貨-200
A6: 46175 | B6: =A6 -> 46175 | E6: 148 | F6: =E6+F5 -> 214 | G6: =$D$5-F6 -> -14 | H6: V4 | I6: 48800 | Q6: 6/26出貨-10000
H7: C1 | I7: 200
C8: LBM-B002-80 | D8: 9300 | E8: 836 | F8: =E8 -> 836 | G8: =$D$8-F8 -> 8464 | H8: 46181 | I8: 9300 | J8: WWMJ4CA-28.5 | K8: 46161 | L8: 25B | M8: M01150507066 | Q8: 6/22出貨 | R8: 電鍍
A9: 46176 | B9: =A9 -> 46176 | E9: 1266 | F9: =F8+E9 -> 2102 | G9: =$D$8-F9 -> 7198
A10: 46177 | B10: =A10 -> 46177 | E10: 1298 | F10: =F9+E10 -> 3400 | G10: =$D$8-F10 -> 5900
A11: 46178 | B11: =A11 -> 46178 | E11: 1256 | F11: =F10+E11 -> 4656 | G11: =$D$8-F11 -> 4644
A12: 46179 | B12: =A12 -> 46179 | E12: 844 | F12: =F11+E12 -> 5500 | G12: =$D$8-F12 -> 3800
A13: 46180 | B13: =A13 -> 46180 | E13: 1164 | F13: =F12+E13 -> 6664 | G13: =$D$8-F13 -> 2636
A14: 46181 | B14: =A14 -> 46181 | E14: 1185 | F14: =F13+E14 -> 7849 | G14: =$D$8-F14 -> 1451
A15: 46182 | B15: =A15 -> 46182 | E15: 1182 | F15: =F14+E15 -> 9031 | G15: =$D$8-F15 -> 269
A16: 46183 | B16: =A16 -> 46183 | E16: 325 | F16: =F15+E16 -> 9356 | G16: =$D$8-F16 -> -56
C17: W61113A-2-80 | D17: 200 | E17: 220 | F17: =E17 -> 220 | G17: =$D$17-F17 -> -20 | H17: 46188 | I17: 200 | J17: WWMJ4CA-33.5 | K17: 46175 | L17: 20D | M17: M01150519093 | Q17: 6/22出貨
A18: 46184 | B18: =A18 -> 46184 | C18: X00009D-80 | D18: 100 | E18: 100 | F18: =E18 -> 100 | G18: =$D$18-F18 -> 0 | H18: 46203 | I18: 50 | J18: WWMJ4A-25.5*C19 | L18: 16C左 | M18: M01150605076 | Q18: 樣品 | R18: 電鍍
H19: 46188 | I19: 50 | J19: WWMJ4A-25.5*C19 | L19: 16C左 | M19: M01150609002 | Q19: 樣品 | R19: 電鍍+電著
C20: X00009-80 | D20: 420 | E20: 450 | F20: =E20 -> 450 | G20: =$D$20-F20 -> -30 | H20: 46188 | I20: 420 | J20: WWMJ4A-25.5*C19 | K20: 46162 | L20: 13A | M20: M01150514060 | Q20: 6/29出貨 | R20: 電鍍
C21: X00009A-80 | D21: =I25 -> 27670 | E21: 427 | F21: =E21 -> 427 | G21: =$D$21-F21 -> 27243 | H21: 46190 | I21: 7700 | J21: WWMJ4A-25.5*C19 | K21: 46181 | L21: F1-3 | M21: M01150520123 | N21: 已設定 | Q21: 6/25出貨 | R21: 電鍍
A22: 46185 | B22: =A22 -> 46185 | C22: 試電 | E22: 1598 | F22: =F21+E22 -> 2025 | G22: =$D$21-F22 -> 25645 | H22: 46191 | I22: 10000 | J22: WWMJ4A-25.5*C19 | K22: 46181 | L22: F1-3 | M22: M01150520125 | N22: 已設定 | Q22: 7/2出貨-10000 | R22: 電鍍
A23: 46186 | B23: =A23 -> 46186 | C23: 清洗 | E23: 1620 | F23: =F22+E23 -> 3645 | G23: =$D$21-F23 -> 24025 | H23: 46202 | I23: 9920 | J23: WWMJ4A-25.5*C19 | K23: 46188 | L23: F1-3 | M23: M01150529063 | N23: 6/18-SCH | Q23: 7/8出貨 | R23: 電鍍
A24: 46187 | B24: =A24 -> 46187 | E24: 1621 | F24: =F23+E24 -> 5266 | G24: =$D$21-F24 -> 22404 | H24: 46188 | I24: 50 | J24: WWMJ4A-25.5*C19 | K24: 46188 | L24: F1-3 | M24: M01150609004 | Q24: 樣品 | R24: 電鍍+電著
A25: 46188 | B25: =A25 -> 46188 | E25: 1496 | F25: =F24+E25 -> 6762 | G25: =$D$21-F25 -> 20908 | I25: =SUM(I21:I24) -> 27670 | Q25: 6/18出貨-2000 | R25: 電鍍
A26: 46189 | B26: =A26 -> 46189 | E26: 1597 | F26: =F25+E26 -> 8359 | G26: =$D$21-F26 -> 19311
A27: 46190 | B27: =A27 -> 46190 | C27: 清洗 | E27: 1614 | F27: =F26+E27 -> 9973 | G27: =$D$21-F27 -> 17697
A28: 46191 | B28: =A28 -> 46191 | E28: 1616 | F28: =F27+E28 -> 11589 | G28: =$D$21-F28 -> 16081
A29: 46192 | B29: =A29 -> 46192 | E29: 1512 | F29: =F28+E29 -> 13101 | G29: =$D$21-F29 -> 14569
A30: 46193 | B30: =A30 -> 46193 | E30: 1620 | F30: =F29+E30 -> 14721 | G30: =$D$21-F30 -> 12949
A31: 46194 | B31: =A31 -> 46194 | E31: 1570 | F31: =F30+E31 -> 16291 | G31: =$D$21-F31 -> 11379
A32: 46195 | B32: =A32 -> 46195 | E32: 1614 | F32: =F31+E32 -> 17905 | G32: =$D$21-F32 -> 9765
A33: 46196 | B33: =A33 -> 46196 | E33: 1609 | F33: =F32+E33 -> 19514 | G33: =$D$21-F33 -> 8156
A34: 46197 | B34: =A34 -> 46197 | C34: 清洗 | E34: 1615 | F34: =F33+E34 -> 21129 | G34: =$D$21-F34 -> 6541
A35: 46198 | B35: =A35 -> 46198 | E35: 1603 | F35: =F34+E35 -> 22732 | G35: =$D$21-F35 -> 4938
A36: 46199 | B36: =A36 -> 46199 | E36: 1621 | F36: =F35+E36 -> 24353 | G36: =$D$21-F36 -> 3317
A37: 46200 | B37: =A37 -> 46200 | E37: 1514 | F37: =F36+E37 -> 25867 | G37: =$D$21-F37 -> 1803
A38: 46201 | B38: =A38 -> 46201 | E38: 1297 | F38: =F37+E38 -> 27164 | G38: =$D$21-F38 -> 506
A39: 46202 | B39: =A39 -> 46202 | E39: 333 | F39: =F38+E39 -> 27497 | G39: =$D$21-F39 -> 173
C40: X00009D-80 | D40: 100 | E40: 124 | F40: =E40 -> 124 | G40: =$D$40-F40 -> -24 | H40: 46203 | I40: 100 | J40: WWMJ4A-25.5*C19 | L40: F1-3 | M40: M01150605076 | Q40: 電鍍後NOGO進
A41: 46203 | B41: =A41 -> 46203 | C41: X00009A-80 | D41: 173 | E41: 375 | F41: =E41 -> 375 | G41: =$D$41-F41 -> -202 | H41: 46202 | I41: 173 | J41: WWMJ4A-25.5*C19 | K41: 46188 | L41: F1-3 | M41: M01150529063 | N41: 6/18-SCH | Q41: 7/8出貨 | R41: 電鍍
C42: 3CAA0004-80 | D42: 1000 | E42: 1031 | F42: =E42 -> 1031 | G42: =$D$42-F42 -> -31 | H42: 46209 | I42: 1000 | J42: WWMD6CH-9.0 | L42: G1-2.G1-3 | M42: M01150615224 | Q42: 7/13出貨 | R42: 電鍍
A43: 46204 | B43: =A43 -> 46204 | E43: 49 | F43: =F42+E43 -> 1080 | G43: =$D$42-F43 -> -80
C44: GY.0433.1-80 | D44: =I46 -> 3985 | E44: 523 | F44: =E44 -> 523 | G44: =$D$44-F44 -> 3462 | H44: 46204 | I44: 985 | J44: WWMJ6CA-24.5GY-1 | K44: 46202 | L44: K1-8 | M44: M01150615202 | Q44: 7/9出貨-1000 | R44: 電鍍
A45: 46205 | B45: =A45 -> 46205 | E45: 781 | F45: =F44+E45 -> 1304 | G45: =$D$44-F45 -> 2681 | H45: 46211 | I45: 3000 | J45: WWMJ6CA-24.5GY-1 | K45: 46202 | L45: K1-8 | M45: M01150615205 | Q45: 7/16出貨-1000 | R45: 電鍍
A46: 46206 | B46: =A46 -> 46206 | E46: 789 | F46: =F45+E46 -> 2093 | G46: =$D$44-F46 -> 1892 | I46: =SUM(I44:I45) -> 3985
A47: 46207 | B47: =A47 -> 46207 | E47: 792 | F47: =F46+E47 -> 2885 | G47: =$D$44-F47 -> 1100
A48: 46208 | B48: =A48 -> 46208 | E48: 759 | F48: =F47+E48 -> 3644 | G48: =$D$44-F48 -> 341
A49: 46209 | B49: =A49 -> 46209 | E49: 381 | F49: =F48+E49 -> 4025 | G49: =$D$44-F49 -> -40
C50: C31430-2CP-80 | D50: 500 | E50: 193 | F50: =E50 -> 193 | G50: =$D$50-F50 -> 307 | H50: 46210 | I50: 500 | J50: WWMJ6CA-24.0 | K50: 46191 | L50: 17D | M50: M01150603159 | Q50: 7/30出貨 | R50: 沖角+電鍍+雷雕
A51: 46210 | B51: =A51 -> 46210 | E51: 336 | F51: =F50+E51 -> 529 | G51: =$D$50-F51 -> -29
C52: C30709-2-80 | D52: 800 | E52: 150 | F52: =E52 -> 150 | G52: =$D$52-F52 -> 650 | H52: 46209 | I52: 600 | J52: WWMJ6CA-24.0 | K52: 46191 | L52: 17D | M52: M01150603152 | Q52: 7/30出貨 | R52: 沖齒+雷雕
A53: 46211 | B53: =A53 -> 46211 | E53: 590 | F53: =F52+E53 -> 740 | G53: =$D$52-F53 -> 60 | H53: 46216 | I53: 100 | J53: WWMJ6CA-24.0 | K53: 46199 | L53: 17D | M53: M01150615146 | Q53: 7/27出貨 | R53: 沖齒+雷雕
A54: 46212 | B54: =A54 -> 46212 | E54: 71 | F54: =F53+E54 -> 811 | G54: =$D$52-F54 -> -11 | H54: 46226 | I54: 100 | J54: WWMJ6CA-24.0 | L54: 17D | M54: M01150626227 | Q54: 8/10出貨 | R54: 沖齒+雷雕
C55: C30145-2-80 | D55: 100 | E55: 105 | F55: =E55 -> 105 | G55: =$D$55-F55 -> -5 | H55: 46212 | I55: 100 | J55: WWMJ6CA-24.0 | K55: 46191 | L55: 17D | M55: M01150601146 | Q55: 7/13出貨 | R55: 沖角+雷雕
C56: C30286-2-80 | D56: 100 | E56: 110 | F56: =E56 -> 110 | G56: =$D$56-F56 -> -10 | H56: 46230 | I56: 100 | J56: WWMJ6CA-24.0 | L56: 17D | M56: M01150626250 | Q56: 8/10出貨 | R56: 沖齒+雷雕
C57: C31171C-2-80 | D57: 100 | E57: 111 | F57: =E57 -> 111 | G57: =$D$57-F57 -> -11 | H57: 46216 | I57: 100 | J57: WWMJ6CA-24.0 | K57: 46199 | L57: 17D | M57: M01150615158 | Q57: 7/27出貨 | R57: 沖角+雷雕
C58: C30287-2CP-80 | D58: 100 | E58: 24 | F58: =E58 -> 24 | G58: =$D$58-F58 -> 76 | H58: 46211 | I58: 100 | J58: WWMJ6CA-24.0 | K58: 46199 | L58: 17D | M58: M01150615134 | Q58: 7/27出貨 | R58: 剖溝+電鍍+雷雕
A59: 46213 | B59: =A59 -> 46213 | E59: 86 | F59: =E59+F58 -> 110 | G59: =$D$58-F59 -> -10
C60: C30287-2-80 | D60: 800 | E60: 612 | F60: =E60 -> 612 | G60: =$D$60-F60 -> 188 | H60: 46216 | I60: 400 | J60: WWMJ6CA-24.0 | K60: 46199 | L60: 17D | M60: M01150615123 | Q60: 7/27出貨 | R60: 剖溝+雷雕
A61: 46214 | B61: =A61 -> 46214 | E61: 511 | F61: =F60+E61 -> 1123 | G61: =$D$60-F61 -> -323 | H61: 46232 | I61: 400 | J61: WWMJ6CA-24.0 | K61: 46223 | M61: M01150706035 | Q61: 8/17出貨 | R61: 剖溝+雷雕
C62: C30325-2-80 | D62: 600 | E62: 261 | F62: =E62 -> 261 | G62: =$D$62-F62 -> 339 | H62: 46216 | I62: 400 | J62: WWMJ6CA-24.0 | K62: 46199 | L62: 17D | M62: M01150615110 | Q62: 7/27出貨 | R62: 沖角
A63: 46215 | B63: =A63 -> 46215 | E63: 369 | F63: =E63+F62 -> 630 | G63: =$D$62-F63 -> -30 | H63: 46230 | I63: 200 | J63: WWMJ6CA-24.0 | L63: 17D | M63: M01150626234 | Q63: 8/10出貨 | R63: 沖角
C64: C31905-2CP-80 | D64: 200 | E64: 264 | F64: =E64 -> 264 | G64: =$D$64-F64 -> -64 | H64: 46220 | I64: 100 | J64: WWMJ6CA-24.0 | K64: 46199 | L64: 17D | M64: M01150623079 | Q64: 8/7出貨 | R64: 沖角+電鍍+雷雕
H65: 46223 | I65: 100 | J65: WWMJ6CA-24.0 | K65: 46199 | L65: 17D | M65: M01150623107 | Q65: 8/7出貨 | R65: 沖角+電鍍+雷雕
A66: 46216 | B66: =A66 -> 46216 | C66: X00010-1-80 | D66: 500 | E66: 0 | F66: =E66 -> 0 | G66: =$D$66-F66 -> 500 | H66: 46209 | I66: 200 | J66: WWMUCCA-29.0 | L66: M1-4 | M66: M01150616129 | Q66: 7/20出貨 | R66: 電鍍
A67: 46217 | B67: =A67 -> 46217 | E67: 223 | F67: =E67+F66 -> 223 | G67: =$D$66-F67 -> 277 | H67: 46216 | I67: 300 | J67: WWMUCCA-29.0 | L67: M1-4 | M67: M01150623057 | N67: 7/14-SCH | Q67: 7/24出貨 | R67: 電鍍
A68: 46218 | B68: =A68 -> 46218 | E68: 296 | F68: =E68+F67 -> 519 | G68: =$D$66-F68 -> -19
C69: X00010A-1-80 | D69: 100 | E69: 75 | F69: =E69 -> 75 | G69: =$D$69-F69 -> 25 | H69: 46237 | I69: 100 | J69: WWMUCCA-29.0 | L69: M1-4 | M69: M01150710198 | Q69: 8/17出貨 | R69: 電鍍
A70: 46219 | B70: =A70 -> 46219 | E70: 67 | F70: =F69+E70 -> 142 | G70: =$D$69-F70 -> -42
C71: GY.0763.1-80 | D71: 1350 | E71: 354 | F71: =E71 -> 354 | G71: =$D$71-F71 -> 996 | H71: 46230 | I71: 1000 | J71: WWMJ6CA-24.0 | L71: 17D | M71: M01150626034 | Q71: 8/17出貨 | R71: 沖齒+電鍍
A72: 46220 | B72: =A72 -> 46220 | E72: 546 | F72: =F71+E72 -> 900 | G72: =$D$71-F72 -> 450 | H72: NG | I72: 350
A73: 46221 | B73: =A73 -> 46221 | E73: 458 | F73: =F72+E73 -> 1358 | G73: =$D$71-F73 -> -8
C74: R00032-80 | D74: 1822 | E74: 336 | F74: =E74 -> 336 | G74: =$D$74-F74 -> 1486 | H74: 46244 | I74: 1822 | J74: WWMUACA-14.5 | K74: 46220 | L74: 9B | M74: M01150715004 | Q74: 8/19出貨 | R74: 沖齒
A75: 46222 | B75: =A75 -> 46222 | E75: 1514 | F75: =F74+E75 -> 1850 | G75: =$D$74-F75 -> -28
C76: 0312-010-199-80 | D76: 3925 | E76: 921 | F76: =E76 -> 921 | G76: =$D$76-F76 -> 3004 | H76: 46223 | I76: 3925 | J76: WWHUACA-25.4 | K76: 46203 | L76: 10B | M76: M01150622075 | Q76: 7/27出貨
A77: 46223 | B77: =A77 -> 46223 | E77: 2224 | F77: =F76+E77 -> 3145 | G77: =$D$76-F77 -> 780
A78: 46224 | B78: =A78 -> 46224 | E78: 821 | F78: =F77+E78 -> 3966 | G78: =$D$76-F78 -> -41
C79: W30811-3-80 | D79: 500 | E79: 1019 | F79: =E79 -> 1019 | G79: =$D$79-F79 -> -519 | H79: 46258 | I79: 500 | J79: WWMJ4CA-19.0 | L79: 21C.H1-3 | M79: M01150707022 | Q79: 9/7出貨 | R79: 電鍍
A80: 46225 | B80: =A80 -> 46225 | C80: YCN167-80 | D80: 100 | E80: 130 | F80: =E80 -> 130 | G80: =$D$80-F80 -> -30 | H80: 46233 | I80: 100 | J80: WWMJ4CA-19.0 | L80: H1-3 | M80: M01150626106 | Q80: 8/10出貨
C81: F00279-80 | D81: 60 | E81: 65 | F81: =E81 -> 65 | G81: =$D$81-F81 -> -5 | H81: 46225 | I81: 10 | J81: WWMD4CA-13.5 | L81: L1-6 | M81: M01150710001 | Q81: 7/24送樣 | R81: 清金+超因波清洗
H82: 46225 | I82: 50 | J82: WWMD4CA-13.5 | L82: L1-6 | M82: M01150710002 | Q82: 7/24送樣 | R82: 拋光+電鍍
I83: =SUM(I81:I82) -> 60
C84: 3CAA0004-80 | D84: 1000 | E84: 874 | F84: =E84 -> 874 | G84: =$D$84-F84 -> 126 | H84: 46230 | I84: 1000 | J84: WWMD6CH-9.0 | L84: E1-2 | M84: M01150708005 | Q84: 8/3出貨 | R84: 電鍍
A85: 46226 | B85: =A85 -> 46226 | E85: 221 | F85: =F84+E85 -> 1095 | G85: =$D$84-F85 -> -95
C86: YCN601-80 | D86: 100 | E86: 106 | F86: =E86 -> 106 | G86: =$D$86-F86 -> -6 | H86: 46233 | I86: 100 | J86: ZM-POM-22.5 | K86: 加一購買 | M86: M01150626107 | Q86: 8/10出貨 | R86: 1支2米料約420pcs
C87: DF-30-80 | D87: 500 | E87: 618 | F87: =E87 -> 618 | G87: =$D$87-F87 -> -118 | H87: 46239 | I87: 550 | J87: WWMUACA-14.5 | L87: 9B | M87: M01150709059 | Q87: 8/24出貨 | R87: 拋光+電鍍
A88: 46227 | B88: =A88 -> 46227 | C88: W30811-2-80 | D88: =I90 -> 960 | E88: 227 | F88: =E88 -> 227 | G88: =$D$88-F88 -> 733 | H88: 46223 | I88: 460 | J88: WWMJ4CA-32.0 | K88: 46202 | L88: 21D | M88: M01150610088 | Q88: 8/3出貨 | R88: 攻牙
A89: 46228 | B89: =A89 -> 46228 | E89: 357 | F89: =F88+E89 -> 584 | G89: =$D$88-F89 -> 376 | H89: 46258 | I89: 500 | J89: WWMJ4CA-32.0 | K89: 46213 | L89: 21D | M89: M01150707021 | Q89: 9/7出貨 | R89: 攻牙
A90: 46229 | B90: =A90 -> 46229 | E90: 353 | F90: =F89+E90 -> 937 | G90: =$D$88-F90 -> 23 | I90: =SUM(I88:I89) -> 960
A91: 46230 | B91: =A91 -> 46230 | E91: 36 | F91: =F90+E91 -> 973 | G91: =$D$88-F91 -> -13
C92: C31430-2-80 | D92: 100 | E92: 110 | F92: =E92 -> 110 | G92: =$D$92-F92 -> -10 | H92: 46241 | I92: 100 | J92: WWMJ6CA-24.0 | K92: 46221 | L92: 17D | M92: M01150722079 | Q92: 8/17出貨 | R92: 沖角+雷雕
C93: C30709-2-80 | D93: 242 | E93: 260 | F93: =E93 -> 260 | G93: =$D$93-F93 -> -18 | H93: 46244 | I93: 240 | J93: WWMJ6CA-24.0 | K93: 46221 | L93: 17D | M93: M01150715145 | Q93: 8/10出貨(前單NG*2) | R93: 沖角+雷雕
C94: C31905-2CP-80 | D94: 150 | E94: 31 | F94: =E94 -> 31 | G94: =$D$94-F94 -> 119 | H94: 46238 | I94: 150 | J94: WWMJ6CA-24.0 | K94: 46221 | L94: 17D | M94: M01150714045 | Q94: 8/21出貨 | R94: 沖角+電鍍+雷雕
A95: 46231 | B95: =A95 -> 46231 | E95: 129 | F95: =E95+F94 -> 160 | G95: =$D$94-F95 -> -10
C96: C30325-2-80 | D96: 300 | E96: 311 | F96: =E96 -> 311 | G96: =$D$96-F96 -> -11 | H96: 46246 | I96: 300 | J96: WWMJ6CA-24.0 | K96: 46221 | L96: 17D | M96: M01150715081 | P96: 42.3 | Q96: 8/24出貨 | R96: 沖角
C97: C30739-2-80 | D97: 300 | E97: 291 | F97: =E97 -> 291 | G97: =$D$97-F97 -> 9 | H97: 46254 | I97: 300 | J97: WWMJ6CA-24.0 | K97: 46239 | M97: M01150723047 | P97: 40.2 | Q97: 9/2出貨 | R97: 剖溝+沖齒
A98: 46232 | B98: =A98 -> 46232 | E98: 21 | F98: =F97+E98 -> 312 | G98: =$D$97-F98 -> -12
C99: C31909-2-80 | D99: 120 | E99: 130 | F99: =E99 -> 130 | G99: =$D$99-F99 -> -10 | H99: 46244 | I99: 100 | J99: WWMJ6CA-24.0 | K99: 46221 | L99: 17D | M99: M01150715183 | P99: 19.4 | Q99: 8/24出貨 | R99: 剖溝+雷雕
C100: C33820-2-80 | D100: 200 | E100: 215 | F100: =E100 -> 215 | G100: =$D$100-F100 -> -15 | H100: 46240 | I100: 200 | J100: WWMJ6CA-24.0 | K100: 46221 | L100: 17D | M100: M01150717072 | P100: 30.56 | Q100: 8/17出貨 | R100: 沖角+雷雕
...

Sheet C3
A1: 日期 | C1: 品名 | D1: 投產數 | E1: 當日產量 | F1: 累積產量 | G1: 未生產數 | H1: 預交日 | I1: 訂單數量 | J1: 銅條 | K1: 進料日 | L1: 架位 | M1: 工令單號 | N1: 實際入庫 | O1: 差異 | P1: 單重 | Q1: 備註(出貨日) | R1: 後製程
A2: 46202 | B2: =A2 -> 46202 | C2: F00053-80 | D2: 6720 | E2: 1860 | F2: =E2 -> 1860 | G2: =$D$2-F2 -> 4860 | H2: 111941 | I2: 6720 | J2: WWMUACA-18.0 | K2: 46178 | L2: M1-5 | M2: M01150526042 | Q2: 7/3出貨
A3: 46203 | B3: =A3 -> 46203 | E3: 3040 | F3: =F2+E3 -> 4900 | G3: =$D$2-F3 -> 1820
A4: 46204 | B4: =A4 -> 46204 | E4: 1820 | F4: =F3+E4 -> 6720 | G4: =$D$2-F4 -> 0
C5: F00053-80 | D5: 1650 | E5: 1150 | F5: =E5 -> 1150 | G5: =$D$5-F5 -> 500 | H5: 46230 | I5: 1650 | J5: WWMUACA-18.0 | K5: 46202 | L5: M1-5 | M5: M01150618189 | Q5: 8/3出貨
A6: 46205 | B6: =A6 -> 46205 | E6: 550 | F6: =F5+E6 -> 1700 | G6: =$D$5-F6 -> -50
C7: SP8013-80 | D7: =I18 -> 127000 | E7: 1165 | F7: =E7 -> 1165 | G7: =$D$7-F7 -> 125835 | H7: 46212 | I7: 10000 | J7: WWMJ4CA-19.0 | K7: 46191 | L7: 21C.H1-3 | M7: M01150518191 | Q7: 7/24出貨-5528
A8: 46206 | B8: =A8 -> 46206 | E8: 1400 | F8: =F7+E8 -> 2565 | G8: =$D$7-F8 -> 124435 | H8: 46220 | I8: 10000 | J8: WWMJ4CA-19.0 | K8: 46204 | L8: 21C | M8: M01150618017 | N8: 7/9-SCH | Q8: 7/25出貨-786
A9: 46207 | B9: =A9 -> 46207 | E9: 1400 | F9: =F8+E9 -> 3965 | G9: =$D$7-F9 -> 123035 | H9: 46246 | I9: 10000 | J9: WWMJ4CA-19.0 | K9: 46209 | L9: H1-3 | M9: M01150618029 | Q9: 7/27出貨-300
A10: 46208 | B10: =A10 -> 46208 | E10: 1400 | F10: =F9+E10 -> 5365 | G10: =$D$7-F10 -> 121635 | H10: 46230 | I10: 11000 | J10: WWMJ4CA-19.0 | K10: 46204 | L10: 21C | M10: M01150625010 | N10: 7/16-SCH | Q10: 7/31出貨-216
A11: 46209 | B11: =A11 -> 46209 | E11: 1400 | F11: =F10+E11 -> 6765 | G11: =$D$7-F11 -> 120235 | H11: 46244 | I11: 12500 | J11: WWMJ4CA-19.0 | K11: 46209 | L11: H1-3 | M11: M01150625018 | Q11: 8/21出貨-4860
A12: 46210 | B12: =A12 -> 46210 | E12: 1400 | F12: =F11+E12 -> 8165 | G12: =$D$7-F12 -> 118835 | H12: 46258 | I12: 10000 | J12: WWMJ4CA-19.0 | K12: 46241 | L12: H1-3 | M12: M01150708140 | Q12: 9/18出貨-4860
A13: 46211 | B13: =A13 -> 46211 | E13: 1454 | F13: =F12+E13 -> 9619 | G13: =$D$7-F13 -> 117381 | H13: 46272 | I13: 13500 | J13: WWMJ4CA-19.0 | K13: 46241 | L13: H1-3 | M13: M01150625028
A14: 46212 | B14: =A14 -> 46212 | E14: 1506 | F14: =F13+E14 -> 11125 | G14: =$D$7-F14 -> 115875 | H14: 46307 | I14: 13500 | J14: WWMJ4CA-19.0 | K14: 46241 | L14: H1-3 | M14: M01150625038
A15: 46213 | B15: =A15 -> 46213 | E15: 1522 | F15: =F14+E15 -> 12647 | G15: =$D$7-F15 -> 114353 | H15: 46335 | I15: 13000 | J15: WWMJ4CA-19.0 | K15: 46253 | M15: M01150625048
A16: 46214 | B16: =A16 -> 46214 | E16: 1417 | F16: =F15+E16 -> 14064 | G16: =$D$7-F16 -> 112936 | H16: 46363 | I16: 13500 | J16: WWMJ4CA-19.0 | K16: 46253 | M16: M01150625058
A17: 46215 | B17: =A17 -> 46215 | E17: 1680 | F17: =F16+E17 -> 15744 | G17: =$D$7-F17 -> 111256 | H17: 46237 | I17: 10000 | J17: WWMJ4CA-19.0 | K17: 46209 | L17: H1-3 | M17: M01150625090
A18: 46216 | B18: =A18 -> 46216 | E18: 1500 | F18: =F17+E18 -> 17244 | G18: =$D$7-F18 -> 109756 | I18: =SUM(I7:I17) -> 127000
A19: 46217 | B19: =A19 -> 46217 | E19: 1540 | F19: =F18+E19 -> 18784 | G19: =$D$7-F19 -> 108216
A20: 46218 | B20: =A20 -> 46218 | E20: 1401 | F20: =F19+E20 -> 20185 | G20: =$D$7-F20 -> 106815
A21: 46219 | B21: =A21 -> 46219 | E21: 1541 | F21: =F20+E21 -> 21726 | G21: =$D$7-F21 -> 105274
A22: 46220 | B22: =A22 -> 46220 | E22: 1536 | F22: =F21+E22 -> 23262 | G22: =$D$7-F22 -> 103738
A23: 46221 | B23: =A23 -> 46221 | E23: 1539 | F23: =F22+E23 -> 24801 | G23: =$D$7-F23 -> 102199
A24: 46222 | B24: =A24 -> 46222 | E24: 1540 | F24: =F23+E24 -> 26341 | G24: =$D$7-F24 -> 100659
A25: 46223 | B25: =A25 -> 46223 | E25: 955 | F25: =F24+E25 -> 27296 | G25: =$D$7-F25 -> 99704
A26: 46224 | B26: =A26 -> 46224 | C26: 50.8010.99770-80 | D26: =I35 -> 69097 | E26: 1019 | F26: =E26 -> 1019 | G26: =$D$26-F26 -> 68078 | H26: 46238 | I26: 136100 | J26: WWHD4CH-15.87 | K26: 46205 | L26: B1-2 | M26: M01150616034 | Q26: 7/16出貨-10000 | R26: 熱處理+電鍍
A27: 46225 | B27: =A27 -> 46225 | E27: 1444 | F27: =F26+E27 -> 2463 | G27: =$D$26-F27 -> 66634 | H27: 46244 | I27: 140000 | J27: WWHD4CH-15.87 | K27: 46226 | L27: B1-2 | M27: M01150616035 | Q27: 7/23出貨-10000 | R27: 熱處理+電鍍
A28: 46226 | B28: =A28 -> 46226 | E28: 1329 | F28: =F27+E28 -> 3792 | G28: =$D$26-F28 -> 65305 | H28: 46272 | I28: 140000 | J28: WWHD4CH-15.87 | K28: 46244 | L28: I1-2.I1-3 | M28: M01150616036 | Q28: 7/30出貨-20000 | R28: 熱處理+電鍍
A29: 46227 | B29: =A29 -> 46227 | E29: 1466 | F29: =F28+E29 -> 5258 | G29: =$D$26-F29 -> 63839 | H29: 46300 | I29: 140000 | J29: WWHD4CH-15.87 | K29: 46259 | L29: B1-3.B1-4 | M29: M01150616037 | Q29: 8/6出貨-20000 | R29: 熱處理+電鍍
A30: 46228 | B30: =A30 -> 46228 | E30: 1422 | F30: =F29+E30 -> 6680 | G30: =$D$26-F30 -> 62417 | I30: =SUM(I26:I29) -> 556100 | Q30: 8/13出貨-40000 | R30: 熱處理+電鍍
A31: 46229 | B31: =A31 -> 46229 | E31: 1469 | F31: =F30+E31 -> 8149 | G31: =$D$26-F31 -> 60948 | H31: C33 | I31: 56839 | Q31: 8/27出貨-60000 | R31: 熱處理+電鍍
A32: 46230 | B32: =A32 -> 46230 | E32: 1448 | F32: =F31+E32 -> 9597 | G32: =$D$26-F32 -> 59500 | H32: C21 | I32: 172000 | Q32: 9/3出貨-40000 | R32: 熱處理+電鍍
A33: 46231 | B33: =A33 -> 46231 | E33: 1465 | F33: =F32+E33 -> 11062 | G33: =$D$26-F33 -> 58035 | H33: C22 | I33: 90184 | Q33: 9/11出貨-26000 | R33: 熱處理+電鍍
A34: 46232 | B34: =A34 -> 46232 | E34: 1464 | F34: =F33+E34 -> 12526 | G34: =$D$26-F34 -> 56571 | H34: C2 | I34: 70077
A35: 46233 | B35: =A35 -> 46233 | E35: 1464 | F35: =F34+E35 -> 13990 | G35: =$D$26-F35 -> 55107 | H35: C3 | I35: 69097
A36: 46234 | B36: =A36 -> 46234 | E36: 1440 | F36: =F35+E36 -> 15430 | G36: =$D$26-F36 -> 53667 | H36: V3 | I36: 97903
A37: 46235 | B37: =A37 -> 46235 | E37: 1467 | F37: =F36+E37 -> 16897 | G37: =$D$26-F37 -> 52200 | I37: =SUM(I31:I36) -> 556100
A38: 46236 | B38: =A38 -> 46236 | E38: 1459 | F38: =F37+E38 -> 18356 | G38: =$D$26-F38 -> 50741
A39: 46237 | B39: =A39 -> 46237 | E39: 1464 | F39: =F38+E39 -> 19820 | G39: =$D$26-F39 -> 49277
A40: 46238 | B40: =A40 -> 46238 | E40: 1451 | F40: =F39+E40 -> 21271 | G40: =$D$26-F40 -> 47826
A41: 46239 | B41: =A41 -> 46239 | E41: 1464 | F41: =F40+E41 -> 22735 | G41: =$D$26-F41 -> 46362
A42: 46240 | B42: =A42 -> 46240 | E42: 1469 | F42: =F41+E42 -> 24204 | G42: =$D$26-F42 -> 44893
A43: 46241 | B43: =A43 -> 46241 | E43: 1467 | F43: =F42+E43 -> 25671 | G43: =$D$26-F43 -> 43426
A44: 46242 | B44: =A44 -> 46242 | E44: 1401 | F44: =F43+E44 -> 27072 | G44: =$D$26-F44 -> 42025
A45: 46243 | B45: =A45 -> 46243 | E45: 1468 | F45: =F44+E45 -> 28540 | G45: =$D$26-F45 -> 40557
A46: 46244 | B46: =A46 -> 46244 | E46: 1426 | F46: =F45+E46 -> 29966 | G46: =$D$26-F46 -> 39131
A47: 46245 | B47: =A47 -> 46245 | E47: 1469 | F47: =F46+E47 -> 31435 | G47: =$D$26-F47 -> 37662
A48: 46246 | B48: =A48 -> 46246 | E48: 1468 | F48: =F47+E48 -> 32903 | G48: =$D$26-F48 -> 36194
A49: 46247 | B49: =A49 -> 46247 | E49: 1465 | F49: =F48+E49 -> 34368 | G49: =$D$26-F49 -> 34729
... A74: 46272 | B74: =A74 -> 46272 | E74: 364 | F74: =F73+E74 -> 69097 | G74: =$D$26-F74 -> 0
C75: F00053-80 | D75: =I79 -> 49117 | E75: 2102 | F75: =E75 -> 2102 | G75: =$D$75-F75 -> 47015 | H75: 46274 | I75: 19200 | J75: WWMUACA-18.0 | K75: 46261 | L75: 6A | M75: M01150817270 | Q75: 9/19出貨-20000
A76: 46273 | B76: =A76 -> 46273 | E76: 3034 | F76: =F75+E76 -> 5136 | G76: =$D$75-F76 -> 43981 | H76: 46286 | I76: 31680 | J76: WWMUACA-18.0 | K76: 46261 | L76: 6A | M76: M01150817275 | N76: 9/7-SCH | Q76: 9/29出貨-30880
A77: 46274 | B77: =A77 -> 46274 | E77: 3058 | F77: =F76+E77 -> 8194 | G77: =$D$75-F77 -> 40923 | I77: =SUM(I75:I76) -> 50880
A78: 46275 | B78: =A78 -> 46275 | E78: 3054 | F78: =F77+E78 -> 11248 | G78: =$D$75-F78 -> 37869 | H78: V4-1 | I78: 1763
A79: 46276 | B79: =A79 -> 46276 | E79: 3052 | F79: =F78+E79 -> 14300 | G79: =$D$75-F79 -> 34817 | H79: C22 | I79: =I77-I78 -> 49117
A80: 46277 | B80: =A80 -> 46277 | E80: 3055 | F80: =F79+E80 -> 17355 | G80: =$D$75-F80 -> 31762
A81: 46278 | B81: =A81 -> 46278 | E81: 3056 | F81: =F80+E81 -> 20411 | G81: =$D$75-F81 -> 28706
A82: 46279 | B82: =A82 -> 46279 | C82: 清洗 | E82: 3055 | F82: =F81+E82 -> 23466 | G82: =$D$75-F82 -> 25651
A83: 46280 | B83: =A83 -> 46280 | E83: 2582 | F83: =F82+E83 -> 26048 | G83: =$D$75-F83 -> 23069
A84: 46281 | B84: =A84 -> 46281 | E84: 2800 | F84: =F83+E84 -> 28848 | G84: =$D$75-F84 -> 20269
A85: 46282 | B85: =A85 -> 46282 | E85: 2800 | F85: =F84+E85 -> 31648 | G85: =$D$75-F85 -> 17469
A86: 46283 | B86: =A86 -> 46283 | E86: 2800 | F86: =F85+E86 -> 34448 | G86: =$D$75-F86 -> 14669
A87: 46284 | B87: =A87 -> 46284 | E87: 2800 | F87: =F86+E87 -> 37248 | G87: =$D$75-F87 -> 11869
A88: 46285 | B88: =A88 -> 46285 | E88: 2800 | F88: =F87+E88 -> 40048 | G88: =$D$75-F88 -> 9069
A89: 46286 | B89: =A89 -> 46286 | E89: 2800 | F89: =F88+E89 -> 42848 | G89: =$D$75-F89 -> 6269
A90: 46287 | B90: =A90 -> 46287 | E90: 2800 | F90: =F89+E90 -> 45648 | G90: =$D$75-F90 -> 3469
A91: 46288 | B91: =A91 -> 46288 | E91: 2800 | F91: =F90+E91 -> 48448 | G91: =$D$75-F91 -> 669
A92: 46289 | B92: =A92 -> 46289 | E92: 2800 | F92: =F91+E92 -> 51248 | G92: =$D$75-F92 -> -2131
A93: 46290 | B93: =A93 -> 46290 | C93: 50.8010.99770-80 | D93: =I103 -> 100000 | E93: 1000 | F93: =E93 -> 1000 | G93: =$D$93-F93 -> 99000 | H93: 46279 | I93: 78000 | J93: WWHD4CH-15.87 | K93: 46268 | M93: M01150821092 | Q93: 10/8出貨-78000 | R93: 熱處理+電鍍
A94: 46291 | B94: =A94 -> 46291 | E94: 1400 | F94: =F93+E94 -> 2400 | G94: =$D$93-F94 -> 97600 | H94: 46279 | I94: 42000 | J94: WWHD4CH-15.87 | K94: 46275 | M94: M01150821085 | Q94: 10/15出貨-60000 | R94: 熱處理+電鍍
A95: 46292 | B95: =A95 -> 46292 | E95: 1400 | F95: =F94+E95 -> 3800 | G95: =$D$93-F95 -> 96200 | H95: 46286 | I95: 60000 | J95: WWHD4CH-15.87 | K95: 46296 | M95: M01150821095
A96: 46293 | B96: =A96 -> 46293 | E96: 1400 | F96: =F95+E96 -> 5200 | G96: =$D$93-F96 -> 94800 | H96: 46314 | I96: 180000 | J96: WWHD4CH-15.87 | K96: 46314 | M96: M01150821086
A97: 46294 | B97: =A97 -> 46294 | E97: 1400 | F97: =F96+E97 -> 6600 | G97: =$D$93-F97 -> 93400 | H97: 46349 | I97: 180000 | J97: WWHD4CH-15.87 | K97: 46314 | M97: M01150821087
A98: 46295 | B98: =A98 -> 46295 | E98: 1400 | F98: =F97+E98 -> 8000 | G98: =$D$93-F98 -> 92000 | H98: 46377 | I98: 180000 | J98: WWHD4CH-15.87 | K98: 46335 | M98: M01150821088
A99: 46296 | B99: =A99 -> 46296 | E99: 1400 | F99: =F98+E99 -> 9400 | G99: =$D$93-F99 -> 90600 | H99: 46405 | I99: 142000 | J99: WWHD4CH-15.87 | K99: 46335 | M99: M01150821089
A100: 46297 | B100: =A100 -> 46297 | E100: 1400 | F100: =F99+E100 -> 10800 | G100: =$D$93-F100 -> 89200 | I100: =SUM(I93:I99) -> 862000
A101: 46298 | B101: =A101 -> 46298 | E101: 1400 | F101: =F100+E101 -> 12200 | G101: =$D$93-F101 -> 87800 | H101: V3 | I101: 702000
A102: 46299 | B102: =A102 -> 46299 | E102: 1400 | F102: =F101+E102 -> 13600 | G102: =$D$93-F102 -> 86400 | H102: C2 | I102: 60000
A103: 46300 | B103: =A103 -> 46300 | E103: 1400 | F103: =F102+E103 -> 15000 | G103: =$D$93-F103 -> 85000 | H103: C3 | I103: 100000
A104: 46301 | B104: =A104 -> 46301 | E104: 1400 | F104: =F103+E104 -> 16400 | G104: =$D$93-F104 -> 83600 | I104: =SUM(I101:I103) -> 862000
A105: 46302 | B105: =A105 -> 46302 | E105: 1400 | F105: =F104+E105 -> 17800 | G105: =$D$93-F105 -> 82200
A106: 46303 | B106: =A106 -> 46303 | E106: 1400 | F106: =F105+E106 -> 19200 | G106: =$D$93-F106 -> 80800
A107: 46304 | B107: =A107 -> 46304 | E107: 1400 | F107: =F106+E107 -> 20600 | G107: =$D$93-F107 -> 79400
A108: 46305 | B108: =A108 -> 46305 | E108: 1400 | F108: =F107+E108 -> 22000 | G108: =$D$93-F108 -> 78000
A109: 46306 | B109: =A109 -> 46306 | E109: 1400 | F109: =F108+E109 -> 23400 | G109: =$D$93-F109 -> 76600
A110: 46307 | B110: =A110 -> 46307 | E110: 1400 | F110: =F109+E110 -> 24800 | G110: =$D$93-F110 -> 75200
A111: 46308 | B111: =A111 -> 46308 | E111: 1400 | F111: =F110+E111 -> 26200 | G111: =$D$93-F111 -> 73800
A112: 46309 | B112: =A112 -> 46309 | E112: 1400 | F112: =F111+E112 -> 27600 | G112: =$D$93-F112 -> 72400
A113: 46310 | B113: =A113 -> 46310 | E113: 1400 | F113: =F112+E113 -> 29000 | G113: =$D$93-F113 -> 71000
A114: 46311 | B114: =A114 -> 46311 | E114: 1400 | F114: =F113+E114 -> 30400 | G114: =$D$93-F114 -> 69600
A115: 46312 | B115: =A115 -> 46312 | E115: 1400 | F115: =F114+E115 -> 31800 | G115: =$D$93-F115 -> 68200
A116: 46313 | B116: =A116 -> 46313 | E116: 1400 | F116: =F115+E116 -> 33200 | G116: =$D$93-F116 -> 66800
... A164: 46361 | B164: =A164 -> 46361 | E164: 1400 | F164: =F163+E164 -> 100400 | G164: =$D$93-F164 -> -400

Sheet C4
A1: 日期 | C1: 品名 | D1: 投產數 | E1: 當日產量 | F1: 累積產量 | G1: 未生產數 | H1: 預交日 | I1: 訂單數量 | J1: 銅條 | K1: 進料日 | L1: 架位 | M1: 工令單號 | N1: 實際入庫 | O1: 差異 | P1: 單重 | Q1: 備註(出貨日) | R1: 後製程
A2: 46176 | B2: =A2 -> 46176 | C2: G0.A072.1-80 | D2: 4900 | E2: 146 | F2: =E2 -> 146 | G2: =$D$2-F2 -> 4754 | H2: 206/06/08 | I2: 4900 | J2: WWMJ6CA-24.0 | K2: 46177 | M2: M01150507092 | N2: 6/3-SCH | Q2: 6/22出貨 | R2: 滾字+電鍍
A3: 46177 | B3: =A3 -> 46177 | E3: 911 | F3: =F2+E3 -> 1057 | G3: =$D$2-F3 -> 3843
A4: 46178 | B4: =A4 -> 46178 | E4: 914 | F4: =F3+E4 -> 1971 | G4: =$D$2-F4 -> 2929
A5: 46179 | B5: =A5 -> 46179 | E5: 916 | F5: =F4+E5 -> 2887 | G5: =$D$2-F5 -> 2013
A6: 46180 | B6: =A6 -> 46180 | E6: 915 | F6: =F5+E6 -> 3802 | G6: =$D$2-F6 -> 1098
A7: 46181 | B7: =A7 -> 46181 | E7: 914 | F7: =F6+E7 -> 4716 | G7: =$D$2-F7 -> 184
A8: 46182 | B8: =A8 -> 46182 | E8: 184 | F8: =F7+E8 -> 4900 | G8: =$D$2-F8 -> 0
C9: G0.A072.1-80 | D9: 596 | E9: 596 | F9: =E9 -> 596 | G9: =$D$9-F9 -> 0 | H9: 46174 | I9: 15000 | J9: WWMJ6CA-24.0 | K9: 46162 | L9: 17D | M9: M01150430014 | Q9: 6/22出貨 | R9: 滾字+電鍍
H10: C12 | I10: 10304
H11: C4 | I11: 4100
H12: C12-1 | I12: 596
C13: G0.A072.1-80 | D13: 10000 | E13: 134 | F13: =E13 -> 134 | G13: =$D$13-F13 -> 9866 | H13: 46195 | I13: 10000 | J13: WWMJ6CA-24.0 | K13: 46185 | L13: 17D | M13: M01150520083 | Q13: 7/6出貨 | R13: 滾字+電鍍
A14: 46183 | B14: =A14 -> 46183 | E14: 914 | F14: =F13+E14 -> 1048 | G14: =$D$13-F14 -> 8952
A15: 46184 | B15: =A15 -> 46184 | E15: 905 | F15: =F14+E15 -> 1953 | G15: =$D$13-F15 -> 8047
A16: 46185 | B16: =A16 -> 46185 | E16: 913 | F16: =F15+E16 -> 2866 | G16: =$D$13-F16 -> 7134
A17: 46186 | B17: =A17 -> 46186 | E17: 916 | F17: =F16+E17 -> 3782 | G17: =$D$13-F17 -> 6218
A18: 46187 | B18: =A18 -> 46187 | E18: 916 | F18: =F17+E18 -> 4698 | G18: =$D$13-F18 -> 5302
A19: 46188 | B19: =A19 -> 46188 | E19: 914 | F19: =F18+E19 -> 5612 | G19: =$D$13-F19 -> 4388
A20: 46189 | B20: =A20 -> 46189 | E20: 914 | F20: =F19+E20 -> 6526 | G20: =$D$13-F20 -> 3474
A21: 46190 | B21: =A21 -> 46190 | E21: 915 | F21: =F20+E21 -> 7441 | G21: =$D$13-F21 -> 2559
A22: 46191 | B22: =A22 -> 46191 | E22: 915 | F22: =F21+E22 -> 8356 | G22: =$D$13-F22 -> 1644
A23: 46192 | B23: =A23 -> 46192 | E23: 916 | F23: =F22+E23 -> 9272 | G23: =$D$13-F23 -> 728
A24: 46193 | B24: =A24 -> 46193 | E24: 554 | F24: =F23+E24 -> 9826 | G24: =$D$13-F24 -> 174
C25: B0.A072.1-80 | D25: =I28 -> 11900 | E25: 371 | F25: =E25 -> 371 | G25: =$D$25-F25 -> 11529 | H25: 46206 | I25: 900 | J25: WWMJ4CA-24 | K25: 46183 | L25: 24C | M25: M01150527014 | Q25: 7/20出貨 | R25: 滾字+電鍍
A26: 46194 | B26: =A26 -> 46194 | E26: 947 | F26: =F25+E26 -> 1318 | G26: =$D$25-F26 -> 10582 | H26: 46202 | I26: 20000 | J26: WWMJ4CA-24 | K26: 46183 | L26: 24C | M26: M01150527024 | Q26: 7/20出貨 | R26: 滾字+電鍍
A27: 46195 | B27: =A27 -> 46195 | E27: 943 | F27: =F26+E27 -> 2261 | G27: =$D$25-F27 -> 9639 | I27: =SUM(I25:I26) -> 20900
A28: 46196 | B28: =A28 -> 46196 | E28: 941 | F28: =F27+E28 -> 3202 | G28: =$D$25-F28 -> 8698 | H28: C4 | I28: 11900
A29: 46197 | B29: =A29 -> 46197 | E29: 927 | F29: =F28+E29 -> 4129 | G29: =$D$25-F29 -> 7771 | H29: C13 | I29: 9000
A30: 46198 | B30: =A30 -> 46198 | E30: 937 | F30: =F29+E30 -> 5066 | G30: =$D$25-F30 -> 6834
A31: 46199 | B31: =A31 -> 46199 | E31: 954 | F31: =F30+E31 -> 6020 | G31: =$D$25-F31 -> 5880
A32: 46200 | B32: =A32 -> 46200 | E32: 914 | F32: =F31+E32 -> 6934 | G32: =$D$25-F32 -> 4966
A33: 46201 | B33: =A33 -> 46201 | E33: 828 | F33: =F32+E33 -> 7762 | G33: =$D$25-F33 -> 4138
A34: 46202 | B34: =A34 -> 46202 | E34: 947 | F34: =F33+E34 -> 8709 | G34: =$D$25-F34 -> 3191
A35: 46203 | B35: =A35 -> 46203 | E35: 949 | F35: =F34+E35 -> 9658 | G35: =$D$25-F35 -> 2242
A36: 46204 | B36: =A36 -> 46204 | E36: 949 | F36: =F35+E36 -> 10607 | G36: =$D$25-F36 -> 1293
A37: 46205 | B37: =A37 -> 46205 | E37: 941 | F37: =F36+E37 -> 11548 | G37: =$D$25-F37 -> 352
A38: 46206 | B38: =A38 -> 46206 | E38: 352 | F38: =F37+E38 -> 11900 | G38: =$D$25-F38 -> 0
C39: B0.A072.1-80 | D39: =I40 -> 13000 | E39: 596 | F39: =E39 -> 596 | G39: =$D$39-F39 -> 12404 | H39: 46218 | I39: 19152 | J39: WWMJ4CA-24 | K39: 46185 | L39: 25C | M39: M01150602020 | N39: 6/24-SCH | Q39: 8/3出貨 | R39: 滾字+電鍍
A40: 46207 | B40: =A40 -> 46207 | E40: 958 | F40: =F39+E40 -> 1554 | G40: =$D$39-F40 -> 11446 | H40: C4 | I40: 13000
A41: 46208 | B41: =A41 -> 46208 | E41: 927 | F41: =F40+E41 -> 2481 | G41: =$D$39-F41 -> 10519 | H41: C13 | I41: 6152
A42: 46209 | B42: =A42 -> 46209 | E42: 953 | F42: =F41+E42 -> 3434 | G42: =$D$39-F42 -> 9566
A43: 46210 | B43: =A43 -> 46210 | E43: 941 | F43: =F42+E43 -> 4375 | G43: =$D$39-F43 -> 8625
A44: 46211 | B44: =A44 -> 46211 | E44: 941 | F44: =F43+E44 -> 5316 | G44: =$D$39-F44 -> 7684
A45: 46212 | B45: =A45 -> 46212 | E45: 950 | F45: =F44+E45 -> 6266 | G45: =$D$39-F45 -> 6734
A46: 46213 | B46: =A46 -> 46213 | E46: 928 | F46: =F45+E46 -> 7194 | G46: =$D$39-F46 -> 5806
A47: 46214 | B47: =A47 -> 46214 | E47: 872 | F47: =F46+E47 -> 8066 | G47: =$D$39-F47 -> 4934
A48: 46215 | B48: =A48 -> 46215 | E48: 1010 | F48: =F47+E48 -> 9076 | G48: =$D$39-F48 -> 3924
A49: 46216 | B49: =A49 -> 46216 | E49: 950 | F49: =F48+E49 -> 10026 | G49: =$D$39-F49 -> 2974
A50: 46217 | B50: =A50 -> 46217 | E50: 953 | F50: =F49+E50 -> 10979 | G50: =$D$39-F50 -> 2021
A51: 46218 | B51: =A51 -> 46218 | E51: 950 | F51: =F50+E51 -> 11929 | G51: =$D$39-F51 -> 1071
A52: 46219 | B52: =A52 -> 46219 | E52: 945 | F52: =F51+E52 -> 12874 | G52: =$D$39-F52 -> 126
A53: 46220 | B53: =A53 -> 46220 | E53: 126 | F53: =F52+E53 -> 13000 | G53: =$D$39-F53 -> 0
C54: B0.A072.1-80 | D54: 1000 | E54: 813 | F54: =E54 -> 813 | G54: =$D$54-F54 -> 187 | H54: 46218 | I54: 1000 | J54: WWMJ4CA-24 | K54: 46185 | L54: 25C | M54: M01150609012 | Q54: 8/3出貨 | R54: 滾字+電鍍
A55: 46221 | B55: =A55 -> 46221 | E55: 187 | F55: =F54+E55 -> 1000 | G55: =$D$54-F55 -> 0
C56: B0.A072.1-80 | D56: =I58 -> 1743 | E56: 765 | F56: =E56 -> 765 | G56: =$D$56-F56 -> 978 | H56: 46244 | I56: 850 | J56: WWMJ4CA-24 | K56: 46216 | L56: 25C | M56: M01150708082 | Q56: 8/31出貨 | R56: 滾字+電鍍
A57: 46222 | B57: =A57 -> 46222 | E57: 953 | F57: =F56+E57 -> 1718 | G57: =$D$56-F57 -> 25 | H57: 46244 | I57: 1000 | J57: WWMJ4CA-24 | K57: 46227 | L57: 25C | M57: M01150714026 | Q57: 8/31出貨 | R57: 滾字+電鍍
A58: 46223 | B58: =A58 -> 46223 | E58: 25 | F58: =F57+E58 -> 1743 | G58: =$D$56-F58 -> 0 | H58: C4 | I58: 1743
H59: C13 | I59: 107
C60: 50.8510.13410-80 | D60: 4354 | E60: 857 | F60: =E60 -> 857 | G60: =$D$60-F60 -> 3497 | H60: 46218 | I60: 4354 | J60: WWMD4CA-14.0 | L60: C1-2.C1-3 | M60: M01150611105 | Q60: 7/30出貨 | R60: 熱處理
A61: 46224 | B61: =A61 -> 46224 | E61: 1407 | F61: =F60+E61 -> 2264 | G61: =$D$60-F61 -> 2090 | L61: D1-2
A62: 46225 | B62: =A62 -> 46225 | E62: 1427 | F62: =F61+E62 -> 3691 | G62: =$D$60-F62 -> 663
A63: 46226 | B63: =A63 -> 46226 | E63: 730 | F63: =F62+E63 -> 4421 | G63: =$D$60-F63 -> -67
C64: W61939-3-80 | D64: 50 | E64: 57 | F64: =E64 -> 57 | G64: =$D$64-F64 -> -7 | H64: 46230 | I64: 50 | J64: WWMJ4CA-21.0 | L64: 22C | M64: M01150626104 | Q64: 8/10出貨 | R64: 電鍍
A65: 46227 | B65: =A65 -> 46227 | C65: BY.0943.1-80 | D65: 1850 | E65: 1537 | F65: =E65 -> 1537 | G65: =$D$65-F65 -> 313 | H65: 46223 | I65: 1850 | J65: WWMJ4A-26.5*C21 | K65: 46197 | L65: 13C.13D | M65: M01150617027 | Q65: 8/3出貨 | R65: 電鍍
A66: 46228 | B66: =A66 -> 46228 | E66: 453 | F66: =E66+F65 -> 1990 | G66: =$D$65-F66 -> -140
C67: B0.1032.1-80 | D67: =I69 -> 2200 | E67: 734 | F67: =E67 -> 734 | G67: =$D$67-F67 -> 1466 | H67: 46241 | I67: 1900 | J67: WWMJ4A-24.3*C19.1 | L67: V1 | M67: M01150710190 | Q67: 8/10出貨 | R67: 電鍍+雷雕
A68: 46229 | B68: =A68 -> 46229 | E68: 1453 | F68: =F67+E68 -> 2187 | G68: =$D$67-F68 -> 13 | H68: 46237 | I68: 300 | J68: WWMJ4A-24.3*C19.1 | L68: V1 | M68: M01150722272 | Q68: 8/24出貨 | R68: 電鍍+雷雕+委外組立
A69: 46230 | B69: =A69 -> 46230 | E69: 65 | F69: =F68+E69 -> 2252 | G69: =$D$67-F69 -> -52 | I69: =SUM(I67:I68) -> 2200
C70: X00005-80 | D70: =I73 -> 3000 | E70: 1024 | F70: =E70 -> 1024 | G70: =$D$70-F70 -> 1976 | H70: 46226 | I70: 1000 | J70: WWMJ4A-24.3*C19.1 | M70: M01150707067 | Q70: 8/3出貨 | R70: 電鍍+雷雕
A71: 46231 | B71: =A71 -> 46231 | E71: 1532 | F71: =F70+E71 -> 2556 | G71: =$D$70-F71 -> 444 | H71: 46232 | I71: 1000 | J71: WWMJ4A-24.3*C19.1 | M71: M01150710196 | Q71: 8/17出貨 | R71: 電鍍+雷雕
A72: 46232 | B72: =A72 -> 46232 | E72: 476 | F72: =F71+E72 -> 3032 | G72: =$D$70-F72 -> -32 | H72: 46246 | I72: 1000 | J72: WWMJ4A-24.3*C19.1 | M72: M01150724071 | N72: 7/28-SCH | Q72: 9/1出貨 | R72: 電鍍+雷雕
I73: =SUM(I70:I72) -> 3000
C74: B0.10S2.1-80 | D74: 10000 | E74: 1102 | F74: =E74 -> 1102 | G74: =$D$74-F74 -> 8898 | H74: 46237 | I74: 10000 | J74: WWMJ4CA-18.0 | K74: 46233 | L74: 21B | M74: M01150629002 | Q74: 8/17出貨 | R74: 剖溝+電鍍
A75: 46233 | B75: =A75 -> 46233 | E75: 1808 | F75: =F74+E75 -> 2910 | G75: =$D$74-F75 -> 7090
A76: 46234 | B76: =A76 -> 46234 | E76: 1823 | F76: =F75+E76 -> 4733 | G76: =$D$74-F76 -> 5267
A77: 46235 | B77: =A77 -> 46235 | E77: 1736 | F77: =F76+E77 -> 6469 | G77: =$D$74-F77 -> 3531
A78: 46236 | B78: =A78 -> 46236 | E78: 1813 | F78: =F77+E78 -> 8282 | G78: =$D$74-F78 -> 1718
A79: 46237 | B79: =A79 -> 46237 | E79: 1743 | F79: =F78+E79 -> 10025 | G79: =$D$74-F79 -> -25
A80: 46238 | B80: =A80 -> 46238 | E80: 69 | F80: =F79+E80 -> 10094 | G80: =$D$74-F80 -> -94
C81: BY.0063.1-80 | D81: =I88 -> 83100 | E81: 2267 | F81: =E81 -> 2267 | G81: =$D$81-F81 -> 80833 | H81: 46237 | I81: 6000 | J81: WWMJ4A-24.3*C19.1 | M81: M01150701015 | N81: 生產完畢 | Q81: 8/17出貨 | R81: 電鍍
A82: 46239 | B82: =A82 -> 46239 | E82: 3267 | F82: =F81+E82 -> 5534 | G82: =$D$81-F82 -> 77566 | H82: 46251 | I82: 6000 | J82: WWMJ4A-24.3*C19.1 | L82: 46227 | M82: M01150708248 | N82: 8/7-SCH | Q82: 8/31出貨 | R82: 電鍍
A83: 46240 | B83: =A83 -> 46240 | E83: 3242 | F83: =F82+E83 -> 8776 | G83: =$D$81-F83 -> 74324 | H83: 46247 | I83: 22000 | J83: WWMJ4A-24.3*C19.1 | L83: 46227 | M83: M01150708085 | N83: 8/7-SCH | Q83: 8/31出貨 | R83: 電鍍
A84: 46241 | B84: =A84 -> 46241 | E84: 3244 | F84: =F83+E84 -> 12020 | G84: =$D$81-F84 -> 71080 | H84: 46240 | I84: 100 | J84: WWMJ4A-24.3*C19.1 | M84: M01150728126 | N84: 生產完畢 | Q84: 8/25出貨 | R84: 電鍍+雷雕(金台山)+鉚合
A85: 46242 | B85: =A85 -> 46242 | E85: 2979 | F85: =F84+E85 -> 14999 | G85: =$D$81-F85 -> 68101 | H85: 46265 | I85: 6000 | J85: WWMJ4A-24.3*C19.1 | L85: 46234 | M85: M01150716005 | N85: 8/7-SCH | Q85: 9/14出貨 | R85: 電鍍
A86: 46243 | B86: =A86 -> 46243 | E86: 3247 | F86: =F85+E86 -> 18246 | G86: =$D$81-F86 -> 64854 | H86: 46265 | I86: 8000 | J86: WWMJ4A-24.3*C19.1 | L86: 46236 | M86: M01150727250 | N86: 8/7-SCH | Q86: 9/14出貨 | R86: 電鍍
A87: 46244 | B87: =A87 -> 46244 | E87: 3239 | F87: =F86+E87 -> 21485 | G87: =$D$81-F87 -> 61615 | H87: 46268 | I87: 35000 | J87: WWMJ4A-24.3*C19.1 | L87: 46260 | M87: M01150728244 | N87: 8/7-SCH | Q87: 9/20出貨 | R87: 電鍍
A88: 46245 | B88: =A88 -> 46245 | E88: 3250 | F88: =F87+E88 -> 24735 | G88: =$D$81-F88 -> 58365 | I88: =SUM(I81:I87) -> 83100
A89: 46246 | B89: =A89 -> 46246 | E89: 3218 | F89: =F88+E89 -> 27953 | G89: =$D$81-F89 -> 55147
A90: 46247 | B90: =A90 -> 46247 | E90: 3139 | F90: =F89+E90 -> 31092 | G90: =$D$81-F90 -> 52008
A91: 46248 | B91: =A91 -> 46248 | E91: 3223 | F91: =F90+E91 -> 34315 | G91: =$D$81-F91 -> 48785
A92: 46249 | B92: =A92 -> 46249 | E92: 3250 | F92: =F91+E92 -> 37565 | G92: =$D$81-F92 -> 45535
A93: 46250 | B93: =A93 -> 46250 | E93: 3251 | F93: =F92+E93 -> 40816 | G93: =$D$81-F93 -> 42284
A94: 46251 | B94: =A94 -> 46251 | E94: 3240 | F94: =F93+E94 -> 44056 | G94: =$D$81-F94 -> 39044
A95: 46252 | B95: =A95 -> 46252 | E95: 3248 | F95: =F94+E95 -> 47304 | G95: =$D$81-F95 -> 35796
A96: 46253 | B96: =A96 -> 46253 | E96: 3213 | F96: =F95+E96 -> 50517 | G96: =$D$81-F96 -> 32583
A97: 46254 | B97: =A97 -> 46254 | E97: 3250 | F97: =F96+E97 -> 53767 | G97: =$D$81-F97 -> 29333
A98: 46255 | B98: =A98 -> 46255 | E98: 3232 | F98: =F97+E98 -> 56999 | G98: =$D$81-F98 -> 26101
A99: 46256 | B99: =A99 -> 46256 | E99: 3250 | F99: =F98+E99 -> 60249 | G99: =$D$81-F99 -> 22851
A100: 46257 | B100: =A100 -> 46257 | E100: 3247 | F100: =F99+E100 -> 63496 | G100: =$D$81-F100 -> 19604
...

Sheet C5
A1: 日期 | C1: 品名-壓花易不良(側鑽) | D1: 投產數 | E1: 當日產量 | F1: 累積產量 | G1: 未生產數 | H1: 預交日 | I1: 訂單數量 | J1: 銅條 | K1: 進料日 | L1: 架位 | M1: 工令單號 | N1: 實際入庫 | O1: 差異 | P1: 單重 | Q1: 備註(出貨日) | R1: 後製程
A2: 46167 | B2: =A2 -> 46167 | C2: GY.0583.1-80 | D2: 1400 | E2: 737 | F2: =E2 -> 737 | G2: =$D$2-F2 -> 663 | H2: 46176 | I2: 1400 | J2: WWMJ6CA-24.0 | K2: 46162 | L2: 17D | M2: M01150506169 | Q2: 6/22出貨 | R2: 滾字+電鍍
A3: 46168 | B3: =A3 -> 46168 | E3: 1074 | F3: =F2+E3 -> 1811 | G3: =$D$2-F3 -> -411
A4: 46169 | B4: =A4 -> 46169 | E4: 153 | F4: =F3+E4 -> 1964 | G4: =$D$2-F4 -> -564
C5: 50.1186.5-80 | D5: 39800 | E5: 1541 | F5: =E5 -> 1541 | G5: =$D$5-F5 -> 38259 | H5: 46181 | I5: 29800 | J5: WWMJ4A-28*C23 | K5: 46162 | L5: 12B | M5: M01150506143 | Q5: 6/22出貨 | R5: 電鍍
A6: 46170 | B6: =A6 -> 46170 | E6: 2518 | F6: =F5+E6 -> 4059 | G6: =$D$5-F6 -> 35741 | H6: 46181 | I6: 10000 | J6: WWMJ4A-28*C23 | K6: 46162 | L6: 12B | M6: M01150506146 | N6: 5/29-SCH | Q6: 6/22出貨 | R6: 電鍍
A7: 46171 | B7: =A7 -> 46171 | E7: 2513 | F7: =F6+E7 -> 6572 | G7: =$D$5-F7 -> 33228 | I7: =SUM(I5:I6) -> 39800
A8: 46172 | B8: =A8 -> 46172 | E8: 2525 | F8: =F7+E8 -> 9097 | G8: =$D$5-F8 -> 30703
A9: 46173 | B9: =A9 -> 46173 | E9: 2523 | F9: =F8+E9 -> 11620 | G9: =$D$5-F9 -> 28180
A10: 46174 | B10: =A10 -> 46174 | E10: 2523 | F10: =F9+E10 -> 14143 | G10: =$D$5-F10 -> 25657
A11: 46175 | B11: =A11 -> 46175 | E11: 2521 | F11: =F10+E11 -> 16664 | G11: =$D$5-F11 -> 23136
A12: 46176 | B12: =A12 -> 46176 | E12: 2516 | F12: =F11+E12 -> 19180 | G12: =$D$5-F12 -> 20620
A13: 46177 | B13: =A13 -> 46177 | E13: 2513 | F13: =F12+E13 -> 21693 | G13: =$D$5-F13 -> 18107
A14: 46178 | B14: =A14 -> 46178 | E14: 2523 | F14: =F13+E14 -> 24216 | G14: =$D$5-F14 -> 15584
A15: 46179 | B15: =A15 -> 46179 | E15: 2524 | F15: =F14+E15 -> 26740 | G15: =$D$5-F15 -> 13060
A16: 46180 | B16: =A16 -> 46180 | E16: 2524 | F16: =F15+E16 -> 29264 | G16: =$D$5-F16 -> 10536
A17: 46181 | B17: =A17 -> 46181 | E17: 2521 | F17: =F16+E17 -> 31785 | G17: =$D$5-F17 -> 8015
A18: 46182 | B18: =A18 -> 46182 | E18: 2516 | F18: =F17+E18 -> 34301 | G18: =$D$5-F18 -> 5499
A19: 46183 | B19: =A19 -> 46183 | E19: 2522 | F19: =F18+E19 -> 36823 | G19: =$D$5-F19 -> 2977
... A21: 46185 | B21: =A21 -> 46185 | E21: 461 | F21: =F20+E21 -> 39800 | G21: =$D$5-F21 -> 0
C22: 50.1186.5-80 | D22: =I24 -> 40000 | E22: 2063 | F22: =E22 -> 2063 | G22: =$D$22-F22 -> 37937 | H22: 46198 | I22: 30000 | J22: WWMJ4A-28*C23 | K22: 46175 | L22: 12C | M22: M01150525008 | N22: 6/3-SCH | Q22: 7/6出貨 | R22: 電鍍
A23: 46186 | B23: =A23 -> 46186 | E23: 2524 | F23: =F22+E23 -> 4587 | G23: =$D$22-F23 -> 35413 | H23: 46198 | I23: 10000 | J23: WWMJ4A-28*C23 | K23: 46175 | L23: 12C | M23: M01150525011 | N23: 6/3-SCH | Q23: 7/6出貨 | R23: 電鍍
A24: 46187 | B24: =A24 -> 46187 | E24: 2523 | F24: =F23+E24 -> 7110 | G24: =$D$22-F24 -> 32890 | I24: =SUM(I22:I23) -> 40000
A25: 46188 | B25: =A25 -> 46188 | E25: 2520 | F25: =F24+E25 -> 9630 | G25: =$D$22-F25 -> 30370
A26: 46189 | B26: =A26 -> 46189 | E26: 2516 | F26: =F25+E26 -> 12146 | G26: =$D$22-F26 -> 27854
A27: 46190 | B27: =A27 -> 46190 | E27: 2521 | F27: =F26+E27 -> 14667 | G27: =$D$22-F27 -> 25333
A28: 46191 | B28: =A28 -> 46191 | E28: 2518 | F28: =F27+E28 -> 17185 | G28: =$D$22-F28 -> 22815
A29: 46192 | B29: =A29 -> 46192 | E29: 2523 | F29: =F28+E29 -> 19708 | G29: =$D$22-F29 -> 20292
A30: 46193 | B30: =A30 -> 46193 | E30: 2525 | F30: =F29+E30 -> 22233 | G30: =$D$22-F30 -> 17767
A31: 46194 | B31: =A31 -> 46194 | E31: 2523 | F31: =F30+E31 -> 24756 | G31: =$D$22-F31 -> 15244
A32: 46195 | B32: =A32 -> 46195 | E32: 2517 | F32: =F31+E32 -> 27273 | G32: =$D$22-F32 -> 12727
A33: 46196 | B33: =A33 -> 46196 | E33: 2522 | F33: =F32+E33 -> 29795 | G33: =$D$22-F33 -> 10205
A34: 46197 | B34: =A34 -> 46197 | E34: 2522 | F34: =F33+E34 -> 32317 | G34: =$D$22-F34 -> 7683
A35: 46198 | B35: =A35 -> 46198 | E35: 2516 | F35: =F34+E35 -> 34833 | G35: =$D$22-F35 -> 5167
A36: 46199 | B36: =A36 -> 46199 | E36: 2496 | F36: =F35+E36 -> 37329 | G36: =$D$22-F36 -> 2671
... A38: 46201 | B38: =A38 -> 46201 | E38: 146 | F38: =F37+E38 -> 40000 | G38: =$D$22-F38 -> 0
C39: 50.1186.5-80 | D39: =I41 -> 41500 | E39: 1821 | F39: =E39 -> 1821 | G39: =$D$39-F39 -> 39679 | H39: 46223 | I39: 31500 | J39: WWMJ4A-28*C23 | K39: 46182 | L39: 12A.12B | M39: M01150603003 | N39: 6/30-SCH | Q39: 8/3出貨 | R39: 電鍍
A40: 46202 | B40: =A40 -> 46202 | E40: 2521 | F40: =F39+E40 -> 4342 | G40: =$D$39-F40 -> 37158 | H40: 46223 | I40: 10000 | J40: WWMJ4A-28*C23 | K40: 46182 | L40: 12A.12B | M40: M01150603006 | Q40: 8/3出貨 | R40: 電鍍
A41: 46203 | B41: =A41 -> 46203 | E41: 2508 | F41: =F40+E41 -> 6850 | G41: =$D$39-F41 -> 34650 | I41: =SUM(I39:I40) -> 41500
A42: 46204 | B42: =A42 -> 46204 | E42: 2525 | F42: =F41+E42 -> 9375 | G42: =$D$39-F42 -> 32125 | H42: NG | I42: 903
A43: 46205 | B43: =A43 -> 46205 | E43: 2520 | F43: =F42+E43 -> 11895 | G43: =$D$39-F43 -> 29605
A44: 46206 | B44: =A44 -> 46206 | E44: 2525 | F44: =F43+E44 -> 14420 | G44: =$D$39-F44 -> 27080
A45: 46207 | B45: =A45 -> 46207 | E45: 2519 | F45: =F44+E45 -> 16939 | G45: =$D$39-F45 -> 24561
A46: 46208 | B46: =A46 -> 46208 | E46: 2524 | F46: =F45+E46 -> 19463 | G46: =$D$39-F46 -> 22037
A47: 46209 | B47: =A47 -> 46209 | E47: 2521 | F47: =F46+E47 -> 21984 | G47: =$D$39-F47 -> 19516
A48: 46210 | B48: =A48 -> 46210 | E48: 2525 | F48: =F47+E48 -> 24509 | G48: =$D$39-F48 -> 16991
A49: 46211 | B49: =A49 -> 46211 | E49: 2494 | F49: =F48+E49 -> 27003 | G49: =$D$39-F49 -> 14497
A50: 46212 | B50: =A50 -> 46212 | E50: 2521 | F50: =F49+E50 -> 29524 | G50: =$D$39-F50 -> 11976
A51: 46213 | B51: =A51 -> 46213 | E51: 2525 | F51: =F50+E51 -> 32049 | G51: =$D$39-F51 -> 9451
A52: 46214 | B52: =A52 -> 46214 | E52: 2523 | F52: =F51+E52 -> 34572 | G52: =$D$39-F52 -> 6928
A53: 46215 | B53: =A53 -> 46215 | E53: 2525 | F53: =F52+E53 -> 37097 | G53: =$D$39-F53 -> 4403
A54: 46216 | B54: =A54 -> 46216 | E54: 2522 | F54: =F53+E54 -> 39619 | G54: =$D$39-F54 -> 1881
... A56: 46218 | B56: =A56 -> 46218 | E56: 378 | F56: =F55+E56 -> 42513 | G56: =$D$39-F56 -> -1013
C57: X00006C-80 | D57: =I61 -> 18150 | E57: 609 | F57: =E57 -> 609 | G57: =$D$57-F57 -> 17541 | H57: 46219 | I57: 8000 | J57: WWMUACA-24.5 | K57: 46204 | L57: 9C | M57: M01150626005 | Q57: 8/7出貨-4000 | R57: 電鍍+雷雕(金台山)
A58: 46219 | B58: =A58 -> 46219 | E58: 849 | F58: =F57+E58 -> 1458 | G58: =$D$57-F58 -> 16692 | Q58: 8/14出貨-4000
A59: 46220 | B59: =A59 -> 46220 | E59: 849 | F59: =F58+E59 -> 2307 | G59: =$D$57-F59 -> 15843 | H59: 46230 | I59: 10000 | J59: WWMUACA-24.5 | K59: 46219 | L59: 9C | M59: M01150703130 | N59: 7/16-SCH | Q59: 8/13出貨 | R59: 電鍍+雷雕(金台山)
A60: 46221 | B60: =A60 -> 46221 | E60: 838 | F60: =F59+E60 -> 3145 | G60: =$D$57-F60 -> 15005 | H60: NG | I60: 150
A61: 46222 | B61: =A61 -> 46222 | E61: 805 | F61: =F60+E61 -> 3950 | G61: =$D$57-F61 -> 14200 | I61: =SUM(I57:I60) -> 18150
A62: 46223 | B62: =A62 -> 46223 | E62: 848 | F62: =F61+E62 -> 4798 | G62: =$D$57-F62 -> 13352
A63: 46224 | B63: =A63 -> 46224 | E63: 792 | F63: =F62+E63 -> 5590 | G63: =$D$57-F63 -> 12560
A64: 46225 | B64: =A64 -> 46225 | E64: 851 | F64: =F63+E64 -> 6441 | G64: =$D$57-F64 -> 11709
A65: 46226 | B65: =A65 -> 46226 | E65: 845 | F65: =F64+E65 -> 7286 | G65: =$D$57-F65 -> 10864
A66: 46227 | B66: =A66 -> 46227 | E66: 848 | F66: =F65+E66 -> 8134 | G66: =$D$57-F66 -> 10016
A67: 46228 | B67: =A67 -> 46228 | C67: 清洗 | E67: 828 | F67: =F66+E67 -> 8962 | G67: =$D$57-F67 -> 9188
A68: 46229 | B68: =A68 -> 46229 | E68: 845 | F68: =F67+E68 -> 9807 | G68: =$D$57-F68 -> 8343
A69: 46230 | B69: =A69 -> 46230 | E69: 842 | F69: =F68+E69 -> 10649 | G69: =$D$57-F69 -> 7501
A70: 46231 | B70: =A70 -> 46231 | E70: 851 | F70: =F69+E70 -> 11500 | G70: =$D$57-F70 -> 6650
A71: 46232 | B71: =A71 -> 46232 | E71: 853 | F71: =F70+E71 -> 12353 | G71: =$D$57-F71 -> 5797
A72: 46233 | B72: =A72 -> 46233 | E72: 854 | F72: =F71+E72 -> 13207 | G72: =$D$57-F72 -> 4943
A73: 46234 | B73: =A73 -> 46234 | E73: 847 | F73: =F72+E73 -> 14054 | G73: =$D$57-F73 -> 4096
A74: 46235 | B74: =A74 -> 46235 | E74: 821 | F74: =F73+E74 -> 14875 | G74: =$D$57-F74 -> 3275
A75: 46236 | B75: =A75 -> 46236 | E75: 845 | F75: =F74+E75 -> 15720 | G75: =$D$57-F75 -> 2430
A76: 46237 | B76: =A76 -> 46237 | E76: 823 | F76: =F75+E76 -> 16543 | G76: =$D$57-F76 -> 1607
A77: 46238 | B77: =A77 -> 46238 | E77: 859 | F77: =F76+E77 -> 17402 | G77: =$D$57-F77 -> 748
A78: 46239 | B78: =A78 -> 46239 | E78: 748 | F78: =F77+E78 -> 18150 | G78: =$D$57-F78 -> 0
C79: X00006C-80 | D79: 9900 | E79: 86 | F79: =E79 -> 86 | G79: =$D$79-F79 -> 9814 | H79: 46251 | I79: 9900 | J79: WWMUACA-24.5 | K79: 46240 | L79: 9C | M79: M01150728179 | N79: 7/31-SCH | Q79: 8/27出貨 | R79: 電鍍+雷雕(金台山)
A80: 46240 | B80: =A80 -> 46240 | E80: 841 | F80: =F79+E80 -> 927 | G80: =$D$79-F80 -> 8973 | J80: 庫存689*12000pcs
A81: 46241 | B81: =A81 -> 46241 | E81: 858 | F81: =F80+E81 -> 1785 | G81: =$D$79-F81 -> 8115
A82: 46242 | B82: =A82 -> 46242 | E82: 857 | F82: =F81+E82 -> 2642 | G82: =$D$79-F82 -> 7258
A83: 46243 | B83: =A83 -> 46243 | E83: 841 | F83: =F82+E83 -> 3483 | G83: =$D$79-F83 -> 6417
A84: 46244 | B84: =A84 -> 46244 | E84: 850 | F84: =F83+E84 -> 4333 | G84: =$D$79-F84 -> 5567
A85: 46245 | B85: =A85 -> 46245 | E85: 833 | F85: =F84+E85 -> 5166 | G85: =$D$79-F85 -> 4734
A86: 46246 | B86: =A86 -> 46246 | E86: 853 | F86: =F85+E86 -> 6019 | G86: =$D$79-F86 -> 3881
A87: 46247 | B87: =A87 -> 46247 | E87: 849 | F87: =F86+E87 -> 6868 | G87: =$D$79-F87 -> 3032
A88: 46248 | B88: =A88 -> 46248 | E88: 844 | F88: =F87+E88 -> 7712 | G88: =$D$79-F88 -> 2188
A89: 46249 | B89: =A89 -> 46249 | E89: 835 | F89: =F88+E89 -> 8547 | G89: =$D$79-F89 -> 1353
A90: 46250 | B90: =A90 -> 46250 | E90: 849 | F90: =F89+E90 -> 9396 | G90: =$D$79-F90 -> 504
A91: 46251 | B91: =A91 -> 46251 | E91: 743 | F91: =F90+E91 -> 10139 | G91: =$D$79-F91 -> -239
C92: W61909-4-80 | D92: 200 | E92: 125 | F92: =E92 -> 125 | G92: =$D$92-F92 -> 75 | H92: 46261 | I92: 200 | J92: WWMJ4CA-16.0 | L92: 25B | M92: M01150722160 | Q92: 9/7出貨
A93: 46252 | B93: =A93 -> 46252 | E93: 112 | F93: =E93+F92 -> 237 | G93: =$D$92-F93 -> -37
C94: 50.8011.2271A-80 | D94: 110 | E94: 120 | F94: =E94 -> 120 | G94: =$D$94-F94 -> -10 | H94: 46255 | I94: 110 | J94: WWMD6CH-10.6 | L94: 15A | M94: M01150817169 | Q94: 特急需打樣8/25送樣 | R94: 熱處理
A95: 46253 | B95: =A95 -> 46253 | C95: 50.8011.2841A-80 | D95: 210 | E95: 286 | F95: =E95 -> 286 | G95: =$D$95-F95 -> -76 | H95: 46255 | I95: 210 | J95: WWHD6CH-20.9 | L95: 15D右 | M95: M01150817168 | Q95: 特急需打樣8/25送樣 | R95: 熱處理
A96: 46254 | B96: =A96 -> 46254 | C96: 50.8011.2661A-80 | D96: 30 | E96: 50 | F96: =E96 -> 50 | G96: 30 | H96: 46255 | I96: 30 | J96: WWMD6CH-14.5 | L96: E1-2 | M96: M01150819146 | Q96: 特急需打樣8/25送樣 | R96: 熱處理
C97: SP8003-80 | D97: 2000 | E97: 1234 | F97: =E97 -> 1234 | G97: =$D$97-F97 -> 766 | H97: 46261 | I97: 2000 | J97: WWMD4CA-15.5 | L97: 4C | M97: M01150722258 | Q97: 9/7出貨
A98: 46255 | B98: =A98 -> 46255 | E98: 854 | F98: =F97+E98 -> 2088 | G98: =$D$97-F98 -> -88
C99: SP8012-80 | D99: =I102 -> 13850 | E99: 735 | F99: =E99 -> 735 | G99: =$D$99-F99 -> 13115 | H99: 46295 | I99: 10000 | J99: WWMJ4CA-17.5 | L99: 23C | M99: M01150626079 | N99: 8/24-SCH | Q99: 8/31出貨-677
A100: 46256 | B100: =A100 -> 46256 | E100: 1466 | F100: =F99+E100 -> 2201 | G100: =$D$99-F100 -> 11649 | H100: 46265 | I100: 2850 | J100: WWMJ4CA-17.5 | M100: M01150807157 | N100: 8/24-SCH | Q100: 9/4出貨-180
A101: 46257 | B101: =A101 -> 46257 | E101: 1465 | F101: =F100+E101 -> 3666 | G101: =$D$99-F101 -> 10184 | H101: 46289 | I101: 1000 | J101: WWMJ4CA-17.5 | K101: 46273 | L101: 23C | M101: M01150821231 | N101: 8/24-SCH | Q101: 9/11出貨-72
A102: 46258 | B102: =A102 -> 46258 | E102: 1459 | F102: =F101+E102 -> 5125 | G102: =$D$99-F102 -> 8725 | I102: =SUM(I99:I101) -> 13850 | Q102: 9/18出貨-4266
A103: 46259 | B103: =A103 -> 46259 | E103: 1465 | F103: =F102+E103 -> 6590 | G103: =$D$99-F103 -> 7260 | Q103: 10/23出貨-3024
...

Sheet C6
A1: 日期 | C1: 品名-可對角定位,不要在C6壓花(力量不足) | D1: 投產數 | E1: 當日產量 | F1: 累積產量 | G1: 未生產數 | H1: 預交日 | I1: 訂單數量 | J1: 銅條 | K1: 進料日 | L1: 架位 | M1: 工令單號 | N1: 實際入庫 | O1: 差異 | P1: 單重 | Q1: 備註(出貨日) | R1: 後製程
A2: 46162 | B2: =A2 -> 46162 | C2: 50.1175-80 | D2: =I6 -> 54560 | E2: 15 | F2: =E2 -> 15 | G2: =$D$2-F2 -> 54545 | H2: 46167 | I2: 25000 | J2: WWMJ4A-26.5*C21 | K2: 46146 | L2: 13D | M2: M01150420374 | Q2: 6/8出貨 | R2: 電鍍
A3: 46163 | B3: =A3 -> 46163 | C3: 試電 | E3: 1601 | F3: =F2+E3 -> 1616 | G3: =$D$2-F3 -> 52944 | H3: 46174 | I3: 520 | J3: WWMJ4A-26.5*C21 | L3: 13D | M3: M01150507109 | Q3: 6/22出貨 | R3: 電鍍+鉚合+滿益金
A4: 46164 | B4: =A4 -> 46164 | E4: 2247 | F4: =F3+E4 -> 3863 | G4: =$D$2-F4 -> 50697 | H4: 46195 | I4: 28000 | J4: WWMJ4A-26.5*C21 | K4: 46171 | L4: 13D | M4: M01150515017 | N4: 5/29-SCH | Q4: 7/6出貨 | R4: 電鍍
A5: 46165 | B5: =A5 -> 46165 | E5: 2151 | F5: =F4+E5 -> 6014 | G5: =$D$2-F5 -> 48546 | H5: 46209 | I5: 1040 | J5: WWMJ4A-26.5*C21 | L5: 13D | M5: M01150603014 | N5: 6/11-SCH | Q5: 8/3出貨 | R5: 電鍍
A6: 46166 | B6: =A6 -> 46166 | E6: 2076 | F6: =F5+E6 -> 8090 | G6: =$D$2-F6 -> 46470 | I6: =SUM(I2:I5) -> 54560
A7: 46167 | B7: =A7 -> 46167 | E7: 2240 | F7: =F6+E7 -> 10330 | G7: =$D$2-F7 -> 44230
A8: 46168 | B8: =A8 -> 46168 | E8: 2261 | F8: =F7+E8 -> 12591 | G8: =$D$2-F8 -> 41969
A9: 46169 | B9: =A9 -> 46169 | E9: 2286 | F9: =F8+E9 -> 14877 | G9: =$D$2-F9 -> 39683
A10: 46170 | B10: =A10 -> 46170 | E10: 2243 | F10: =F9+E10 -> 17120 | G10: =$D$2-F10 -> 37440
A11: 46171 | B11: =A11 -> 46171 | E11: 2278 | F11: =F10+E11 -> 19398 | G11: =$D$2-F11 -> 35162
A12: 46172 | B12: =A12 -> 46172 | E12: 2240 | F12: =F11+E12 -> 21638 | G12: =$D$2-F12 -> 32922
A13: 46173 | B13: =A13 -> 46173 | E13: 2278 | F13: =F12+E13 -> 23916 | G13: =$D$2-F13 -> 30644
A14: 46174 | B14: =A14 -> 46174 | E14: 2260 | F14: =F13+E14 -> 26176 | G14: =$D$2-F14 -> 28384
A15: 46175 | B15: =A15 -> 46175 | E15: 2274 | F15: =F14+E15 -> 28450 | G15: =$D$2-F15 -> 26110
A16: 46176 | B16: =A16 -> 46176 | E16: 2017 | F16: =F15+E16 -> 30467 | G16: =$D$2-F16 -> 24093
A17: 46177 | B17: =A17 -> 46177 | E17: 2262 | F17: =F16+E17 -> 32729 | G17: =$D$2-F17 -> 21831
A18: 46178 | B18: =A18 -> 46178 | E18: 2278 | F18: =F17+E18 -> 35007 | G18: =$D$2-F18 -> 19553
... A28: 46188 | B28: =A28 -> 46188 | E28: 102 | F28: =F27+E28 -> 55539 | G28: =$D$2-F28 -> -979
C29: P59023.J4CP-80 | D29: 3000 | E29: 825 | F29: =E29 -> 825 | G29: =$D$29-F29 -> 2175 | H29: 46188 | I29: 3000 | J29: WWMJ4A-24.3*C19.1 | K29: 46157 | L29: 待確認 | M29: M01150514144 | P29: 98.1 | Q29: 6/23出貨-425 | R29: 滾字+電鍍
A30: 46189 | B30: =A30 -> 46189 | E30: 1336 | F30: =E30+F29 -> 2161 | G30: =$D$29-F30 -> 839
A31: 46190 | B31: =A31 -> 46190 | E31: 1370 | F31: =E31+F30 -> 3531 | G31: =$D$29-F31 -> -531
A32: 46191 | B32: =A32 -> 46191 | E32: 88 | F32: =E32+F31 -> 3619 | G32: =$D$29-F32 -> -619
C33: 18091-80 | D33: 137 | E33: 150 | F33: =E33 -> 150 | G33: =$D$33-F33 -> -13 | H33: 46218 | I33: 137 | J33: WWMJ4CA-28.5 | L33: 24B | M33: M01150611040 | Q33: 7/21出貨
C34: 50.1122.5-80 | D34: 500 | E34: 524 | F34: =E34 -> 524 | G34: =$D$34-F34 -> -24 | H34: 46195 | I34: 500 | J34: WWMJ4A-28.5*C23 | K34: 46188 | L34: 12A左 | M34: M01150605037 | Q34: 7/3出貨 | R34: 電鍍+雷雕(金台山)
C35: R00062-80 | D35: 12200 | E35: 364 | F35: =E35 -> 364 | G35: =$D$35-F35 -> 11836 | H35: 46198 | I35: 12200 | J35: WWHUACA-22.2 | K35: 46178 | L35: 7A | M35: M01150526031 | Q35: 7/3出貨
A36: 46192 | B36: =A36 -> 46192 | E36: 1529 | F36: =F35+E36 -> 1893 | G36: =$D$35-F36 -> 10307 | J36: WWHUACA-22.2 | K36: 46182 | L36: 7A
A37: 46193 | B37: =A37 -> 46193 | C37: 清洗 | E37: 1529 | F37: =F36+E37 -> 3422 | G37: =$D$35-F37 -> 8778
A38: 46194 | B38: =A38 -> 46194 | E38: 1529 | F38: =F37+E38 -> 4951 | G38: =$D$35-F38 -> 7249
A39: 46195 | B39: =A39 -> 46195 | E39: 1527 | F39: =F38+E39 -> 6478 | G39: =$D$35-F39 -> 5722
A40: 46196 | B40: =A40 -> 46196 | E40: 1525 | F40: =F39+E40 -> 8003 | G40: =$D$35-F40 -> 4197
A41: 46197 | B41: =A41 -> 46197 | E41: 1529 | F41: =F40+E41 -> 9532 | G41: =$D$35-F41 -> 2668
A42: 46198 | B42: =A42 -> 46198 | E42: 1524 | F42: =F41+E42 -> 11056 | G42: =$D$35-F42 -> 1144
A43: 46199 | B43: =A43 -> 46199 | E43: 1144 | F43: =F42+E43 -> 12200 | G43: =$D$35-F43 -> 0
C44: R00062-80 | D44: 14715 | E44: 382 | F44: =E44 -> 382 | G44: =$D$44-F44 -> 14333 | H44: 46202 | I44: 14715 | J44: WWHUACA-22.2 | K44: 46188 | L44: 7A | M44: M01150604010 | N44: 6/24-SCH | Q44: 7/6出貨
A45: 46200 | B45: =A45 -> 46200 | E45: 1530 | F45: =F44+E45 -> 1912 | G45: =$D$44-F45 -> 12803 | J45: WWHUACA-22.2 | K45: 46195
A46: 46201 | B46: =A46 -> 46201 | E46: 1244 | F46: =F45+E46 -> 3156 | G46: =$D$44-F46 -> 11559
A47: 46202 | B47: =A47 -> 46202 | E47: 1528 | F47: =F46+E47 -> 4684 | G47: =$D$44-F47 -> 10031
A48: 46203 | B48: =A48 -> 46203 | E48: 1521 | F48: =F47+E48 -> 6205 | G48: =$D$44-F48 -> 8510
A49: 46204 | B49: =A49 -> 46204 | E49: 1526 | F49: =F48+E49 -> 7731 | G49: =$D$44-F49 -> 6984
A50: 46205 | B50: =A50 -> 46205 | E50: 1528 | F50: =F49+E50 -> 9259 | G50: =$D$44-F50 -> 5456
A51: 46206 | B51: =A51 -> 46206 | E51: 1524 | F51: =F50+E51 -> 10783 | G51: =$D$44-F51 -> 3932
A52: 46207 | B52: =A52 -> 46207 | E52: 1530 | F52: =F51+E52 -> 12313 | G52: =$D$44-F52 -> 2402
A53: 46208 | B53: =A53 -> 46208 | E53: 1529 | F53: =F52+E53 -> 13842 | G53: =$D$44-F53 -> 873
A54: 46209 | B54: =A54 -> 46209 | E54: 1526 | F54: =F53+E54 -> 15368 | G54: =$D$44-F54 -> -653
A55: 46210 | B55: =A55 -> 46210 | E55: 74 | F55: =F54+E55 -> 15442 | G55: =$D$44-F55 -> -727
C56: R10210A-80 | D56: =I56+I57 -> 516 | E56: 200 | F56: =E56 -> 200 | G56: =$D$56-F56 -> 316 | H56: 46258 | I56: 487 | J56: WWMUICA-24.0 | K56: 46191 | L56: 11C | M56: M01150603216 | Q56: 9/1出貨
A57: 46211 | B57: =A57 -> 46211 | E57: 278 | F57: =F56+E57 -> 478 | G57: =$D$56-F57 -> 38 | H57: NG | I57: 29
A58: 46212 | B58: =A58 -> 46212 | E58: 60 | F58: =F57+E58 -> 538 | G58: =$D$56-F58 -> -22
C59: W61909-1-80 | D59: 100 | E59: 130 | F59: =E59 -> 130 | G59: =$D$59-F59 -> -30 | H59: 46209 | I59: 100 | J59: WW-W61909-1 | K59: 46211 | L59: 24A | M59: M01150601042 | Q59: 7/13出貨
C60: W61909-4-80 | D60: 100 | E60: 122 | F60: =E60 -> 122 | G60: =$D$60-F60 -> -22 | H60: 46209 | I60: 100 | J60: WWMJ4CA-16.0 | K60: 46209 | L60: 25A | M60: M01150601044 | Q60: 7/13出貨
C61: W61939-4-80 | D61: 500 | E61: 472 | F61: =E61 -> 472 | G61: =$D$61-F61 -> 28 | H61: 46233 | I61: 500 | J61: WWMJ4CA-16.0 | K61: 46204 | L61: 25A | M61: M01150626105 | Q61: 8/10出貨
A62: 46213 | B62: =A62 -> 46213 | E62: 113 | F62: =E62+F61 -> 585 | G62: =$D$61-F62 -> -85
C63: P59023.J4CP-80 | D63: 3500 | E63: 908 | F63: =E63 -> 908 | G63: =$D$63-F63 -> 2592 | H63: 46211 | I63: 3500 | J63: WWMJ4A-24.3*C19.1 | L63: V1 | M63: M01150618219 | Q63: 庫存單 | R63: 滾字+電鍍
A64: 46214 | B64: =A64 -> 46214 | E64: 1338 | F64: =F63+E64 -> 2246 | G64: =$D$63-F64 -> 1254
A65: 46215 | B65: =A65 -> 46215 | E65: 1338 | F65: =F64+E65 -> 3584 | G65: =$D$63-F65 -> -84
A66: 46216 | B66: =A66 -> 46216 | E66: 71 | F66: =F65+E66 -> 3655 | G66: =$D$63-F66 -> -155
C67: X00007-80 | D67: 300 | E67: 330 | F67: =E67 -> 330 | G67: =$D$67-F67 -> -30 | H67: 46211 | I67: 100 | J67: WWMJ4A-25.5*C19 | K67: 46190 | L67: F1-2 | M67: M01150616133 | Q67: 7/20出貨 | R67: 電鍍+雷雕(金台山)
H68: 46214 | I68: 200 | J68: WWMJ4A-25.5*C19 | L68: F1-2 | M68: M01150623063 | Q68: 7/24出貨 | R68: 電鍍+雷雕(金台山)
C69: R00119-80 | D69: 5350 | E69: 547 | F69: =E69 -> 547 | G69: =$D$69-F69 -> 4803 | H69: 46216 | I69: 5350 | J69: WWMJ4CA-27.0 | K69: 46196 | L69: 23D | M69: M01150611112 | Q69: 7/27出貨 | R69: 磁力研磨+電鍍
A70: 46217 | B70: =A70 -> 46217 | E70: 1359 | F70: =F69+E70 -> 1906 | G70: =$D$69-F70 -> 3444
A71: 46218 | B71: =A71 -> 46218 | E71: 1354 | F71: =F70+E71 -> 3260 | G71: =$D$69-F71 -> 2090
A72: 46219 | B72: =A72 -> 46219 | E72: 1363 | F72: =F71+E72 -> 4623 | G72: =$D$69-F72 -> 727
A73: 46220 | B73: =A73 -> 46220 | E73: 772 | F73: =F72+E73 -> 5395 | G73: =$D$69-F73 -> -45
C74: R00119A-80 | D74: 2820 | E74: 498 | F74: =E74 -> 498 | G74: =$D$74-F74 -> 2322 | H74: 46217 | I74: 2820 | J74: WWMJ4CA-27.0 | K74: 46197 | L74: 23D | M74: M01150618046 | Q74: 7/27出貨 | R74: 磁力研磨+電鍍
A75: 46221 | B75: =A75 -> 46221 | E75: 1187 | F75: =F74+E75 -> 1685 | G75: =$D$74-F75 -> 1135
A76: 46222 | B76: =A76 -> 46222 | E76: 1116 | F76: =F75+E76 -> 2801 | G76: =$D$74-F76 -> 19
A77: 46223 | B77: =A77 -> 46223 | E77: 11 | F77: =F76+E77 -> 2812 | G77: =$D$74-F77 -> 8
C78: B0.20J2.1-80 | D78: =I81 -> 74000 | E78: 1243 | F78: =E78 -> 1243 | G78: =$D$78-F78 -> 72757 | H78: 46237 | I78: 44000 | J78: WWMJ4A-22.25*C16.5 | K78: 46210 | L78: 12D.F1-2 | M78: M01150623129 | Q78: 8/17出貨 | R78: 電鍍
A79: 46224 | B79: =A79 -> 46224 | E79: 1812 | F79: =F78+E79 -> 3055 | G79: =$D$78-F79 -> 70945 | H79: 46268 | I79: 10000 | J79: WWMJ4A-22.25*C16.5 | K79: 46246 | L79: 12D | M79: M01150728247 | N79: 8/6-SCH | Q79: 9/20出貨 | R79: 電鍍
A80: 46225 | B80: =A80 -> 46225 | E80: 1819 | F80: =F79+E80 -> 4874 | G80: =$D$78-F80 -> 69126 | H80: 46275 | I80: 20000 | J80: WWMJ4A-22.25*C16.5 | K80: 46246 | L80: 12D | M80: M01150729121 | N80: 8/6-SCH | Q80: 9/24出貨 | R80: 電鍍
A81: 46226 | B81: =A81 -> 46226 | E81: 1808 | F81: =F80+E81 -> 6682 | G81: =$D$78-F81 -> 67318 | I81: =SUM(I78:I80) -> 74000
A82: 46227 | B82: =A82 -> 46227 | E82: 1826 | F82: =F81+E82 -> 8508 | G82: =$D$78-F82 -> 65492
A83: 46228 | B83: =A83 -> 46228 | E83: 1804 | F83: =F82+E83 -> 10312 | G83: =$D$78-F83 -> 63688
A84: 46229 | B84: =A84 -> 46229 | E84: 1824 | F84: =F83+E84 -> 12136 | G84: =$D$78-F84 -> 61864
A85: 46230 | B85: =A85 -> 46230 | E85: 1797 | F85: =F84+E85 -> 13933 | G85: =$D$78-F85 -> 60067
A86: 46231 | B86: =A86 -> 46231 | E86: 1748 | F86: =F85+E86 -> 15681 | G86: =$D$78-F86 -> 58319
A87: 46232 | B87: =A87 -> 46232 | E87: 1823 | F87: =F86+E87 -> 17504 | G87: =$D$78-F87 -> 56496
A88: 46233 | B88: =A88 -> 46233 | E88: 1820 | F88: =F87+E88 -> 19324 | G88: =$D$78-F88 -> 54676
A89: 46234 | B89: =A89 -> 46234 | E89: 1808 | F89: =F88+E89 -> 21132 | G89: =$D$78-F89 -> 52868
A90: 46235 | B90: =A90 -> 46235 | E90: 1802 | F90: =F89+E90 -> 22934 | G90: =$D$78-F90 -> 51066
A91: 46236 | B91: =A91 -> 46236 | E91: 1805 | F91: =F90+E91 -> 24739 | G91: =$D$78-F91 -> 49261
A92: 46237 | B92: =A92 -> 46237 | E92: 1802 | F92: =F91+E92 -> 26541 | G92: =$D$78-F92 -> 47459
A93: 46238 | B93: =A93 -> 46238 | E93: 1833 | F93: =F92+E93 -> 28374 | G93: =$D$78-F93 -> 45626
... A101: 46246 | B101: =A101 -> 46246 | E101: 1654 | F101: =F100+E101 -> 42776 | G101: =$D$78-F101 -> 31224
A102: 46247 | B102: =A102 -> 46247 | C102: 清洗-44000 | E102: 1816 | F102: =F101+E102 -> 44592 | G102: =$D$78-F102 -> 29408
A103: 46248 | B103: =A103 -> 46248 | E103: 1666 | F103: =F102+E103 -> 46258 | G103: =$D$78-F103 -> 27742
A104: 46249 | B104: =A104 -> 46249 | E104: 1763 | F104: =F103+E104 -> 48021 | G104: =$D$78-F104 -> 25979
A105: 46250 | B105: =A105 -> 46250 | E105: 1771 | F105: =F104+E105 -> 49792 | G105: =$D$78-F105 -> 24208
A106: 46251 | B106: =A106 -> 46251 | E106: 1772 | F106: =F105+E106 -> 51564 | G106: =$D$78-F106 -> 22436
A107: 46252 | B107: =A107 -> 46252 | E107: 1772 | F107: =F106+E107 -> 53336 | G107: =$D$78-F107 -> 20664
A108: 46253 | B108: =A108 -> 46253 | E108: 1752 | F108: =F107+E108 -> 55088 | G108: =$D$78-F108 -> 18912
A109: 46254 | B109: =A109 -> 46254 | E109: 1747 | F109: =F108+E109 -> 56835 | G109: =$D$78-F109 -> 17165
A110: 46255 | B110: =A110 -> 46255 | E110: 1765 | F110: =F109+E110 -> 58600 | G110: =$D$78-F110 -> 15400
A111: 46256 | B111: =A111 -> 46256 | E111: 1755 | F111: =F110+E111 -> 60355 | G111: =$D$78-F111 -> 13645
A112: 46257 | B112: =A112 -> 46257 | E112: 1760 | F112: =F111+E112 -> 62115 | G112: =$D$78-F112 -> 11885
A113: 46258 | B113: =A113 -> 46258 | E113: 1768 | F113: =F112+E113 -> 63883 | G113: =$D$78-F113 -> 10117
A114: 46259 | B114: =A114 -> 46259 | E114: 1768 | F114: =F113+E114 -> 65651 | G114: =$D$78-F114 -> 8349
... A119: 46264 | B119: =A119 -> 46264 | E119: 1344 | F119: =F118+E119 -> 74000 | G119: =$D$78-F119 -> 0
C120: B0.20J2.1-80 | D120: 10000 | E120: 420 | F120: =E120 -> 420 | G120: =$D$120-F120 -> 9580 | H120: 46286 | I120: 10000 | J120: WWMJ4A-22.25*C16.5 | K120: 46253 | L120: 12D | M120: M01150812045 | Q120: 庫存單-10/1完成 | R120: 電鍍
...

Sheet C8
A1: 日期 | C1: 品名 | D1: 投產數 | E1: 當日產量 | F1: 累積產量 | G1: 未生產數 | H1: 預交日 | I1: 訂單數量 | J1: 銅條 | K1: 進料日 | L1: 架位 | M1: 工令單號 | N1: 實際入庫 | O1: 差異 | P1: 單重 | Q1: 備註(出貨日) | R1: 後製程
A2: 46173 | B2: =A2 -> 46173 | C2: P97021.UANT-80 | D2: 780 | E2: 1076 | F2: =E2 -> 1076 | G2: =$D$2-F2 -> -296 | H2: 46190 | I2: 780 | J2: WWMUACA-14.5 | K2: 46169 | L2: 9B | M2: M01150520104 | Q2: 6/25出貨 | R2: 沖齒
A3: 46174 | B3: =A3 -> 46174 | E3: 127 | F3: =E3+F2 -> 1203 | G3: =$D$2-F3 -> -423
C4: 50.1173-80 | D4: =I4+I5+I6 -> 28320 | E4: 888 | F4: =E4 -> 888 | G4: =$D$4-F4 -> 27432 | H4: 46176 | I4: 26800 | J4: WWMJ4A-24.3*C19.1 | K4: 46157 | L4: V1 | M4: M01150507101 | Q4: 6/22出貨 | R4: 剖溝+電鍍
A5: 46175 | B5: =A5 -> 46175 | E5: 1386 | F5: =F4+E5 -> 2274 | G5: =$D$4-F5 -> 26046 | H5: 46170 | I5: 520 | J5: WWMJ4A-24.3*C19.1 | K5: 46157 | L5: V1 | M5: M01150507110 | Q5: 6/22出貨 | R5: 剖溝+電鍍
A6: 46176 | B6: =A6 -> 46176 | E6: 1384 | F6: =F5+E6 -> 3658 | G6: =$D$4-F6 -> 24662 | H6: 46209 | I6: 1000 | J6: WWMJ4A-24.3*C19.1 | M6: M01150603015 | N6: 6/11-SCH | Q6: 8/3出貨 | R6: 剖溝+電鍍
A7: 46177 | B7: =A7 -> 46177 | E7: 1384 | F7: =F6+E7 -> 5042 | G7: =$D$4-F7 -> 23278 | I7: =SUM(I4:I6) -> 28320
A8: 46178 | B8: =A8 -> 46178 | E8: 1384 | F8: =F7+E8 -> 6426 | G8: =$D$4-F8 -> 21894
A9: 46179 | B9: =A9 -> 46179 | E9: 1389 | F9: =F8+E9 -> 7815 | G9: =$D$4-F9 -> 20505
A10: 46180 | B10: =A10 -> 46180 | E10: 1388 | F10: =F9+E10 -> 9203 | G10: =$D$4-F10 -> 19117
A11: 46181 | B11: =A11 -> 46181 | E11: 1383 | F11: =F10+E11 -> 10586 | G11: =$D$4-F11 -> 17734
A12: 46182 | B12: =A12 -> 46182 | E12: 1387 | F12: =F11+E12 -> 11973 | G12: =$D$4-F12 -> 16347
A13: 46183 | B13: =A13 -> 46183 | E13: 1389 | F13: =F12+E13 -> 13362 | G13: =$D$4-F13 -> 14958
A14: 46184 | B14: =A14 -> 46184 | E14: 1384 | F14: =F13+E14 -> 14746 | G14: =$D$4-F14 -> 13574
A15: 46185 | B15: =A15 -> 46185 | E15: 1324 | F15: =F14+E15 -> 16070 | G15: =$D$4-F15 -> 12250
A16: 46186 | B16: =A16 -> 46186 | E16: 1210 | F16: =F15+E16 -> 17280 | G16: =$D$4-F16 -> 11040
A17: 46187 | B17: =A17 -> 46187 | E17: 1299 | F17: =F16+E17 -> 18579 | G17: =$D$4-F17 -> 9741
A18: 46188 | B18: =A18 -> 46188 | E18: 1308 | F18: =F17+E18 -> 19887 | G18: =$D$4-F18 -> 8433
A19: 46189 | B19: =A19 -> 46189 | E19: 1308 | F19: =F18+E19 -> 21195 | G19: =$D$4-F19 -> 7125
... A25: 46195 | B25: =A25 -> 46195 | E25: 625 | F25: =F24+E25 -> 28359 | G25: =$D$4-F25 -> -39
C26: B10060-3-80 | D26: 300 | E26: 250 | F26: =E26 -> 250 | G26: =$D$26-F26 -> 50 | H26: 46202 | I26: 300 | J26: WWMJ6CA-27.0 | K26: 46182 | M26: M01150520011 | Q26: 7/30出貨 | R26: 焊接
A27: 46196 | B27: =A27 -> 46196 | E27: 55 | F27: =E27+F26 -> 305 | G27: =$D$26-F27 -> -5
C28: BY.0243.1-80 | D28: 1100 | E28: 483 | F28: =E28 -> 483 | G28: =$D$28-F28 -> 617 | H28: 46216 | I28: 1100 | J28: WWMJ4CA-24 | M28: M01150612008 | Q28: 8/3出貨 | R28: 拋光+滾字+電鍍
A29: 46197 | B29: =A29 -> 46197 | E29: 651 | F29: =F28+E29 -> 1134 | G29: =$D$28-F29 -> -34
C30: R00087-80 | D30: 190 | E30: 21 | F30: =E30 -> 21 | G30: =$D$30-F30 -> 169 | H30: 46218 | I30: 190 | J30: WWMUACA-29 | L30: D1-4 | M30: M01150601190 | Q30: 7/22出貨
A31: 46198 | B31: =A31 -> 46198 | E31: 179 | F31: =E31+F30 -> 200 | G31: =$D$30-F31 -> -10
C32: F00275-80 | D32: 2300 | E32: 2232 | F32: =E32 -> 2232 | G32: =$D$32-F32 -> 68 | H32: 46367 | I32: 2300 | J32: WWMUACA-29 | L32: D1-4 | M32: M01150302039 | Q32: 12/21出貨(補報廢)
A33: 46199 | B33: =A33 -> 46199 | E33: 157 | F33: =F32+E33 -> 2389 | G33: =$D$32-F33 -> -89
C34: P09124.UANT-80 | D34: =I39 -> 17280 | E34: 552 | F34: =E34 -> 552 | G34: =$D$34-F34 -> 16728 | H34: 46198 | I34: 3100 | J34: WWMUACA-29 | L34: D1-4 | M34: M01150526020 | Q34: 7/3出貨
A35: 46200 | B35: =A35 -> 46200 | E35: 1055 | F35: =F34+E35 -> 1607 | G35: =$D$34-F35 -> 15673 | H35: 46202 | I35: 980 | J35: WWMUACA-29 | L35: D1-4 | M35: M01150604004 | Q35: 7/6出貨
A36: 46201 | B36: =A36 -> 46201 | E36: 858 | F36: =F35+E36 -> 2465 | G36: =$D$34-F36 -> 14815 | H36: 46209 | I36: 9000 | J36: WWMUACA-29 | K36: 46191 | L36: 7B | M36: M01150609036 | N36: 6/30-SCH | Q36: 7/14出貨
A37: 46202 | B37: =A37 -> 46202 | E37: 890 | F37: =F36+E37 -> 3355 | G37: =$D$34-F37 -> 13925 | H37: 46216 | I37: 3000 | J37: WWMUACA-29 | K37: 46204 | L37: D1-4 | M37: M01150616174 | N37: 6/30-SCH | Q37: 7/20出貨
A38: 46203 | B38: =A38 -> 46203 | E38: 895 | F38: =F37+E38 -> 4250 | G38: =$D$34-F38 -> 13030 | H38: 46230 | I38: 1200 | J38: WWMUACA-29 | K38: 46204 | L38: D1-4 | M38: M01150618177 | N38: 6/30-SCH | Q38: 8/3出貨
A39: 46204 | B39: =A39 -> 46204 | E39: 908 | F39: =F38+E39 -> 5158 | G39: =$D$34-F39 -> 12122 | I39: =SUM(I34:I38) -> 17280
A40: 46205 | B40: =A40 -> 46205 | E40: 909 | F40: =F39+E40 -> 6067 | G40: =$D$34-F40 -> 11213
A41: 46206 | B41: =A41 -> 46206 | E41: 890 | F41: =F40+E41 -> 6957 | G41: =$D$34-F41 -> 10323
A42: 46207 | B42: =A42 -> 46207 | E42: 921 | F42: =F41+E42 -> 7878 | G42: =$D$34-F42 -> 9402
A43: 46208 | B43: =A43 -> 46208 | E43: 923 | F43: =F42+E43 -> 8801 | G43: =$D$34-F43 -> 8479
A44: 46209 | B44: =A44 -> 46209 | E44: 900 | F44: =F43+E44 -> 9701 | G44: =$D$34-F44 -> 7579
A45: 46210 | B45: =A45 -> 46210 | E45: 913 | F45: =F44+E45 -> 10614 | G45: =$D$34-F45 -> 6666
A46: 46211 | B46: =A46 -> 46211 | E46: 878 | F46: =F45+E46 -> 11492 | G46: =$D$34-F46 -> 5788
A47: 46212 | B47: =A47 -> 46212 | E47: 922 | F47: =F46+E47 -> 12414 | G47: =$D$34-F47 -> 4866
A48: 46213 | B48: =A48 -> 46213 | E48: 899 | F48: =F47+E48 -> 13313 | G48: =$D$34-F48 -> 3967
A49: 46214 | B49: =A49 -> 46214 | E49: 907 | F49: =F48+E49 -> 14220 | G49: =$D$34-F49 -> 3060
A50: 46215 | B50: =A50 -> 46215 | E50: 919 | F50: =F49+E50 -> 15139 | G50: =$D$34-F50 -> 2141
A51: 46216 | B51: =A51 -> 46216 | E51: 916 | F51: =F50+E51 -> 16055 | G51: =$D$34-F51 -> 1225
... A53: 46218 | B53: =A53 -> 46218 | E53: 894 | F53: =F52+E53 -> 17826 | G53: =$D$34-F53 -> -546
A54: 46219 | B54: =A54 -> 46219 | C54: FBA-013A-80 | D54: 8328 | E54: 543 | F54: =E54 -> 543 | G54: =$D$54-F54 -> 7785 | H54: 46213 | I54: 8328 | J54: WWMJ4CA-24 | K54: 46202 | L54: 25C | M54: M01150623050 | Q54: 8/10出貨 | R54: 清金+電鍍+滿易金
A55: 46220 | B55: =A55 -> 46220 | E55: 757 | F55: =F54+E55 -> 1300 | G55: =$D$54-F55 -> 7028 | H55: 46230 | I55: 500 | J55: WWMJ4CA-24 | K55: 46226 | M55: M01150709006 | N55: 7/16-SCH | Q55: 8/10出貨 | R55: 清金+電鍍+滿易金
A56: 46221 | B56: =A56 -> 46221 | E56: 757 | F56: =F55+E56 -> 2057 | G56: =$D$54-F56 -> 6271 | I56: =SUM(I54:I55) -> 8828
A57: 46222 | B57: =A57 -> 46222 | E57: 757 | F57: =F56+E57 -> 2814 | G57: =$D$54-F57 -> 5514 | I57: =I56-8532 -> 296
A58: 46223 | B58: =A58 -> 46223 | E58: 755 | F58: =F57+E58 -> 3569 | G58: =$D$54-F58 -> 4759
A59: 46224 | B59: =A59 -> 46224 | E59: 755 | F59: =F58+E59 -> 4324 | G59: =$D$54-F59 -> 4004
A60: 46225 | B60: =A60 -> 46225 | E60: 757 | F60: =F59+E60 -> 5081 | G60: =$D$54-F60 -> 3247
A61: 46226 | B61: =A61 -> 46226 | E61: 757 | F61: =F60+E61 -> 5838 | G61: =$D$54-F61 -> 2490
A62: 46227 | B62: =A62 -> 46227 | E62: 727 | F62: =F61+E62 -> 6565 | G62: =$D$54-F62 -> 1763
A63: 46228 | B63: =A63 -> 46228 | E63: 749 | F63: =F62+E63 -> 7314 | G63: =$D$54-F63 -> 1014
A64: 46229 | B64: =A64 -> 46229 | E64: 750 | F64: =F63+E64 -> 8064 | G64: =$D$54-F64 -> 264
A65: 46230 | B65: =A65 -> 46230 | E65: 468 | F65: =F64+E65 -> 8532 | G65: =$D$54-F65 -> -204
C66: GY.3443.1-80 | D66: 850 | E66: 260 | F66: =E66 -> 260 | G66: =$D$66-F66 -> 590 | H66: 46218 | I66: 850 | J66: WWMJ6CA-24.0 | K66: 46218 | L66: 17D | M66: M01150617034 | Q66: 8/3出貨 | R66: 磁力研磨+電鍍
A67: 46231 | B67: =A67 -> 46231 | E67: 689 | F67: =F66+E67 -> 949 | G67: =$D$66-F67 -> -99
C68: GY.3233.1-80 | D68: 450 | E68: 52 | F68: =E68 -> 52 | G68: =$D$68-F68 -> 398 | H68: 46239 | I68: 450 | J68: WWMJ6CA-24.0 | L68: 17D | M68: M01150701018 | Q68: 8/17出貨 | R68: 電鍍
A69: 46232 | B69: =A69 -> 46232 | E69: 428 | F69: =F68+E69 -> 480 | G69: =$D$68-F69 -> -30
A70: 46233 | B70: =A70 -> 46233 | C70: FBA-013A-80 | D70: 400 | E70: 502 | F70: =E70 -> 502 | G70: =$D$70-F70 -> -102 | H70: 46213 | I70: 400 | J70: WWMJ4CA-24 | K70: 46202 | L70: 25C | M70: M01150709006 | Q70: 8/10出貨 | R70: 清金+電鍍+滿易金
A71: 46234 | B71: =A71 -> 46234 | E71: 76 | F71: =E71+F70 -> 578 | G71: =$D$70-F71 -> -178
C72: P09068.J6C6-80 | D72: 1000 | E72: 955 | F72: =E72 -> 955 | G72: =$D$72-F72 -> 45 | H72: 46251 | I72: 1000 | J72: WWMJ6CA-24.0 | K72: 46225 | L72: 17D | M72: M01150708235 | Q72: 8/31出貨 | R72: 電鍍
A73: 46235 | B73: =A73 -> 46235 | E73: 97 | F73: =F72+E73 -> 1052 | G73: =$D$72-F73 -> -52
C74: P09124.UANT-80 | D74: =I76 -> 1508 | E74: 403 | F74: =E74 -> 403 | G74: =$D$74-F74 -> 1105 | H74: 46230 | I74: 308 | J74: WWMUACA-29 | K74: 46219 | L74: 7B | M74: M01150713030 | Q74: 8/5出貨
A75: 46236 | B75: =A75 -> 46236 | E75: 829 | F75: =F74+E75 -> 1232 | G75: =$D$74-F75 -> 276 | H75: 46244 | I75: 1200 | J75: WWMUACA-29 | K75: 46232 | L75: 7B | M75: M01150720016 | Q75: 8/17出貨
A76: 46237 | B76: =A76 -> 46237 | E76: 721 | F76: =F75+E76 -> 1953 | G76: =$D$74-F76 -> -445 | I76: =SUM(I74:I75) -> 1508
A77: 46238 | B77: =A77 -> 46238 | C77: 18091-80 | D77: 195 | E77: 228 | F77: =E77 -> 228 | G77: =$D$77-F77 -> -33 | H77: 46248 | I77: 195 | J77: WWMJ4CA-28.5 | L77: 24B | M77: M01150715002 | Q77: 8/19出貨
C78: 50.1186.5-80 | D78: =I80 -> 39500 | E78: 1052 | F78: =E78 -> 1052 | G78: =$D$78-F78 -> 38448 | H78: 46247 | I78: 30000 | J78: WWMJ4A-28*C23 | K78: 46225 | L78: 12C | M78: M01150708089 | Q78: 8/30出貨 | R78: 電鍍
A79: 46239 | B79: =A79 -> 46239 | E79: 2300 | F79: =F78+E79 -> 3352 | G79: =$D$78-F79 -> 36148 | H79: 46247 | I79: 9500 | J79: WWMJ4A-28*C23 | K79: 46225 | L79: 12C | M79: M01150708092 | N79: 8/6-SCH | Q79: 8/30出貨 | R79: 電鍍
A80: 46240 | B80: =A80 -> 46240 | E80: 2402 | F80: =F79+E80 -> 5754 | G80: =$D$78-F80 -> 33746 | I80: =SUM(I78:I79) -> 39500
A81: 46241 | B81: =A81 -> 46241 | E81: 2585 | F81: =F80+E81 -> 8339 | G81: =$D$78-F81 -> 31161
A82: 46242 | B82: =A82 -> 46242 | E82: 2586 | F82: =F81+E82 -> 10925 | G82: =$D$78-F82 -> 28575
A83: 46243 | B83: =A83 -> 46243 | E83: 2486 | F83: =F82+E83 -> 13411 | G83: =$D$78-F83 -> 26089
A84: 46244 | B84: =A84 -> 46244 | E84: 2466 | F84: =F83+E84 -> 15877 | G84: =$D$78-F84 -> 23623
A85: 46245 | B85: =A85 -> 46245 | E85: 2558 | F85: =F84+E85 -> 18435 | G85: =$D$78-F85 -> 21065
A86: 46246 | B86: =A86 -> 46246 | E86: 2578 | F86: =F85+E86 -> 21013 | G86: =$D$78-F86 -> 18487
A87: 46247 | B87: =A87 -> 46247 | E87: 2479 | F87: =F86+E87 -> 23492 | G87: =$D$78-F87 -> 16008
A88: 46248 | B88: =A88 -> 46248 | E88: 2578 | F88: =F87+E88 -> 26070 | G88: =$D$78-F88 -> 13430
A89: 46249 | B89: =A89 -> 46249 | E89: 2189 | F89: =F88+E89 -> 28259 | G89: =$D$78-F89 -> 11241
A90: 46250 | B90: =A90 -> 46250 | E90: 2524 | F90: =F89+E90 -> 30783 | G90: =$D$78-F90 -> 8717
A91: 46251 | B91: =A91 -> 46251 | E91: 2398 | F91: =F90+E91 -> 33181 | G91: =$D$78-F91 -> 6319
A92: 46252 | B92: =A92 -> 46252 | E92: 2512 | F92: =F91+E92 -> 35693 | G92: =$D$78-F92 -> 3807
... A94: 46254 | B94: =A94 -> 46254 | E94: 1707 | F94: =F93+E94 -> 39910 | G94: =$D$78-F94 -> -410
C95: 50.1122.5-80 | D95: 870 | E95: 377 | F95: =E95 -> 377 | G95: =$D$95-F95 -> 493 | H95: 46251 | I95: 870 | J95: WWMJ4A-28.5*C23 | K95: 46248 | L95: 12A左 | M95: M01150807078 | Q95: 9/7出貨 | R95: 電鍍+雷雕(金台山)+委外組立
A96: 46255 | B96: =A96 -> 46255 | E96: 658 | F96: =F95+E96 -> 1035 | G96: =$D$95-F96 -> -165
C97: X00005-80 | D97: 1600 | E97: 678 | F97: =E97 -> 678 | G97: =$D$97-F97 -> 922 | H97: 46265 | I97: 100 | J97: WWMJ4A-24.3*C19.1 | L97: V5 | M97: M01150807212 | Q97: 9/15出貨 | R97: 電鍍+雷雕(金台山)
A98: 46256 | B98: =A98 -> 46256 | E98: 1312 | F98: =E98+F97 -> 1990 | G98: =$D$97-F98 -> -390 | H98: 46265 | I98: 500 | J98: WWMJ4A-24.3*C19.1 | L98: V5 | M98: M01150810063 | Q98: 9/15出貨 | R98: 電鍍+雷雕(金台山)
A99: 46257 | B99: =A99 -> 46257 | E99: 215 | F99: =E99+F98 -> 2205 | G99: =$D$97-F99 -> -605 | H99: 46265 | I99: 1000 | J99: WWMJ4A-24.3*C19.1 | L99: V5 | M99: M01150811085 | P99: 44.8 | Q99: 9/11出貨 | R99: 電鍍+雷雕(金台山)
A100: 46258 | B100: =A100 -> 46258 | C100: B0.1032.1-80 | D100: 1185 | E100: 1124 | F100: =E100 -> 1124 | G100: =$D$100-F100 -> 61 | H100: 46265 | I100: 900 | J100: WWMJ4A-24.3*C19.1 | L100: V1 | M100: M01150731043 | Q100: 9/14出貨 | R100: 電鍍
A101: 46259 | B101: =A101 -> 46259 | E101: 179 | F101: =F100+E101 -> 1303 | G101: =$D$100-F101 -> -118 | H101: 46254 | I101: 285 | J101: WWMJ4A-24.3*C19.1 | L101: V1 | M101: M01150807069 | N101: 8/24-SCH | Q101: 9/14出貨 | R101: 滾字+電鍍
C102: B0.V022.1-80 | D102: 800 | E102: 822 | F102: =E102 -> 822 | G102: =$D$102-F102 -> -22 | H102: 46259 | I102: 800 | J102: WWMJ4A-24.05*C19 | L102: V7 | M102: M01150807263 | Q102: 8/31出貨
A103: 46260 | B103: =A103 -> 46260 | C103: F00100-80 | D103: 2712 | E103: 470 | F103: =E103 -> 470 | G103: =$D$103-F103 -> 2242 | H103: 46265 | I103: 2712 | J103: WWHUACA-25.4 | K103: 46255 | L103: 10B | M103: M01150810075 | Q103: 9/11出貨 | R103: 磁力研磨
A104: 46261 | B104: =A104 -> 46261 | E104: 688 | F104: =F103+E104 -> 1158 | G104: =$D$103-F104 -> 1554
A105: 46262 | B105: =A105 -> 46262 | E105: 690 | F105: =F104+E105 -> 1848 | G105: =$D$103-F105 -> 864
A106: 46263 | B106: =A106 -> 46263 | E106: 692 | F106: =F105+E106 -> 2540 | G106: =$D$103-F106 -> 172
A107: 46264 | B107: =A107 -> 46264 | E107: 258 | F107: =F106+E107 -> 2798 | G107: =$D$103-F107 -> -86
...

Sheet C12
A1: 日期 | C1: 品名-可對角定位 | D1: 投產數 | E1: 當日產量 | F1: 累積產量 | G1: 未生產數 | H1: 預交日 | I1: 訂單數量 | J1: 銅條 | K1: 進料日 | L1: 架位 | M1: 工令單號 | N1: 實際入庫 | O1: 差異 | P1: 單重 | Q1: 備註(出貨日) | R1: 後製程
A2: 46181 | B2: =A2 -> 46181 | C2: GY.1293.1-80 | D2: 450 | E2: 470 | F2: =E2 -> 470 | G2: =$D$2-F2 -> -20 | H2: 46181 | I2: 450 | J2: WWMJ6CA-24.0 | K2: 46162 | L2: 17D | M2: M01150506129 | Q2: 6/22出貨 | R2: 電鍍
A3: 46182 | B3: =A3 -> 46182 | E3: 55 | F3: =F2+E3 -> 525 | G3: =$D$2-F3 -> -75
C4: P09068.J6C6-80 | D4: 500 | E4: 525 | F4: =E4 -> 525 | G4: =$D$4-F4 -> -25 | H4: 46181 | I4: 500 | J4: WWMJ6CA-24.0 | K4: 46162 | L4: 17D | M4: M01150430031 | Q4: 6/22出貨 | R4: 電鍍
C5: GY.3233.1-80 | D5: 500 | E5: 132 | F5: =E5 -> 132 | G5: =$D$5-F5 -> 368 | H5: 46181 | I5: 500 | J5: WWMJ6CA-24.0 | K5: 46162 | L5: 17D | M5: M01150507288 | Q5: 6/22出貨 | R5: 電鍍
A6: 46183 | B6: =A6 -> 46183 | E6: 368 | F6: =F5+E6 -> 500 | G6: =$D$5-F6 -> 0
C7: R00080-JC-80 | D7: 280 | E7: 96 | F7: =E7 -> 96 | G7: =$D$7-F7 -> 184 | H7: 46191 | I7: 280 | J7: WWMJ4CA-16.0 | K7: 46182 | L7: 25B | M7: M01150522216 | Q7: 7/3出貨 | R7: 沖齒+雷雕
A8: 46184 | B8: =A8 -> 46184 | E8: 229 | F8: =E8+F7 -> 325 | G8: =$D$7-F8 -> -45
C9: NFS20260421-5-2-80 | D9: 35 | E9: 48 | F9: =E9 -> 48 | G9: =$D$9-F9 -> -13 | H9: 202/06/611 | I9: 35 | J9: WWMD4CA-14.50 | L9: 5C | M9: M01150609001 | R9: 熱處理(槽位刀痕)
C10: NFCN25241-009-80 | D10: 105 | E10: 110 | F10: =E10 -> 110 | G10: =$D$10-F10 -> -5 | H10: 46183 | I10: 105 | J10: WWMD6CH-18.5 | L10: 16C左 | M10: M01150605028 | R10: 熱處理(硬度不足重新打樣*2)
A11: 46185 | B11: =A11 -> 46185 | E11: 120 | F11: =E11+F10 -> 230 | G11: =$D$10-F11 -> -125
C12: 50.8011.2741A-80 | D12: =I14 -> 4233 | E12: 706 | F12: =E12 -> 706 | G12: =$D$12-F12 -> 3527 | H12: 46188 | I12: 4000 | J12: WWMD6CH-18 | K12: 46181 | L12: M1-1 | M12: M01150522053 | Q12: 6/18出貨 | R12: 熱處理
A13: 46186 | B13: =A13 -> 46186 | E13: 894 | F13: =E13+F12 -> 1600 | G13: =$D$12-F13 -> 2633 | H13: NG | I13: 233
A14: 46187 | B14: =A14 -> 46187 | E14: 1086 | F14: =E14+F13 -> 2686 | G14: =$D$12-F14 -> 1547 | I14: =SUM(I12:I13) -> 4233
A15: 46188 | B15: =A15 -> 46188 | E15: 1077 | F15: =E15+F14 -> 3763 | G15: =$D$12-F15 -> 470
A16: 46189 | B16: =A16 -> 46189 | E16: 563 | F16: =E16+F15 -> 4326 | G16: =$D$12-F16 -> -93
C17: W61604-16-80 | D17: 1000 | E17: 1169 | F17: =E17 -> 1169 | G17: =$D$17-F17 -> -169 | H17: 46223 | I17: 1000 | J17: WWMUAA-4.0 | L17: 9A | M17: M01150615055 | Q17: 7/27出貨
A18: 46190 | B18: =A18 -> 46190 | E18: 142 | F18: =E18+F17 -> 1311 | G18: =$D$17-F18 -> -311
C19: W61109-5-80 | D19: 200 | E19: 204 | F19: =E19 -> 204 | G19: =$D$19-F19 -> -4 | H19: 46188 | I19: 200 | J19: ZM-PE-20 | K19: 加一購買 | L19: K1-1 | M19: M01150519066 | Q19: 6/22出貨
C20: W61109-6-80 | D20: 200 | E20: 205 | F20: =E20 -> 205 | G20: =$D$20-F20 -> -5 | H20: 46188 | I20: 200 | J20: ZM-PE-20 | K20: 加一購買 | L20: K1-1 | M20: M01150519067 | Q20: 6/22出貨
C21: YCN403 | D21: 100 | E21: 130 | F21: =E21 -> 130 | G21: =$D$21-F21 -> -30 | H21: 46223 | I21: 100 | J21: ZM-PE-25 | L21: AA2 | M21: M01150615065 | Q21: 7/27出貨
C22: W61109-1-80 | D22: 100 | E22: 110 | F22: =E22 -> 110 | G22: =$D$22-F22 -> -10 | H22: 206/06/15 | I22: 100 | J22: WWMJ4CA-14.5 | K22: 46168 | L22: 20B | M22: M01150519061 | Q22: 6/22出貨
A23: 46191 | B23: =A23 -> 46191 | C23: W61109-3-80 | D23: 200 | E23: 215 | F23: =E23 -> 215 | G23: =$D$23-F23 -> -15 | H23: 46188 | I23: 200 | J23: WWHJ4CA-8 | K23: 46167 | L23: 20A | M23: M01150519064 | Q23: 6/22出貨
C24: R00284-80 | D24: 1962 | E24: 1277 | F24: =E24 -> 1277 | G24: =$D$24-F24 -> 685 | H24: 46202 | I24: 1962 | J24: WWMJ4CA-21.5 | K24: 46177 | L24: 21D | M24: M01150529013 | Q24: 7/6出貨
A25: 46192 | B25: =A25 -> 46192 | E25: 723 | F25: =F24+E25 -> 2000 | G25: =$D$24-F25 -> -38
C26: C61305-3-80 | D26: 10000 | E26: 2213 | F26: =E26 -> 2213 | G26: =$D$26-F26 -> 7787 | H26: 46191 | I26: 10000 | J26: WWMJ6CA-17.0 | K26: 46174 | L26: 17C | M26: M01150514136 | Q26: 6/29出貨-11
A27: 46193 | B27: =A27 -> 46193 | E27: 4401 | F27: =F26+E27 -> 6614 | G27: =$D$26-F27 -> 3386
A28: 46194 | B28: =A28 -> 46194 | E28: 4404 | F28: =F27+E28 -> 11018 | G28: =$D$26-F28 -> -1018
A29: 46195 | B29: =A29 -> 46195 | E29: 497 | F29: =F28+E29 -> 11515 | G29: =$D$26-F29 -> -1515
C30: X00001A-80 | D30: 280 | E30: 377 | F30: =E30 -> 377 | G30: =$D$30-F30 -> -97 | H30: 46195 | I30: 280 | J30: WWMUACA-24.5 | K30: 46174 | L30: 9C | M30: M01150522011 | Q30: 7/10出貨 | R30: 拋光+電鍍
C31: B0.10S2.1-80 | D31: 9503 | E31: 966 | F31: =E31 -> 966 | G31: =$D$31-F31 -> 8537 | H31: 46209 | I31: 8700 | J31: WWMJ4CA-18.0 | K31: 46182 | L31: 21B | M31: M01150529111 | Q31: 7/20出貨 | R31: 剖溝+電鍍
A32: 46196 | B32: =A32 -> 46196 | E32: 1913 | F32: =F31+E32 -> 2879 | G32: =$D$31-F32 -> 6624
A33: 46197 | B33: =A33 -> 46197 | E33: 1945 | F33: =F32+E33 -> 4824 | G33: =$D$31-F33 -> 4679
A34: 46198 | B34: =A34 -> 46198 | E34: 1921 | F34: =F33+E34 -> 6745 | G34: =$D$31-F34 -> 2758
A35: 46199 | B35: =A35 -> 46199 | E35: 1900 | F35: =F34+E35 -> 8645 | G35: =$D$31-F35 -> 858
A36: 46200 | B36: =A36 -> 46200 | E36: 919 | F36: =F35+E36 -> 9564 | G36: =$D$31-F36 -> -61
C37: X00005-80 | D37: 1200 | E37: 650 | F37: =E37 -> 650 | G37: =$D$37-F37 -> 550 | H37: 46205 | I37: 1200 | J37: WWMJ4A-24.3*C19.1 | L37: V1 | M37: M01150615225 | Q37: 713出貨 | R37: 電鍍+雷雕
A38: 46201 | B38: =A38 -> 46201 | E38: 585 | F38: =F37+E38 -> 1235 | G38: =$D$37-F38 -> -35
C39: B0.1032.1-80 | D39: 1400 | E39: 610 | F39: =E39 -> 610 | G39: =$D$39-F39 -> 790 | H39: 46230 | I39: 1400 | J39: WWMJ4A-24.3*C19.1 | K39: 46204 | M39: M01150612012 | Q39: 8/3出貨
A40: 46202 | B40: =A40 -> 46202 | E40: 1561 | F40: =F39+E40 -> 2171 | G40: =$D$39-F40 -> -771
A41: 46203 | B41: =A41 -> 46203 | E41: 183 | F41: =F40+E41 -> 2354 | G41: =$D$39-F41 -> -954
C42: 50.1109.9-80 | D42: =I44 -> 11600 | E42: 848 | F42: =E42 -> 848 | G42: =$D$42-F42 -> 10752 | H42: 46223 | I42: 5600 | J42: WWMJ4A-24.05*C19 | K42: 46197 | L42: V5 | M42: M01150609016 | Q42: 7/20出貨 | R42: 電鍍
A43: 46204 | B43: =A43 -> 46204 | C43: 試電 | E43: 1464 | F43: =F42+E43 -> 2312 | G43: =$D$42-F43 -> 9288 | H43: 46211 | I43: 6000 | J43: WWMJ4A-24.05*C19 | K43: 46197 | L43: V5 | M43: M01150617022 | Q43: 7/20出貨 | R43: 電鍍
A44: 46205 | B44: =A44 -> 46205 | E44: 1503 | F44: =F43+E44 -> 3815 | G44: =$D$42-F44 -> 7785 | I44: =SUM(I42:I43) -> 11600
A45: 46206 | B45: =A45 -> 46206 | E45: 1510 | F45: =F44+E45 -> 5325 | G45: =$D$42-F45 -> 6275
A46: 46207 | B46: =A46 -> 46207 | E46: 1458 | F46: =F45+E46 -> 6783 | G46: =$D$42-F46 -> 4817
A47: 46208 | B47: =A47 -> 46208 | E47: 1455 | F47: =F46+E47 -> 8238 | G47: =$D$42-F47 -> 3362
A48: 46209 | B48: =A48 -> 46209 | E48: 1473 | F48: =F47+E48 -> 9711 | G48: =$D$42-F48 -> 1889
A49: 46210 | B49: =A49 -> 46210 | E49: 1499 | F49: =F48+E49 -> 11210 | G49: =$D$42-F49 -> 390
A50: 46211 | B50: =A50 -> 46211 | E50: 327 | F50: =F49+E50 -> 11537 | G50: =$D$42-F50 -> 63
C51: 50.1175-80 | D51: 50000 | E51: 1458 | F51: =E51 -> 1458 | G51: =$D$51-F51 -> 48542 | H51: 46220 | I51: 50000 | J51: WWMJ4A-26.5*C21 | K51: 46197 | L51: 13C.13D | M51: M01150610028 | Q51: 8/3出貨 | R51: 電鍍
A52: 46212 | B52: =A52 -> 46212 | C52: 試電 | E52: 2025 | F52: =F51+E52 -> 3483 | G52: =$D$51-F52 -> 46517
A53: 46213 | B53: =A53 -> 46213 | E53: 1958 | F53: =F52+E53 -> 5441 | G53: =$D$51-F53 -> 44559
A54: 46214 | B54: =A54 -> 46214 | E54: 1993 | F54: =F53+E54 -> 7434 | G54: =$D$51-F54 -> 42566
A55: 46215 | B55: =A55 -> 46215 | E55: 2015 | F55: =F54+E55 -> 9449 | G55: =$D$51-F55 -> 40551
A56: 46216 | B56: =A56 -> 46216 | E56: 2039 | F56: =F55+E56 -> 11488 | G56: =$D$51-F56 -> 38512
A57: 46217 | B57: =A57 -> 46217 | E57: 2144 | F57: =F56+E57 -> 13632 | G57: =$D$51-F57 -> 36368
A58: 46218 | B58: =A58 -> 46218 | E58: 2466 | F58: =F57+E58 -> 16098 | G58: =$D$51-F58 -> 33902
A59: 46219 | B59: =A59 -> 46219 | E59: 2397 | F59: =F58+E59 -> 18495 | G59: =$D$51-F59 -> 31505
A60: 46220 | B60: =A60 -> 46220 | E60: 2483 | F60: =F59+E60 -> 20978 | G60: =$D$51-F60 -> 29022
A61: 46221 | B61: =A61 -> 46221 | E61: 2478 | F61: =F60+E61 -> 23456 | G61: =$D$51-F61 -> 26544
A62: 46222 | B62: =A62 -> 46222 | E62: 1445 | F62: =F61+E62 -> 24901 | G62: =$D$51-F62 -> 25099
A63: 46223 | B63: =A63 -> 46223 | E63: 2508 | F63: =F62+E63 -> 27409 | G63: =$D$51-F63 -> 22591
A64: 46224 | B64: =A64 -> 46224 | E64: 2487 | F64: =F63+E64 -> 29896 | G64: =$D$51-F64 -> 20104
... A73: 46233 | B73: =A73 -> 46233 | E73: 383 | F73: =F72+E73 -> 50000 | G73: =$D$51-F73 -> 0
C74: 50.1175-80 | D74: =I76 -> 26560 | E74: 2013 | F74: =E74 -> 2013 | G74: =$D$74-F74 -> 24547 | H74: 46251 | I74: 25000 | J74: WWMJ4A-26.5*C21 | K74: 46233 | L74: 13C.13D | M74: M01150717179 | Q74: 8/31出貨 | R74: 電鍍
A75: 46234 | B75: =A75 -> 46234 | E75: 2393 | F75: =F74+E75 -> 4406 | G75: =$D$74-F75 -> 22154 | H75: 46244 | I75: 1560 | J75: WWMJ4A-26.5*C21 | K75: 46233 | L75: 13C.13D | M75: M01150721043 | N75: 7/31-SCH | Q75: 8/31出貨 | R75: 電鍍+鉚合+滿益金
A76: 46235 | B76: =A76 -> 46235 | E76: 2508 | F76: =F75+E76 -> 6914 | G76: =$D$74-F76 -> 19646 | I76: =SUM(I74:I75) -> 26560
A77: 46236 | B77: =A77 -> 46236 | E77: 2445 | F77: =F76+E77 -> 9359 | G77: =$D$74-F77 -> 17201
A78: 46237 | B78: =A78 -> 46237 | E78: 2505 | F78: =F77+E78 -> 11864 | G78: =$D$74-F78 -> 14696
A79: 46238 | B79: =A79 -> 46238 | E79: 2436 | F79: =F78+E79 -> 14300 | G79: =$D$74-F79 -> 12260
A80: 46239 | B80: =A80 -> 46239 | E80: 2477 | F80: =F79+E80 -> 16777 | G80: =$D$74-F80 -> 9783
A81: 46240 | B81: =A81 -> 46240 | E81: 2512 | F81: =F80+E81 -> 19289 | G81: =$D$74-F81 -> 7271
A82: 46241 | B82: =A82 -> 46241 | E82: 2435 | F82: =F81+E82 -> 21724 | G82: =$D$74-F82 -> 4836
A83: 46242 | B83: =A83 -> 46242 | E83: 2439 | F83: =F82+E83 -> 24163 | G83: =$D$74-F83 -> 2397
A84: 46243 | B84: =A84 -> 46243 | E84: 2464 | F84: =F83+E84 -> 26627 | G84: =$D$74-F84 -> -67
A85: 46244 | B85: =A85 -> 46244 | E85: 157 | F85: =F84+E85 -> 26784 | G85: =$D$74-F85 -> -224
C86: X00009D-80 | D86: 10500 | E86: 974 | F86: =E86 -> 974 | G86: =$D$86-F86 -> 9526 | H86: 46252 | I86: 10500 | J86: WWMJ4A-25.5*C19 | K86: 46240 | L86: 13B | M86: M01150721002 | Q86: 8/30出貨 | R86: 電鍍
A87: 46245 | B87: =A87 -> 46245 | E87: 1312 | F87: =E87+F86 -> 2286 | G87: =$D$86-F87 -> 8214
A88: 46246 | B88: =A88 -> 46246 | E88: 1297 | F88: =E88+F87 -> 3583 | G88: =$D$86-F88 -> 6917
A89: 46247 | B89: =A89 -> 46247 | E89: 1318 | F89: =E89+F88 -> 4901 | G89: =$D$86-F89 -> 5599
A90: 46248 | B90: =A90 -> 46248 | E90: 1319 | F90: =E90+F89 -> 6220 | G90: =$D$86-F90 -> 4280
A91: 46249 | B91: =A91 -> 46249 | E91: 1195 | F91: =E91+F90 -> 7415 | G91: =$D$86-F91 -> 3085
A92: 46250 | B92: =A92 -> 46250 | E92: 1348 | F92: =E92+F91 -> 8763 | G92: =$D$86-F92 -> 1737
A93: 46251 | B93: =A93 -> 46251 | E93: 1315 | F93: =E93+F92 -> 10078 | G93: =$D$86-F93 -> 422
A94: 46252 | B94: =A94 -> 46252 | E94: 613 | F94: =E94+F93 -> 10691 | G94: =$D$86-F94 -> -191
C95: P59023.J4CP-80 | D95: 3000 | E95: 686 | F95: =E95 -> 686 | G95: =$D$95-F95 -> 2314 | H95: 46254 | I95: 3000 | J95: WWMJ4A-24.3*C19.1 | K95: 46246 | M95: M01150728223 | P95: 98 | Q95: 庫存單 | R95: 滾字+電鍍
A96: 46253 | B96: =A96 -> 46253 | E96: 1382 | F96: =E96+F95 -> 2068 | G96: =$D$95-F96 -> 932
A97: 46254 | B97: =A97 -> 46254 | E97: 1022 | F97: =F96+E97 -> 3090 | G97: =$D$95-F97 -> -90
C98: 50.1175-80 | D98: =I101 -> 28195 | E98: 579 | F98: =E98 -> 579 | G98: =$D$98-F98 -> 27616 | H98: 46272 | I98: 7500 | J98: WWMJ4A-26.5*C21 | K98: 46248 | L98: 13D | M98: M01150807015 | Q98: 9/24出貨 | R98: 電鍍
A99: 46255 | B99: =A99 -> 46255 | E99: 2519 | F99: =F98+E99 -> 3098 | G99: =$D$98-F99 -> 25097 | H99: 46276 | I99: 19945 | J99: WWMJ4A-26.5*C21 | K99: 46254 | L99: A1-2 | M99: M01150811033 | N99: 8/21-SCH | Q99: 9/28出貨 | R99: 電鍍
A100: 46256 | B100: =A100 -> 46256 | E100: 2414 | F100: =F99+E100 -> 5512 | G100: =$D$98-F100 -> 22683 | H100: 46286 | I100: 750 | J100: WWMJ4A-26.5*C21 | L100: A1-2 | M100: M01150820028 | N100: 8/21-SCH | Q100: 10/26出貨 | R100: 電鍍+鉚合+滿益金
A101: 46257 | B101: =A101 -> 46257 | E101: 2325 | F101: =F100+E101 -> 7837 | G101: =$D$98-F101 -> 20358 | I101: =SUM(I98:I100) -> 28195
A102: 46258 | B102: =A102 -> 46258 | E102: 2473 | F102: =F101+E102 -> 10310 | G102: =$D$98-F102 -> 17885
A103: 46259 | B103: =A103 -> 46259 | E103: 2471 | F103: =F102+E103 -> 12781 | G103: =$D$98-F103 -> 15414
A104: 46260 | B104: =A104 -> 46260 | E104: 2478 | F104: =F103+E104 -> 15259 | G104: =$D$98-F104 -> 12936
A105: 46261 | B105: =A105 -> 46261 | E105: 2477 | F105: =F104+E105 -> 17736 | G105: =$D$98-F105 -> 10459
A106: 46262 | B106: =A106 -> 46262 | E106: 2461 | F106: =F105+E106 -> 20197 | G106: =$D$98-F106 -> 7998
A107: 46263 | B107: =A107 -> 46263 | E107: 2501 | F107: =F106+E107 -> 22698 | G107: =$D$98-F107 -> 5497
A108: 46264 | B108: =A108 -> 46264 | E108: 1399 | F108: =F107+E108 -> 24097 | G108: =$D$98-F108 -> 4098
...

Sheet C13
A1: 日期 | C1: 品名 | D1: 投產數 | E1: 當日產量 | F1: 累積產量 | G1: 未生產數 | H1: 預交日 | I1: 訂單數量 | J1: 銅條 | K1: 進料日 | L1: 架位 | M1: 工令單號 | N1: 實際入庫 | O1: 差異 | P1: 單重 | Q1: 備註(出貨日) | R1: 後製程
A2: 46167 | B2: =A2 -> 46167 | C2: X00006C-80 | D2: 8000 | E2: 5 | F2: =E2 -> 5 | G2: =$D$2-F2 -> 7995 | H2: 46167 | I2: 8000 | J2: WWMUACA-24.5 | K2: 46153 | M2: M01150427045 | Q2: 6/12出貨 | R2: 電鍍+雷雕(金台山)
A3: 46168 | B3: =A3 -> 46168 | C3: 試電 | E3: 715 | F3: =F2+E3 -> 720 | G3: =$D$2-F3 -> 7280
A4: 46169 | B4: =A4 -> 46169 | E4: 783 | F4: =F3+E4 -> 1503 | G4: =$D$2-F4 -> 6497
A5: 46170 | B5: =A5 -> 46170 | E5: 801 | F5: =F4+E5 -> 2304 | G5: =$D$2-F5 -> 5696
A6: 46171 | B6: =A6 -> 46171 | E6: 798 | F6: =F5+E6 -> 3102 | G6: =$D$2-F6 -> 4898
A7: 46172 | B7: =A7 -> 46172 | E7: 761 | F7: =F6+E7 -> 3863 | G7: =$D$2-F7 -> 4137
A8: 46173 | B8: =A8 -> 46173 | E8: 763 | F8: =F7+E8 -> 4626 | G8: =$D$2-F8 -> 3374
A9: 46174 | B9: =A9 -> 46174 | E9: 809 | F9: =F8+E9 -> 5435 | G9: =$D$2-F9 -> 2565
A10: 46175 | B10: =A10 -> 46175 | E10: 788 | F10: =F9+E10 -> 6223 | G10: =$D$2-F10 -> 1777
A11: 46176 | B11: =A11 -> 46176 | E11: 770 | F11: =F10+E11 -> 6993 | G11: =$D$2-F11 -> 1007
A12: 46177 | B12: =A12 -> 46177 | E12: 799 | F12: =F11+E12 -> 7792 | G12: =$D$2-F12 -> 208
A13: 46178 | B13: =A13 -> 46178 | E13: 208 | F13: =F12+E13 -> 8000 | G13: =$D$2-F13 -> 0
C14: X00006C-80 | D14: 10000 | E14: 596 | F14: =E14 -> 596 | G14: =$D$14-F14 -> 9404 | H14: 46181 | I14: 10000 | J14: WWMUACA-24.5 | K14: 46174 | L14: 9C | M14: M01150520111 | N14: 5/29-SCH | Q14: 6/18出貨-5000 | R14: 電鍍+雷雕(金台山)
A15: 46179 | B15: =A15 -> 46179 | E15: 784 | F15: =F14+E15 -> 1380 | G15: =$D$14-F15 -> 8620 | Q15: 6/26出貨-5000 | R15: 電鍍+雷雕(金台山)
A16: 46180 | B16: =A16 -> 46180 | E16: 802 | F16: =F15+E16 -> 2182 | G16: =$D$14-F16 -> 7818
A17: 46181 | B17: =A17 -> 46181 | E17: 804 | F17: =F16+E17 -> 2986 | G17: =$D$14-F17 -> 7014
A18: 46182 | B18: =A18 -> 46182 | E18: 761 | F18: =F17+E18 -> 3747 | G18: =$D$14-F18 -> 6253
A19: 46183 | B19: =A19 -> 46183 | E19: 799 | F19: =F18+E19 -> 4546 | G19: =$D$14-F19 -> 5454
A20: 46184 | B20: =A20 -> 46184 | E20: 799 | F20: =F19+E20 -> 5345 | G20: =$D$14-F20 -> 4655
A21: 46185 | B21: =A21 -> 46185 | E21: 793 | F21: =F20+E21 -> 6138 | G21: =$D$14-F21 -> 3862
A22: 46186 | B22: =A22 -> 46186 | E22: 791 | F22: =F21+E22 -> 6929 | G22: =$D$14-F22 -> 3071
A23: 46187 | B23: =A23 -> 46187 | E23: 801 | F23: =F22+E23 -> 7730 | G23: =$D$14-F23 -> 2270
A24: 46188 | B24: =A24 -> 46188 | E24: 777 | F24: =F23+E24 -> 8507 | G24: =$D$14-F24 -> 1493
A25: 46189 | B25: =A25 -> 46189 | E25: 802 | F25: =F24+E25 -> 9309 | G25: =$D$14-F25 -> 691
A26: 46190 | B26: =A26 -> 46190 | E26: 691 | F26: =F25+E26 -> 10000 | G26: =$D$14-F26 -> 0
C27: X00006C-80 | D27: 8000 | E27: 111 | F27: =E27 -> 111 | G27: =$D$27-F27 -> 7889 | H27: 46197 | I27: 7900 | J27: WWMUACA-24.5 | K27: 46182 | L27: 9C | M27: M01150529059 | N27: 6/3-SCH | Q27: 7/9出貨 | R27: 電鍍+雷雕(金台山)
A28: 46191 | B28: =A28 -> 46191 | E28: 772 | F28: =F27+E28 -> 883 | G28: =$D$27-F28 -> 7117
A29: 46192 | B29: =A29 -> 46192 | E29: 803 | F29: =F28+E29 -> 1686 | G29: =$D$27-F29 -> 6314
A30: 46193 | B30: =A30 -> 46193 | E30: 786 | F30: =F29+E30 -> 2472 | G30: =$D$27-F30 -> 5528
A31: 46194 | B31: =A31 -> 46194 | E31: 791 | F31: =F30+E31 -> 3263 | G31: =$D$27-F31 -> 4737
A32: 46195 | B32: =A32 -> 46195 | E32: 788 | F32: =F31+E32 -> 4051 | G32: =$D$27-F32 -> 3949
A33: 46196 | B33: =A33 -> 46196 | E33: 780 | F33: =F32+E33 -> 4831 | G33: =$D$27-F33 -> 3169
A34: 46197 | B34: =A34 -> 46197 | E34: 780 | F34: =F33+E34 -> 5611 | G34: =$D$27-F34 -> 2389
A35: 46198 | B35: =A35 -> 46198 | E35: 773 | F35: =F34+E35 -> 6384 | G35: =$D$27-F35 -> 1616
A36: 46199 | B36: =A36 -> 46199 | E36: 787 | F36: =F35+E36 -> 7171 | G36: =$D$27-F36 -> 829
A37: 46200 | B37: =A37 -> 46200 | E37: 790 | F37: =F36+E37 -> 7961 | G37: =$D$27-F37 -> 39
A38: 46201 | B38: =A38 -> 46201 | E38: 202 | F38: =F37+E38 -> 8163 | G38: =$D$27-F38 -> -163
C39: W30811-3-80 | D39: 350 | E39: 1035 | F39: =E39 -> 1035 | G39: =$D$39-F39 -> -685 | H39: 46223 | I39: 350 | J39: WWMJ4CA-19.0 | K39: 46191 | L39: 21C.H1-3 | M39: M01150610089 | Q39: 8/3出貨 | R39: 電鍍
A40: 46202 | B40: =A40 -> 46202 | C40: G0.A072.1-80 | D40: 450 | E40: 562 | F40: =E40 -> 562 | G40: =$D$40-F40 -> -112 | H40: 46195 | I40: 450 | J40: WWMJ6CA-24.0 | K40: 46185 | L40: 17D | M40: M01150520083 | Q40: 7/6出貨 | R40: 滾字+電鍍
A41: 46203 | B41: =A41 -> 46203 | E41: 129 | F41: =E41+F40 -> 691 | G41: =$D$40-F41 -> -241
C42: B0.A072.1-80 | D42: =I46 -> 9000 | E42: 533 | F42: =E42 -> 533 | G42: =$D$42-F42 -> 8467 | H42: 46206 | I42: 900 | J42: WWMJ4CA-24 | K42: 46183 | L42: 24C | M42: M01150527014 | Q42: 7/20出貨 | R42: 滾字+電鍍
A43: 46204 | B43: =A43 -> 46204 | E43: 844 | F43: =F42+E43 -> 1377 | G43: =$D$42-F43 -> 7623 | H43: 46202 | I43: 20000 | J43: WWMJ4CA-24 | K43: 46183 | L43: 24C | M43: M01150527024 | Q43: 7/20出貨 | R43: 滾字+電鍍
A44: 46205 | B44: =A44 -> 46205 | E44: 839 | F44: =F43+E44 -> 2216 | G44: =$D$42-F44 -> 6784 | I44: =SUM(I42:I43) -> 20900
A45: 46206 | B45: =A45 -> 46206 | E45: 772 | F45: =F44+E45 -> 2988 | G45: =$D$42-F45 -> 6012 | H45: C4 | I45: 11900
A46: 46207 | B46: =A46 -> 46207 | E46: 845 | F46: =F45+E46 -> 3833 | G46: =$D$42-F46 -> 5167 | H46: C13 | I46: 9000
A47: 46208 | B47: =A47 -> 46208 | C47: 機故 | E47: 54 | F47: =F46+E47 -> 3887 | G47: =$D$42-F47 -> 5113
A48: 46209 | B48: =A48 -> 46209 | E48: 780 | F48: =F47+E48 -> 4667 | G48: =$D$42-F48 -> 4333
A49: 46210 | B49: =A49 -> 46210 | E49: 849 | F49: =F48+E49 -> 5516 | G49: =$D$42-F49 -> 3484
A50: 46211 | B50: =A50 -> 46211 | E50: 874 | F50: =F49+E50 -> 6390 | G50: =$D$42-F50 -> 2610
A51: 46212 | B51: =A51 -> 46212 | E51: 853 | F51: =F50+E51 -> 7243 | G51: =$D$42-F51 -> 1757
A52: 46213 | B52: =A52 -> 46213 | E52: 872 | F52: =F51+E52 -> 8115 | G52: =$D$42-F52 -> 885
A53: 46214 | B53: =A53 -> 46214 | E53: 803 | F53: =F52+E53 -> 8918 | G53: =$D$42-F53 -> 82
A54: 46215 | B54: =A54 -> 46215 | E54: 82 | F54: =F53+E54 -> 9000 | G54: =$D$42-F54 -> 0
C55: B0.A072.1-80 | D55: =I57 -> 6152 | E55: 862 | F55: =E55 -> 862 | G55: =$D$55-F55 -> 5290 | H55: 46218 | I55: 19152 | J55: WWMJ4CA-24 | K55: 46185 | L55: 25C | M55: M01150602020 | Q55: 8/3出貨 | R55: 滾字+電鍍
A56: 46216 | B56: =A56 -> 46216 | E56: 888 | F56: =F55+E56 -> 1750 | G56: =$D$55-F56 -> 4402 | H56: C4 | I56: 13000
A57: 46217 | B57: =A57 -> 46217 | E57: 861 | F57: =F56+E57 -> 2611 | G57: =$D$55-F57 -> 3541 | H57: C13 | I57: 6152
A58: 46218 | B58: =A58 -> 46218 | E58: 850 | F58: =F57+E58 -> 3461 | G58: =$D$55-F58 -> 2691
A59: 46219 | B59: =A59 -> 46219 | E59: 854 | F59: =F58+E59 -> 4315 | G59: =$D$55-F59 -> 1837
A60: 46220 | B60: =A60 -> 46220 | E60: 873 | F60: =F59+E60 -> 5188 | G60: =$D$55-F60 -> 964
A61: 46221 | B61: =A61 -> 46221 | E61: 881 | F61: =F60+E61 -> 6069 | G61: =$D$55-F61 -> 83
A62: 46222 | B62: =A62 -> 46222 | E62: 83 | F62: =F61+E62 -> 6152 | G62: =$D$55-F62 -> 0
C63: B0.A072.1-80 | D63: 1000 | E63: 792 | F63: =E63 -> 792 | G63: =$D$63-F63 -> 208 | H63: 46230 | I63: 1000 | J63: WWMJ4CA-24 | K63: 46202 | L63: 25C | M63: M01150624007 | Q63: 8/17出貨 | R63: 滾字+電鍍
A64: 46223 | B64: =A64 -> 46223 | E64: 208 | F64: =E64+F63 -> 1000 | G64: =$D$63-F64 -> 0
C65: B0.A072.1-80 | D65: 950 | E65: 583 | F65: =E65 -> 583 | G65: =$D$65-F65 -> 367 | H65: 46237 | I65: 950 | J65: WWMJ4CA-24 | K65: 46213 | L65: 25C | M65: M01150701012 | Q65: 8/17出貨 | R65: 滾字+電鍍
A66: 46224 | B66: =A66 -> 46224 | E66: 367 | F66: =F65+E66 -> 950 | G66: =$D$65-F66 -> 0
C67: B0.A072.1-80 | D67: =I70 -> 107 | E67: 401 | F67: =E67 -> 401 | G67: =$D$67-F67 -> -294 | H67: 46244 | I67: 850 | J67: WWMJ4CA-24 | K67: 46216 | L67: 25C | M67: M01150708082 | Q67: 8/31出貨 | R67: 滾字+電鍍
H68: 46244 | I68: 1000 | J68: WWMJ4CA-24 | K68: 46227 | L68: 25C | M68: M01150714026 | Q68: 8/31出貨 | R68: 滾字+電鍍
H69: C4 | I69: 1743
H70: C13 | I70: 107
C71: FBA-015-80 | D71: =I73 -> 8957 | E71: 21 | F71: =E71 -> 21 | G71: =$D$71-F71 -> 8936 | H71: 45851 | I71: 8457 | J71: WWMJ4CA-24.5 | K71: 46204 | L71: 20D | M71: M01150623046 | Q71: 7/27出貨 | R71: 清金+電鍍
A72: 46225 | B72: =A72 -> 46225 | E72: 583 | F72: =F71+E72 -> 604 | G72: =$D$71-F72 -> 8353 | H72: 46230 | I72: 500 | J72: WWMJ4CA-24.5 | K72: 46213 | L72: 20D | M72: M01150709002 | N72: 7/23-SCH | Q72: 8/10出貨 | R72: 清金+電鍍
A73: 46226 | B73: =A73 -> 46226 | E73: 608 | F73: =F72+E73 -> 1212 | G73: =$D$71-F73 -> 7745 | I73: =SUM(I71:I72) -> 8957
A74: 46227 | B74: =A74 -> 46227 | E74: 602 | F74: =F73+E74 -> 1814 | G74: =$D$71-F74 -> 7143
A75: 46228 | B75: =A75 -> 46228 | E75: 608 | F75: =F74+E75 -> 2422 | G75: =$D$71-F75 -> 6535
A76: 46229 | B76: =A76 -> 46229 | E76: 600 | F76: =F75+E76 -> 3022 | G76: =$D$71-F76 -> 5935
A77: 46230 | B77: =A77 -> 46230 | E77: 583 | F77: =F76+E77 -> 3605 | G77: =$D$71-F77 -> 5352
A78: 46231 | B78: =A78 -> 46231 | E78: 604 | F78: =F77+E78 -> 4209 | G78: =$D$71-F78 -> 4748
A79: 46232 | B79: =A79 -> 46232 | E79: 607 | F79: =F78+E79 -> 4816 | G79: =$D$71-F79 -> 4141
A80: 46233 | B80: =A80 -> 46233 | E80: 605 | F80: =F79+E80 -> 5421 | G80: =$D$71-F80 -> 3536
A81: 46234 | B81: =A81 -> 46234 | E81: 596 | F81: =F80+E81 -> 6017 | G81: =$D$71-F81 -> 2940
A82: 46235 | B82: =A82 -> 46235 | E82: 587 | F82: =F81+E82 -> 6604 | G82: =$D$71-F82 -> 2353
A83: 46236 | B83: =A83 -> 46236 | E83: 607 | F83: =F82+E83 -> 7211 | G83: =$D$71-F83 -> 1746
A84: 46237 | B84: =A84 -> 46237 | E84: 604 | F84: =F83+E84 -> 7815 | G84: =$D$71-F84 -> 1142
A85: 46238 | B85: =A85 -> 46238 | E85: 608 | F85: =F84+E85 -> 8423 | G85: =$D$71-F85 -> 534
... A87: 46240 | B87: =A87 -> 46240 | E87: 45 | F87: =F86+E87 -> 9069 | G87: =$D$71-F87 -> -112
C88: 85989-80 | D88: 350 | E88: 369 | F88: =E88 -> 369 | G88: =$D$88-F88 -> -19 | H88: 46356 | I88: 350 | J88: WWMUACA-24.5 | K88: 46240 | L88: 9C | M88: M01150526061 | Q88: 12/14出貨改9/10出貨 | R88: 清金+超因波清洗
C89: BY.0243.1-80 | D89: 2520 | E89: 256 | F89: =E89 -> 256 | G89: =$D$89-F89 -> 2264 | H89: 46246 | I89: 2520 | J89: WWMJ4CA-23.5 | K89: 46234 | L89: 24C | M89: M01150717188 | Q89: 8/31出貨 | R89: 拋光+滾字+電鍍
A90: 46241 | B90: =A90 -> 46241 | E90: 716 | F90: =F89+E90 -> 972 | G90: =$D$89-F90 -> 1548
A91: 46242 | B91: =A91 -> 46242 | E91: 725 | F91: =F90+E91 -> 1697 | G91: =$D$89-F91 -> 823
A92: 46243 | B92: =A92 -> 46243 | E92: 724 | F92: =F91+E92 -> 2421 | G92: =$D$89-F92 -> 99
A93: 46244 | B93: =A93 -> 46244 | E93: 112 | F93: =F92+E93 -> 2533 | G93: =$D$89-F93 -> -13
C94: 3CAA0004-80 | D94: 2200 | E94: 847 | F94: =E94 -> 847 | G94: =$D$94-F94 -> 1353 | H94: 46252 | I94: 2200 | J94: WWMD6CH-9.0 | K94: 46239 | M94: M01150724070 | Q94: 9/1出貨 | R94: 電鍍
A95: 46245 | B95: =A95 -> 46245 | E95: 1347 | F95: =F94+E95 -> 2194 | G95: =$D$94-F95 -> 6
A96: 46246 | B96: =A96 -> 46246 | E96: 98 | F96: =F95+E96 -> 2292 | G96: =$D$94-F96 -> -92
C97: DF-30-80 | D97: 900 | E97: 729 | F97: =E97 -> 729 | G97: =$D$97-F97 -> 171 | H97: 46251 | I97: 500 | J97: WWMUACA-14.5 | K97: 46234 | L97: 9B | M97: M01150727088 | Q97: 9/9出貨 | R97: 拋光+電鍍
A98: 46247 | B98: =A98 -> 46247 | E98: 486 | F98: =F97+E98 -> 1215 | G98: =$D$97-F98 -> -315 | H98: 46261 | I98: 500 | J98: WWMUACA-14.5 | K98: 46234 | L98: 9B | M98: M01150805037 | N98: 8/12-SCH | Q98: 9/30出貨 | R98: 拋光+電鍍+滿益金
C99: R00062-80 | D99: 5700 | E99: 369 | F99: =E99 -> 369 | G99: =$D$99-F99 -> 5331 | H99: 46259 | I99: 5700 | J99: WWHUACA-22.2 | K99: 46241 | L99: 7A | M99: M01150731004 | Q99: 8/25出貨
A100: 46248 | B100: =A100 -> 46248 | E100: 1275 | F100: =F99+E100 -> 1644 | G100: =$D$99-F100 -> 4056
A101: 46249 | B101: =A101 -> 46249 | E101: 1278 | F101: =F100+E101 -> 2922 | G101: =$D$99-F101 -> 2778
...

Sheet C32
A1: 日期 | C1: 品名 | D1: 投產數 | E1: 當日產量 | F1: 累積產量 | G1: 未生產數 | H1: 預交日 | I1: 訂單數量 | J1: 銅條 | K1: 進料日 | L1: 架位 | M1: 工令單號 | N1: 實際入庫 | O1: 差異 | P1: 單重 | Q1: 備註(出貨日) | R1: 後製程
A2: 46183 | B2: =A2 -> 46183 | C2: BY.0063.1-80 | D2: =I7 -> 38000 | E2: 2349 | F2: =E2 -> 2349 | G2: =$D$2-F2 -> 35651 | H2: 46181 | I2: 6000 | J2: WWMJ4A-24.3*C19.1 | K2: 46141 | L2: V1 | M2: M01150429002 | Q2: 6/22出貨 | R2: 電鍍
A3: 46184 | B3: =A3 -> 46184 | E3: 3439 | F3: =F2+E3 -> 5788 | G3: =$D$2-F3 -> 32212 | H3: 46187 | I3: 8000 | J3: WWMJ4A-24.3*C19.1 | K3: 46170 | L3: V1 | M3: M01150506175 | N3: 6/11-SCH | Q3: 6/22出貨 | R3: 電鍍
A4: 46185 | B4: =A4 -> 46185 | E4: 3262 | F4: =F3+E4 -> 9050 | G4: =$D$2-F4 -> 28950 | H4: 46198 | I4: 8000 | J4: WWMJ4A-24.3*C19.1 | K4: 46157 | L4: V1 | M4: M01150515008 | N4: 6/11-SCH | Q4: 7/6出貨 | R4: 電鍍
A5: 46186 | B5: =A5 -> 46186 | E5: 3272 | F5: =F4+E5 -> 12322 | G5: =$D$2-F5 -> 25678 | H5: 46209 | I5: 8000 | J5: WWMJ4A-24.3*C19.1 | K5: 46184 | L5: V1 | M5: M01150527017 | N5: 6/11-SCH | Q5: 7/20出貨 | R5: 電鍍
A6: 46187 | B6: =A6 -> 46187 | E6: 3341 | F6: =F5+E6 -> 15663 | G6: =$D$2-F6 -> 22337 | H6: 46209 | I6: 8000 | J6: WWMJ4A-24.3*C19.1 | K6: 46184 | L6: V1 | M6: M01150602016 | N6: 6/11-SCH | Q6: 7/20出貨 | R6: 電鍍
A7: 46188 | B7: =A7 -> 46188 | E7: 3366 | F7: =F6+E7 -> 19029 | G7: =$D$2-F7 -> 18971 | I7: =SUM(I2:I6) -> 38000
A8: 46189 | B8: =A8 -> 46189 | E8: 3491 | F8: =F7+E8 -> 22520 | G8: =$D$2-F8 -> 15480
A9: 46190 | B9: =A9 -> 46190 | E9: 3437 | F9: =F8+E9 -> 25957 | G9: =$D$2-F9 -> 12043
A10: 46191 | B10: =A10 -> 46191 | E10: 3355 | F10: =F9+E10 -> 29312 | G10: =$D$2-F10 -> 8688
A11: 46192 | B11: =A11 -> 46192 | E11: 3319 | F11: =F10+E11 -> 32631 | G11: =$D$2-F11 -> 5369
A12: 46193 | B12: =A12 -> 46193 | E12: 3189 | F12: =F11+E12 -> 35820 | G12: =$D$2-F12 -> 2180
A13: 46194 | B13: =A13 -> 46194 | E13: 2479 | F13: =F12+E13 -> 38299 | G13: =$D$2-F13 -> -299
A14: 46195 | C14: VXR-4-80 | D14: =I24 -> 26806 | E14: 293 | F14: =E14 -> 293 | G14: =$D$14-F14 -> 26513 | H14: 46181 | I14: 600 | J14: WWHJ4CA-20.5 | L14: H1-4 | M14: M01150422024 | Q14: 6/29出貨-1449
A15: 46196 | B15: =A15 -> 46196 | E15: 1200 | F15: =F14+E15 -> 1493 | G15: =$D$14-F15 -> 25313 | H15: 46198 | I15: 3165 | J15: WWHJ4CA-20.5 | L15: H1-4 | M15: M01150409205 | Q15: 7/1出貨-250
A16: 46197 | B16: =A16 -> 46197 | E16: 1199 | F16: =F15+E16 -> 2692 | G16: =$D$14-F16 -> 24114 | H16: 46206 | I16: 18500 | J16: WWHJ4CA-20.5 | L16: H1-4 | M16: M01150507162 | Q16: 7/3出貨-11940
A17: 46198 | B17: =A17 -> 46198 | E17: 1199 | F17: =F16+E17 -> 3891 | G17: =$D$14-F17 -> 22915 | H17: 46198 | I17: 10000 | J17: WWHJ4CA-20.5 | K17: 46177 | L17: H1-4 | M17: M01150522214 | Q17: 7/6出貨-10400
A18: 46199 | B18: =A18 -> 46199 | E18: 1197 | F18: =F17+E18 -> 5088 | G18: =$D$14-F18 -> 21718 | H18: 46204 | I18: 10000 | J18: WWHJ4CA-20.5 | K18: 46189 | L18: H1-4 | M18: M01150601112 | Q18: 7/13出貨-4584
A19: 46200 | B19: =A19 -> 46200 | E19: 1199 | F19: =F18+E19 -> 6287 | G19: =$D$14-F19 -> 20519 | H19: 46216 | I19: 10000 | J19: WWHJ4CA-20.5 | K19: 46197 | L19: H1-4 | M19: M01150611076 | Q19: 7/15出貨-1800
A20: 46201 | B20: =A20 -> 46201 | E20: 991 | F20: =F19+E20 -> 7278 | G20: =$D$14-F20 -> 19528 | H20: 46227 | I20: 10000 | J20: WWHJ4CA-20.5 | K20: 46217 | L20: H1-4 | M20: M01150618016
A21: 46202 | B21: =A21 -> 46202 | E21: 1187 | F21: =F20+E21 -> 8465 | G21: =$D$14-F21 -> 18341 | H21: 46244 | I21: 10000 | J21: WWHJ4CA-20.5 | K21: 46217 | L21: H1-4 | M21: M01150618035
A22: 46203 | B22: =A22 -> 46203 | E22: 1212 | F22: =F21+E22 -> 9677 | G22: =$D$14-F22 -> 17129 | I22: =SUM(I14:I21) -> 72265
A23: 46204 | B23: =A23 -> 46204 | E23: 1199 | F23: =F22+E23 -> 10876 | G23: =$D$14-F23 -> 15930 | H23: C2 | I23: 25093
A24: 46205 | B24: =A24 -> 46205 | E24: 1199 | F24: =F23+E24 -> 12075 | G24: =$D$14-F24 -> 14731 | H24: C32 | I24: 26806
A25: 46206 | B25: =A25 -> 46206 | E25: 1194 | F25: =F24+E25 -> 13269 | G25: =$D$14-F25 -> 13537 | H25: C18 | I25: 20366
A26: 46207 | B26: =A26 -> 46207 | E26: 1195 | F26: =F25+E26 -> 14464 | G26: =$D$14-F26 -> 12342 | I26: =SUM(I23:I25) -> 72265
A27: 46208 | B27: =A27 -> 46208 | E27: 1199 | F27: =F26+E27 -> 15663 | G27: =$D$14-F27 -> 11143
A28: 46209 | B28: =A28 -> 46209 | E28: 1196 | F28: =F27+E28 -> 16859 | G28: =$D$14-F28 -> 9947
A29: 46210 | B29: =A29 -> 46210 | E29: 1166 | F29: =F28+E29 -> 18025 | G29: =$D$14-F29 -> 8781
A30: 46211 | B30: =A30 -> 46211 | E30: 1165 | F30: =F29+E30 -> 19190 | G30: =$D$14-F30 -> 7616
A31: 46212 | B31: =A31 -> 46212 | E31: 1166 | F31: =F30+E31 -> 20356 | G31: =$D$14-F31 -> 6450
A32: 46213 | B32: =A32 -> 46213 | E32: 1165 | F32: =F31+E32 -> 21521 | G32: =$D$14-F32 -> 5285
A33: 46214 | B33: =A33 -> 46214 | E33: 1071 | F33: =F32+E33 -> 22592 | G33: =$D$14-F33 -> 4214
A34: 46215 | B34: =A34 -> 46215 | E34: 2478 | F34: =F33+E34 -> 25070 | G34: =$D$14-F34 -> 1736
A35: 46216 | B35: =A35 -> 46216 | E35: 1176 | F35: =F34+E35 -> 26246 | G35: =$D$14-F35 -> 560
A36: 46217 | B36: =A36 -> 46217 | E36: 560 | F36: =F35+E36 -> 26806 | G36: =$D$14-F36 -> 0
C37: 50.8011.2281C-80 | D37: 6000 | E37: 336 | F37: =E37 -> 336 | G37: =$D$37-F37 -> 5664 | H37: 46223 | I37: 6000 | J37: WWMD7CA-11.0 | K37: 46195 | L37: M1-2 | M37: M01150612015 | Q37: 7/30出貨 | R37: 熱處理
A38: 46218 | B38: =A38 -> 46218 | E38: 734 | F38: =F37+E38 -> 1070 | G38: =$D$37-F38 -> 4930
A39: 46219 | B39: =A39 -> 46219 | E39: 756 | F39: =F38+E39 -> 1826 | G39: =$D$37-F39 -> 4174
A40: 46220 | B40: =A40 -> 46220 | E40: 758 | F40: =F39+E40 -> 2584 | G40: =$D$37-F40 -> 3416
A41: 46221 | B41: =A41 -> 46221 | E41: 750 | F41: =F40+E41 -> 3334 | G41: =$D$37-F41 -> 2666
A42: 46222 | B42: =A42 -> 46222 | E42: 761 | F42: =F41+E42 -> 4095 | G42: =$D$37-F42 -> 1905
A43: 46223 | B43: =A43 -> 46223 | E43: 760 | F43: =F42+E43 -> 4855 | G43: =$D$37-F43 -> 1145
A44: 46224 | B44: =A44 -> 46224 | E44: 748 | F44: =F43+E44 -> 5603 | G44: =$D$37-F44 -> 397
A45: 46225 | B45: =A45 -> 46225 | E45: 554 | F45: =F44+E45 -> 6157 | G45: =$D$37-F45 -> -157
C46: 50.8010.91610-80 | D46: 5065 | E46: 268 | F46: =E46 -> 268 | G46: =$D$46-F46 -> 4797 | H46: 46240 | I46: 4750 | J46: WWMD4CA-14.50 | L46: 5C | M46: M01150716003 | Q46: 7/30出貨 | R46: 熱處理
A47: 46226 | B47: =A47 -> 46226 | E47: 1205 | F47: =F46+E47 -> 1473 | G47: =$D$46-F47 -> 3592 | J47: 先用此規格銅條
A48: 46227 | B48: =A48 -> 46227 | E48: 1204 | F48: =F47+E48 -> 2677 | G48: =$D$46-F48 -> 2388
A49: 46228 | B49: =A49 -> 46228 | E49: 1205 | F49: =F48+E49 -> 3882 | G49: =$D$46-F49 -> 1183
A50: 46229 | B50: =A50 -> 46229 | E50: 1183 | F50: =F49+E50 -> 5065 | G50: =$D$46-F50 -> 0
A51: 46230 | B51: =A51 -> 46230 | C51: 50.8010.91610-80 | D51: 1485 | E51: 1117 | F51: =E51 -> 1117 | G51: =$D$51-F51 -> 368 | H51: 46240 | I51: 1800 | J51: WWMD4CA-15 | L51: B1-3 | M51: M01150716003 | Q51: 7/30出貨 | R51: 熱處理
A52: 46231 | B52: =A52 -> 46231 | E52: 560 | F52: =F51+E52 -> 1677 | G52: =$D$51-F52 -> -192
C53: 50.8011.33910-80 | D53: 1400 | E53: 562 | F53: =E53 -> 562 | G53: =$D$53-F53 -> 838 | H53: 46251 | I53: 1400 | J53: WWMD4CA-14.0 | L53: C1-2 | M53: M01150526070 | Q53: 8/27出貨 | R53: 熱處理
A54: 46232 | B54: =A54 -> 46232 | E54: 935 | F54: =F53+E54 -> 1497 | G54: =$D$53-F54 -> -97
A55: 46233 | B55: =A55 -> 46233 | C55: 50.8011.3391A-80 | D55: 4000 | E55: 857 | F55: =E55 -> 857 | G55: =$D$55-F55 -> 3143 | H55: 46273 | I55: 4000 | J55: WWMD6CH-12 | L55: 16C | M55: M01150420391 | Q55: 8/6出貨 | R55: 熱處理
A56: 46234 | B56: =A56 -> 46234 | E56: 1154 | F56: =E56+F55 -> 2011 | G56: =$D$55-F56 -> 1989
A57: 46235 | B57: =A57 -> 46235 | E57: 1150 | F57: =E57+F56 -> 3161 | G57: =$D$55-F57 -> 839
A58: 46236 | B58: =A58 -> 46236 | E58: 1155 | F58: =E58+F57 -> 4316 | G58: =$D$55-F58 -> -316
A59: 46237 | B59: =A59 -> 46237 | C59: 50.8012.1591A-80 | D59: 8000 | E59: 473 | F59: =E59 -> 473 | G59: =$D$59-F59 -> 7527 | H59: 46230 | I59: 8000 | J59: WWMD6CH-18 | K59: 46216 | L59: 15D右 | M59: M01150616155 | Q59: 8/13出貨 | R59: 熱處理
A60: 46238 | B60: =A60 -> 46238 | E60: 1096 | F60: =F59+E60 -> 1569 | G60: =$D$59-F60 -> 6431
A61: 46239 | B61: =A61 -> 46239 | E61: 1117 | F61: =F60+E61 -> 2686 | G61: =$D$59-F61 -> 5314
A62: 46240 | B62: =A62 -> 46240 | E62: 1113 | F62: =F61+E62 -> 3799 | G62: =$D$59-F62 -> 4201
A63: 46241 | B63: =A63 -> 46241 | E63: 1118 | F63: =F62+E63 -> 4917 | G63: =$D$59-F63 -> 3083
A64: 46242 | B64: =A64 -> 46242 | E64: 1118 | F64: =F63+E64 -> 6035 | G64: =$D$59-F64 -> 1965
A65: 46243 | B65: =A65 -> 46243 | E65: 1118 | F65: =F64+E65 -> 7153 | G65: =$D$59-F65 -> 847
A66: 46244 | B66: =A66 -> 46244 | E66: 1119 | F66: =F65+E66 -> 8272 | G66: =$D$59-F66 -> -272
A67: 46245 | B67: =A67 -> 46245 | E67: 69 | F67: =F66+E67 -> 8341 | G67: =$D$59-F67 -> -341
C68: GY.0793.1-80 | D68: 700 | E68: 601 | F68: =E68 -> 601 | G68: =$D$68-F68 -> 99 | H68: 46258 | I68: 700 | J68: WWMJ6CA-24.5 | K68: 46232 | L68: 18C右 | M68: M01150717198 | Q68: 9/14出貨 | R68: 滾字+詮宇勝+電鍍
A69: 46246 | B69: =A69 -> 46246 | E69: 116 | F69: =F68+E69 -> 717 | G69: =$D$68-F69 -> -17
C70: GY.0903.1-80 | D70: 1000 | E70: 607 | F70: =E70 -> 607 | G70: =$D$70-F70 -> 393 | H70: 46265 | I70: 1000 | J70: WWMJ6CA-24.0 | K70: 46239 | L70: 17D | M70: M01150717201 | Q70: 9/14出貨 | R70: 電鍍
A71: 46247 | B71: =A71 -> 46247 | E71: 508 | F71: =F70+E71 -> 1115 | G71: =$D$70-F71 -> -115
C72: C31430-2CP-80 | D72: 519 | E72: 204 | F72: =E72 -> 204 | G72: =$D$72-F72 -> 315 | H72: 46265 | I72: 500 | J72: WWMJ6CA-24.0 | L72: 17D | M72: M01150728080 | Q72: 9/17出貨 | R72: 沖齒+電鍍+雷雕
A73: 46248 | B73: =A73 -> 46248 | E73: 315 | F73: =F72+E73 -> 519 | G73: =$D$72-F73 -> 0 | H73: 46268 | I73: 150 | J73: WWMJ6CA-24.0 | L73: 17D | M73: M01150811243 | N73: 8/14-SCH | Q73: 9/21出貨 | R73: 沖齒+電鍍+雷雕
H74: C1 | I74: 519
H75: C1-1 | I75: 131
C76: C31430-2-80 | D76: 300 | E76: 152 | F76: =E76 -> 152 | G76: =$D$76-F76 -> 148 | H76: 46261 | I76: 300 | J76: WWMJ6CA-24.0 | L76: 17D | M76: M01150806080 | Q76: 9/7出貨 | R76: 沖角+雷雕
A77: 46249 | B77: =A77 -> 46249 | E77: 167 | F77: =E77+F76 -> 319 | G77: =$D$76-F77 -> -19
C78: C30287-2-80 | D78: =I81 -> 1700 | E78: 317 | F78: =E78 -> 317 | G78: =$D$78-F78 -> 1383 | H78: 46265 | I78: 500 | J78: WWMJ6CA-24.0 | K78: 46245 | L78: 17C | M78: M01150728066 | Q78: 9/17出貨 | R78: 剖溝+電鍍
A79: 46250 | B79: =A79 -> 46250 | E79: 571 | F79: =F78+E79 -> 888 | G79: =$D$78-F79 -> 812 | H79: 46266 | I79: 1100 | J79: WWMJ6CA-24.0 | K79: 46245 | L79: 17C | M79: M01150729060 | Q79: 9/21出貨 | R79: 剖溝+電鍍
A80: 46251 | B80: =A80 -> 46251 | E80: 614 | F80: =F79+E80 -> 1502 | G80: =$D$78-F80 -> 198 | H80: 46272 | I80: 100 | J80: WWMJ6CA-24.0 | L80: 17C | M80: M01150811261 | N80: 8/17-SCH | Q80: 9/21出貨 | R80: 剖溝+電鍍
A81: 46252 | B81: =A81 -> 46252 | E81: 199 | F81: =F80+E81 -> 1701 | G81: =$D$78-F81 -> -1 | I81: =SUM(I78:I80) -> 1700
C82: C31966-2-80 | D82: 200 | E82: 209 | F82: =E82 -> 209 | G82: =$D$82-F82 -> -9 | H82: 46259 | I82: 200 | J82: WWMJ6CA-24.0 | L82: 17D | M82: M01150805022 | Q82: 9/4出貨 | R82: 剖溝+電鍍+雷雕
C83: C31985-2-80 | D83: 250 | E83: 86 | F83: =E83 -> 86 | G83: =$D$83-F83 -> 164 | H83: 46259 | I83: 250 | J83: WWMJ6CA-24.0 | L83: 17D | M83: M01150805011 | Q83: 9/4出貨 | R83: 剖溝+電鍍+雷雕
A84: 46253 | B84: =A84 -> 46253 | E84: 173 | F84: =E84+F83 -> 259 | G84: =$D$83-F84 -> -9
C85: C30739-2-80 | D85: 400 | E85: 409 | F85: =E85 -> 409 | G85: =$D$85-F85 -> -9 | H85: 46259 | I85: 200 | J85: WWMJ6CA-24.0 | L85: 17D | M85: M01150805033 | Q85: 9/4出貨 | R85: 剖溝+沖齒
H86: 46272 | I86: 200 | J86: WWMJ6CA-24.0 | L86: 17D | M86: M01150811225 | Q86: 9/21出貨 | R86: 剖溝+沖齒
C87: C30708-2-80 | D87: 200 | E87: 178 | F87: =E87 -> 178 | G87: =$D$87-F87 -> 22 | H87: 46272 | I87: 200 | J87: WWMJ6CA-24.0 | L87: 17C.17D | M87: M01150811249 | Q87: 9/21出貨 | R87: 剖溝+沖齒
A88: 46254 | B88: =A88 -> 46254 | E88: 31 | F88: =E88+F87 -> 209 | G88: =$D$87-F88 -> -9
C89: C30709-2-80 | D89: 100 | E89: 102 | F89: =E89 -> 102 | G89: =$D$89-F89 -> -2 | H89: 46261 | I89: 100 | J89: WWMJ6CA-24.0 | L89: 17D | M89: M01150806075 | Q89: 9/7出貨 | R89: 沖角+雷雕
C90: C30145-2-80 | D90: 550 | E90: 300 | F90: =E90 -> 300 | G90: =$D$90-F90 -> 250 | H90: 46265 | I90: 550 | J90: WWMJ6CA-24.0 | K90: 46245 | L90: 17C | M90: M01150728073 | Q90: 9/17出貨 | R90: 剖溝+電鍍
A91: 46255 | B91: =A91 -> 46255 | E91: 364 | F91: =F90+E91 -> 664 | G91: =$D$90-F91 -> -114
C92: W30811-2-80 | D92: 1000 | E92: 36 | F92: =E92 -> 36 | G92: =$D$92-F92 -> 964 | H92: 46258 | I92: 1000 | J92: WWMJ4CA-32.0 | K92: 46251 | L92: 21D | M92: M01150807103 | Q92: 9/7出貨 | R92: 攻牙
A93: 46256 | B93: =A93 -> 46256 | E93: 439 | F93: =F92+E93 -> 475 | G93: =$D$92-F93 -> 525
A94: 46257 | B94: =A94 -> 46257 | E94: 440 | F94: =F93+E94 -> 915 | G94: =$D$92-F94 -> 85
A95: 46258 | B95: =A95 -> 46258 | E95: 104 | F95: =F94+E95 -> 1019 | G95: =$D$92-F95 -> -19
C96: C31430-2CP-80 | D96: =I100 -> 531 | E96: 291 | F96: =E96 -> 291 | G96: =$D$96-F96 -> 240 | H96: 46265 | I96: 500 | J96: WWMJ6CA-24.0 | L96: 17D | M96: M01150728080 | Q96: 9/17出貨 | R96: 沖齒+電鍍+雷雕
A97: 46259 | B97: =A97 -> 46259 | E97: 262 | F97: =E97+F96 -> 553 | G97: =$D$96-F97 -> -22 | H97: 46268 | I97: 150 | J97: WWMJ6CA-24.0 | L97: 17D | M97: M01150811243 | N97: 8/14-SCH | Q97: 9/21出貨 | R97: 沖齒+電鍍+雷雕
A98: 46260 | B98: =A98 -> 46260 | E98: 106 | F98: =E98+F97 -> 659 | G98: =$D$96-F98 -> -128 | H98: 46282 | I98: 400 | J98: WWMJ6CA-24.0 | M98: M01150821277 | N98: 8/24-SCH | Q98: 10/5出貨 | R98: 沖齒+電鍍+雷雕
H99: C1 | I99: 519
H100: C1-1 | I100: 531
...

Sheet C33
A1: 日期 | C1: 品名 | D1: 投產數 | E1: 當日產量 | F1: 累積產量 | G1: 未生產數 | H1: 預交日 | I1: 訂單數量 | J1: 銅條 | K1: 進料日 | L1: 架位 | M1: 工令單號 | N1: 實際入庫 | O1: 差異 | P1: 單重 | Q1: 備註(出貨日) | R1: 後製程
A2: 46173 | B2: =A2 -> 46173 | C2: B0.2082.1-80 | D2: 9000 | E2: 749 | F2: =E2 -> 749 | G2: =$D$2-F2 -> 8251 | H2: 46181 | I2: 9000 | J2: WWMJ4A-21*C15.5 | K2: 46154 | M2: M01150424026 | N2: 4/29-SCH | Q2: 6/22出貨 | R2: 電鍍
A3: 46174 | B3: =A3 -> 46174 | E3: 1900 | F3: =F2+E3 -> 2649 | G3: =$D$2-F3 -> 6351
A4: 46175 | B4: =A4 -> 46175 | E4: 1826 | F4: =F3+E4 -> 4475 | G4: =$D$2-F4 -> 4525
A5: 46176 | B5: =A5 -> 46176 | E5: 1836 | F5: =F4+E5 -> 6311 | G5: =$D$2-F5 -> 2689
A6: 46177 | B6: =A6 -> 46177 | E6: 1893 | F6: =F5+E6 -> 8204 | G6: =$D$2-F6 -> 796
A7: 46178 | B7: =A7 -> 46178 | E7: 796 | F7: =F6+E7 -> 9000 | G7: =$D$2-F7 -> 0
C8: B0.2082.1-80 | D8: 30000 | E8: 1101 | F8: =E8 -> 1101 | G8: =$D$8-F8 -> 28899 | H8: 46195 | I8: 30000 | J8: WWMJ4A-21*C15.5 | K8: 46178 | L8: 13B | M8: M01150520063 | N8: 6/3-SCH | Q8: 7/6出貨 | R8: 電鍍
A9: 46179 | B9: =A9 -> 46179 | E9: 1890 | F9: =F8+E9 -> 2991 | G9: =$D$8-F9 -> 27009
A10: 46180 | B10: =A10 -> 46180 | E10: 1900 | F10: =F9+E10 -> 4891 | G10: =$D$8-F10 -> 25109
A11: 46181 | B11: =A11 -> 46181 | E11: 1881 | F11: =F10+E11 -> 6772 | G11: =$D$8-F11 -> 23228
A12: 46182 | B12: =A12 -> 46182 | E12: 1905 | F12: =F11+E12 -> 8677 | G12: =$D$8-F12 -> 21323
A13: 46183 | B13: =A13 -> 46183 | E13: 1900 | F13: =F12+E13 -> 10577 | G13: =$D$8-F13 -> 19423
A14: 46184 | B14: =A14 -> 46184 | E14: 1886 | F14: =F13+E14 -> 12463 | G14: =$D$8-F14 -> 17537
A15: 46185 | B15: =A15 -> 46185 | E15: 1882 | F15: =F14+E15 -> 14345 | G15: =$D$8-F15 -> 15655
A16: 46186 | B16: =A16 -> 46186 | E16: 1897 | F16: =F15+E16 -> 16242 | G16: =$D$8-F16 -> 13758
A17: 46187 | B17: =A17 -> 46187 | E17: 1905 | F17: =F16+E17 -> 18147 | G17: =$D$8-F17 -> 11853
A18: 46188 | B18: =A18 -> 46188 | E18: 1868 | F18: =F17+E18 -> 20015 | G18: =$D$8-F18 -> 9985
A19: 46189 | B19: =A19 -> 46189 | E19: 1880 | F19: =F18+E19 -> 21895 | G19: =$D$8-F19 -> 8105
A20: 46190 | B20: =A20 -> 46190 | E20: 1785 | F20: =F19+E20 -> 23680 | G20: =$D$8-F20 -> 6320
... A25: 46195 | B25: =A25 -> 46195 | E25: 169 | F25: =F24+E25 -> 31400 | G25: =$D$8-F25 -> -1400
C26: B0.1012.1-80 | D26: =I26+I27 -> 2000 | E26: 1393 | F26: =E26 -> 1393 | G26: =$D$26-F26 -> 607 | H26: 46202 | I26: 1000 | J26: WWMJ4A-24.05*C19 | K26: 46197 | L26: V5 | M26: M01150610038 | Q26: 7/15出貨 | R26: 打字+電鍍+委外組立
A27: 46196 | B27: =A27 -> 46196 | E27: 765 | F27: =F26+E27 -> 2158 | G27: =$D$26-F27 -> -158 | H27: 46202 | I27: 1000 | J27: WWMJ4A-24.05*C19 | K27: 46197 | L27: V5 | M27: M01150610041 | Q27: 7/15出貨 | R27: 打字+電鍍+委外組立
C28: BY.0083.1-80 | D28: 19200 | E28: 1036 | F28: =E28 -> 1036 | G28: =$D$28-F28 -> 18164 | H28: 46209 | I28: 20000 | J28: WWMJ4A-24.05*C19 | K28: 46197 | L28: V5 | M28: M01150527027 | Q28: 7/20出貨 | R28: 電鍍
A29: 46197 | B29: =A29 -> 46197 | C29: 試電 | E29: 2094 | F29: =F28+E29 -> 3130 | G29: =$D$28-F29 -> 16070 | H29: NG
A30: 46198 | B30: =A30 -> 46198 | E30: 2062 | F30: =F29+E30 -> 5192 | G30: =$D$28-F30 -> 14008
A31: 46199 | B31: =A31 -> 46199 | E31: 2127 | F31: =F30+E31 -> 7319 | G31: =$D$28-F31 -> 11881
A32: 46200 | B32: =A32 -> 46200 | E32: 2009 | F32: =F31+E32 -> 9328 | G32: =$D$28-F32 -> 9872
A33: 46201 | B33: =A33 -> 46201 | E33: 1748 | F33: =F32+E33 -> 11076 | G33: =$D$28-F33 -> 8124
A34: 46202 | B34: =A34 -> 46202 | E34: 2054 | F34: =F33+E34 -> 13130 | G34: =$D$28-F34 -> 6070
A35: 46203 | B35: =A35 -> 46203 | E35: 2160 | F35: =F34+E35 -> 15290 | G35: =$D$28-F35 -> 3910
A36: 46204 | B36: =A36 -> 46204 | E36: 2076 | F36: =F35+E36 -> 17366 | G36: =$D$28-F36 -> 1834
A37: 46205 | B37: =A37 -> 46205 | E37: 2146 | F37: =F36+E37 -> 19512 | G37: =$D$28-F37 -> -312
A38: 46206 | B38: =A38 -> 46206 | C38: GY.3462.1-80 | D38: 4100 | E38: 767 | F38: =E38 -> 767 | G38: =$D$38-F38 -> 3333 | H38: 46191 | I38: 7000 | J38: WWMJ6CA-27.0 | K38: 46191 | L38: 19C | M38: M01150515023 | Q38: 7/6出貨 | R38: 電鍍
A39: 46207 | B39: =A39 -> 46207 | E39: 1196 | F39: =E39+F38 -> 1963 | G39: =$D$38-F39 -> 2137 | H39: C29 | I39: 3126
A40: 46208 | B40: =A40 -> 46208 | E40: 1196 | F40: =E40+F39 -> 3159 | G40: =$D$38-F40 -> 941 | H40: C33 | I40: 3874
A41: 46209 | B41: =A41 -> 46209 | E41: 1033 | F41: =E41+F40 -> 4192 | G41: =$D$38-F41 -> -92
A42: 46210 | B42: =A42 -> 46210 | C42: B0.2092.1-80 | D42: 27653 | E42: 1456 | F42: =E42 -> 1456 | G42: =$D$42-F42 -> 26197 | H42: 2026/07/20 | I42: 27653 | J42: WWMJ4A-21*C15.5 | K42: 46190 | L42: 13B | M42: M01150602024 | Q42: 8/3出貨 | R42: 電鍍
A43: 46211 | B43: =A43 -> 46211 | E43: 1977 | F43: =F42+E43 -> 3433 | G43: =$D$42-F43 -> 24220
A44: 46212 | B44: =A44 -> 46212 | E44: 1971 | F44: =F43+E44 -> 5404 | G44: =$D$42-F44 -> 22249
A45: 46213 | B45: =A45 -> 46213 | E45: 1976 | F45: =F44+E45 -> 7380 | G45: =$D$42-F45 -> 20273
A46: 46214 | B46: =A46 -> 46214 | E46: 1766 | F46: =F45+E46 -> 9146 | G46: =$D$42-F46 -> 18507
A47: 46215 | B47: =A47 -> 46215 | E47: 2164 | F47: =F46+E47 -> 11310 | G47: =$D$42-F47 -> 16343
A48: 46216 | B48: =A48 -> 46216 | E48: 1900 | F48: =F47+E48 -> 13210 | G48: =$D$42-F48 -> 14443
A49: 46217 | B49: =A49 -> 46217 | E49: 1955 | F49: =F48+E49 -> 15165 | G49: =$D$42-F49 -> 12488
A50: 46218 | B50: =A50 -> 46218 | E50: 1970 | F50: =F49+E50 -> 17135 | G50: =$D$42-F50 -> 10518
A51: 46219 | B51: =A51 -> 46219 | E51: 1960 | F51: =F50+E51 -> 19095 | G51: =$D$42-F51 -> 8558
A52: 46220 | B52: =A52 -> 46220 | E52: 1973 | F52: =F51+E52 -> 21068 | G52: =$D$42-F52 -> 6585
A53: 46221 | B53: =A53 -> 46221 | E53: 1931 | F53: =F52+E53 -> 22999 | G53: =$D$42-F53 -> 4654
A54: 46222 | B54: =A54 -> 46222 | E54: 1969 | F54: =F53+E54 -> 24968 | G54: =$D$42-F54 -> 2685
... A56: 46224 | B56: =A56 -> 46224 | E56: 719 | F56: =F55+E56 -> 27653 | G56: =$D$42-F56 -> 0
C57: B0.2092.1-80 | D57: =I59 -> 7950 | E57: 1220 | F57: =E57 -> 1220 | G57: =$D$57-F57 -> 6730 | H57: 2026/08/10 | I57: 5950 | J57: WWMJ4A-21*C15.5 | L57: 13A.13B | M57: M01150708228 | N57: 7/16-SCH | Q57: 8/31出貨 | R57: 剖溝+電鍍
A58: 46225 | B58: =A58 -> 46225 | E58: 419 | F58: =F57+E58 -> 1639 | G58: =$D$57-F58 -> 6311 | H58: 46259 | I58: 2000 | J58: WWMJ4A-21*C15.5 | L58: 13A.13B | M58: M01150717182 | Q58: 9/14出貨 | R58: 剖溝+電鍍
I59: =SUM(I57:I58) -> 7950
H60: C33 | I60: 1639
H61: C13 | I61: 5758
C62: 50.8011.20140-80 | D62: 5500 | E62: 963 | F62: =E62 -> 963 | G62: =$D$62-+F62 -> 4537 | H62: 46230 | I62: 5500 | J62: WWHD4CH-15.87 | L62: B1-2 | M62: M01150708213 | Q62: 8/6出貨 | R62: 熱處理+電鍍
A63: 46226 | B63: =A63 -> 46226 | E63: 1488 | F63: =F62+E63 -> 2451 | G63: =$D$62-+F63 -> 3049
A64: 46227 | B64: =A64 -> 46227 | E64: 1490 | F64: =F63+E64 -> 3941 | G64: =$D$62-+F64 -> 1559
A65: 46228 | B65: =A65 -> 46228 | E65: 1498 | F65: =F64+E65 -> 5439 | G65: =$D$62-+F65 -> 61
A66: 46229 | B66: =A66 -> 46229 | E66: 111 | F66: =F65+E66 -> 5550 | G66: =$D$62-+F66 -> -50
C67: 50.8010.99770-80 | D67: =I72 -> 56839 | E67: 450 | F67: =E67 -> 450 | G67: =$D$67-F67 -> 56389 | H67: 46238 | I67: 136100 | J67: WWHD4CH-15.87 | K67: 46205 | L67: B1-2 | M67: M01150616034 | Q67: 7/16出貨-10000 | R67: 熱處理+電鍍
A68: 46230 | B68: =A68 -> 46230 | E68: 1444 | F68: =F67+E68 -> 1894 | G68: =$D$67-F68 -> 54945 | H68: 46244 | I68: 140000 | J68: WWHD4CH-15.87 | K68: 46226 | L68: B1-2 | M68: M01150616035 | Q68: 7/23出貨-10000 | R68: 熱處理+電鍍
A69: 46231 | B69: =A69 -> 46231 | E69: 1476 | F69: =F68+E69 -> 3370 | G69: =$D$67-F69 -> 53469 | H69: 46272 | I69: 140000 | J69: WWHD4CH-15.87 | K69: 46244 | L69: I1-2.I1-3 | M69: M01150616036 | Q69: 7/30出貨-20000 | R69: 熱處理+電鍍
A70: 46232 | B70: =A70 -> 46232 | E70: 1476 | F70: =F69+E70 -> 4846 | G70: =$D$67-F70 -> 51993 | H70: 46300 | I70: 140000 | J70: WWHD4CH-15.87 | K70: 46259 | L70: B1-3.B1-4 | M70: M01150616037 | Q70: 8/6出貨-20000 | R70: 熱處理+電鍍
A71: 46233 | B71: =A71 -> 46233 | E71: 1479 | F71: =F70+E71 -> 6325 | G71: =$D$67-F71 -> 50514 | I71: =SUM(I67:I70) -> 556100 | Q71: 8/13出貨-40000 | R71: 熱處理+電鍍
A72: 46234 | B72: =A72 -> 46234 | E72: 1473 | F72: =F71+E72 -> 7798 | G72: =$D$67-F72 -> 49041 | H72: C33 | I72: 56839 | Q72: 8/27出貨-60000 | R72: 熱處理+電鍍
A73: 46235 | B73: =A73 -> 46235 | E73: 1480 | F73: =F72+E73 -> 9278 | G73: =$D$67-F73 -> 47561 | H73: C21 | I73: 172000 | Q73: 9/3出貨-40000 | R73: 熱處理+電鍍
A74: 46236 | B74: =A74 -> 46236 | E74: 1478 | F74: =F73+E74 -> 10756 | G74: =$D$67-F74 -> 46083 | H74: C22 | I74: 90184 | Q74: 9/11出貨-26000 | R74: 熱處理+電鍍
A75: 46237 | B75: =A75 -> 46237 | E75: 1477 | F75: =F74+E75 -> 12233 | G75: =$D$67-F75 -> 44606 | H75: C2 | I75: 70077
A76: 46238 | B76: =A76 -> 46238 | E76: 1480 | F76: =F75+E76 -> 13713 | G76: =$D$67-F76 -> 43126 | H76: C3 | I76: 69097
A77: 46239 | B77: =A77 -> 46239 | E77: 1462 | F77: =F76+E77 -> 15175 | G77: =$D$67-F77 -> 41664 | H77: V3 | I77: 97903
A78: 46240 | B78: =A78 -> 46240 | E78: 1478 | F78: =F77+E78 -> 16653 | G78: =$D$67-F78 -> 40186 | I78: =SUM(I72:I77) -> 556100
A79: 46241 | B79: =A79 -> 46241 | E79: 1474 | F79: =F78+E79 -> 18127 | G79: =$D$67-F79 -> 38712
A80: 46242 | B80: =A80 -> 46242 | E80: 1478 | F80: =F79+E80 -> 19605 | G80: =$D$67-F80 -> 37234
A81: 46243 | B81: =A81 -> 46243 | E81: 1480 | F81: =F80+E81 -> 21085 | G81: =$D$67-F81 -> 35754
A82: 46244 | B82: =A82 -> 46244 | E82: 1479 | F82: =F81+E82 -> 22564 | G82: =$D$67-F82 -> 34275
A83: 46245 | B83: =A83 -> 46245 | E83: 1479 | F83: =F82+E83 -> 24043 | G83: =$D$67-F83 -> 32796
A84: 46246 | B84: =A84 -> 46246 | E84: 1477 | F84: =F83+E84 -> 25520 | G84: =$D$67-F84 -> 31319
A85: 46247 | B85: =A85 -> 46247 | E85: 1480 | F85: =F84+E85 -> 27000 | G85: =$D$67-F85 -> 29839
A86: 46248 | B86: =A86 -> 46248 | E86: 1473 | F86: =F85+E86 -> 28473 | G86: =$D$67-F86 -> 28366
A87: 46249 | B87: =A87 -> 46249 | E87: 1483 | F87: =F86+E87 -> 29956 | G87: =$D$67-F87 -> 26883
A88: 46250 | B88: =A88 -> 46250 | E88: 1483 | F88: =F87+E88 -> 31439 | G88: =$D$67-F88 -> 25400
A89: 46251 | B89: =A89 -> 46251 | E89: 1483 | F89: =F88+E89 -> 32922 | G89: =$D$67-F89 -> 23917
A90: 46252 | B90: =A90 -> 46252 | E90: 1481 | F90: =F89+E90 -> 34403 | G90: =$D$67-F90 -> 22436
... A106: 46268 | B106: =A106 -> 46268 | E106: 209 | F106: =F105+E106 -> 56839 | G106: =$D$67-F106 -> 0
C107: B0.A072.1-80 | D107: 7200 | E107: 593 | F107: =E107 -> 593 | G107: =$D$107-F107 -> 6607 | H107: 46265 | I107: 7200 | J107: WWMJ4CA-24 | K107: 46241 | L107: 25C | M107: M01150728249 | Q107: 9/20出貨 | R107: 滾字+電鍍
A108: 46269 | B108: =A108 -> 46269 | E108: 920 | F108: =F107+E108 -> 1513 | G108: =$D$107-F108 -> 5687
A109: 46270 | B109: =A109 -> 46270 | E109: 916 | F109: =F108+E109 -> 2429 | G109: =$D$107-F109 -> 4771
A110: 46271 | B110: =A110 -> 46271 | E110: 901 | F110: =F109+E110 -> 3330 | G110: =$D$107-F110 -> 3870
A111: 46272 | B111: =A111 -> 46272 | E111: 952 | F111: =F110+E111 -> 4282 | G111: =$D$107-F111 -> 2918
A112: 46273 | B112: =A112 -> 46273 | E112: 954 | F112: =F111+E112 -> 5236 | G112: =$D$107-F112 -> 1964
A113: 46274 | B113: =A113 -> 46274 | E113: 955 | F113: =F112+E113 -> 6191 | G113: =$D$107-F113 -> 1009
A114: 46275 | B114: =A114 -> 46275 | E114: 945 | F114: =F113+E114 -> 7136 | G114: =$D$107-F114 -> 64
A115: 46276 | B115: =A115 -> 46276 | E115: 64 | F115: =F114+E115 -> 7200 | G115: =$D$107-F115 -> 0
C116: B0.A072.1-80 | D116: =I119 -> 14900 | E116: 892 | F116: =E116 -> 892 | G116: =$D$116-F116 -> 14008 | H116: 46274 | I116: 900 | J116: WWMJ4CA-24 | L116: 25C | M116: M01150807290 | N116: 9/7-SCH | Q116: 9/28出貨 | R116: 滾字+電鍍
A117: 46277 | B117: =A117 -> 46277 | E117: 960 | F117: =F116+E117 -> 1852 | G117: =$D$116-F117 -> 13048 | H117: 46286 | I117: 13000 | J117: WWMJ4CA-24 | K117: 46265 | L117: 25C | M117: M01150812033 | N117: 9/7-SCH | Q117: 10/12出貨 | R117: 滾字+電鍍
A118: 46278 | B118: =A118 -> 46278 | E118: 955 | F118: =F117+E118 -> 2807 | G118: =$D$116-F118 -> 12093 | H118: 46300 | I118: 1000 | J118: WWMJ4CA-24 | K118: 46272 | L118: 25C | M118: M01150824057 | N118: 9/7-SCH | Q118: 10/26出貨 | R118: 滾字+電鍍
A119: 46279 | B119: =A119 -> 46279 | E119: 928 | F119: =F118+E119 -> 3735 | G119: =$D$116-F119 -> 11165 | I119: =SUM(I116:I118) -> 14900
A120: 46280 | B120: =A120 -> 46280 | E120: 945 | F120: =F119+E120 -> 4680 | G120: =$D$116-F120 -> 10220
...

Sheet C2
A1: 日期 | C1: 品名(42圓) | D1: 投產數 | E1: 當日產量 | F1: 累積產量 | G1: 未生產數 | H1: 預交日 | I1: 訂單數量 | J1: 銅條 | K1: 進料日 | L1: 架位 | M1: 工令單號 | N1: 實際入庫 | O1: 差異 | P1: 單重 | Q1: 備註(出貨日) | R1: 後製程
A2: 46177 | B2: =A2 -> 46177 | C2: R10300-80 | D2: 1750 | E2: 286 | F2: =E2 -> 286 | G2: =$D$2-F2 -> 1464 | H2: 46180 | I2: 1750 | J2: WWMUICA-27.0 | L2: 木箱 | M2: M01150407149 | Q2: 6/8出貨 | R2: 補數量不足
A3: 46178 | B3: =A3 -> 46178 | E3: 493 | F3: =F2+E3 -> 779 | G3: =$D$2-F3 -> 971
A4: 46179 | B4: =A4 -> 46179 | E4: 495 | F4: =F3+E4 -> 1274 | G4: =$D$2-F4 -> 476
A5: 46180 | B5: =A5 -> 46180 | E5: 495 | F5: =F4+E5 -> 1769 | G5: =$D$2-F5 -> -19
A6: 46181 | B6: =A6 -> 46181 | E6: 24 | F6: =F5+E6 -> 1793 | G6: =$D$2-F6 -> -43
C7: R10314-80 | D7: =I9 -> 4851 | E7: 295 | F7: =E7 -> 295 | G7: =$D$7-F7 -> 4556 | H7: 46188 | I7: 4800 | J7: WWMUICA-27.0 | L7: 木箱 | M7: M01150525017 | Q7: 6/29出貨 | R7: 沖角+拋光+電鍍
A8: 46182 | B8: =A8 -> 46182 | E8: 385 | F8: =F7+E8 -> 680 | G8: =$D$7-F8 -> 4171 | H8: NG | I8: 51
A9: 46183 | B9: =A9 -> 46183 | E9: 385 | F9: =F8+E9 -> 1065 | G9: =$D$7-F9 -> 3786 | I9: =SUM(I7:I8) -> 4851
A10: 46184 | B10: =A10 -> 46184 | E10: 385 | F10: =F9+E10 -> 1450 | G10: =$D$7-F10 -> 3401
A11: 46185 | B11: =A11 -> 46185 | E11: 385 | F11: =F10+E11 -> 1835 | G11: =$D$7-F11 -> 3016
A12: 46186 | B12: =A12 -> 46186 | E12: 386 | F12: =F11+E12 -> 2221 | G12: =$D$7-F12 -> 2630
A13: 46187 | B13: =A13 -> 46187 | E13: 385 | F13: =F12+E13 -> 2606 | G13: =$D$7-F13 -> 2245
A14: 46188 | B14: =A14 -> 46188 | E14: 386 | F14: =F13+E14 -> 2992 | G14: =$D$7-F14 -> 1859
A15: 46189 | B15: =A15 -> 46189 | E15: 375 | F15: =F14+E15 -> 3367 | G15: =$D$7-F15 -> 1484
A16: 46190 | B16: =A16 -> 46190 | E16: 385 | F16: =F15+E16 -> 3752 | G16: =$D$7-F16 -> 1099
A17: 46191 | B17: =A17 -> 46191 | E17: 386 | F17: =F16+E17 -> 4138 | G17: =$D$7-F17 -> 713
A18: 46192 | B18: =A18 -> 46192 | E18: 386 | F18: =F17+E18 -> 4524 | G18: =$D$7-F18 -> 327
A19: 46193 | B19: =A19 -> 46193 | E19: 387 | F19: =F18+E19 -> 4911 | G19: =$D$7-F19 -> -60
A20: 46194 | B20: =A20 -> 46194 | E20: 169 | G20: =$D$7-F20 -> #VALUE!
C21: VXR-4-80 | D21: =I30 -> 25093 | E21: 467 | F21: =E21 -> 467 | G21: =$D$21-F21 -> 24626 | H21: 46181 | I21: 600 | J21: WWHJ4CA-20.5 | L21: H1-4 | M21: M01150422024 | Q21: 6/29出貨-1449
A22: 46195 | B22: =A22 -> 46195 | E22: 1023 | F22: =F21+E22 -> 1490 | G22: =$D$21-F22 -> 23603 | H22: 46198 | I22: 3165 | J22: WWHJ4CA-20.5 | L22: H1-4 | M22: M01150409205 | Q22: 7/1出貨-250
A23: 46196 | B23: =A23 -> 46196 | E23: 1026 | F23: =F22+E23 -> 2516 | G23: =$D$21-F23 -> 22577 | H23: 46206 | I23: 18500 | J23: WWHJ4CA-20.5 | L23: H1-4 | M23: M01150507162 | Q23: 7/3出貨-11940
A24: 46197 | B24: =A24 -> 46197 | E24: 1028 | F24: =F23+E24 -> 3544 | G24: =$D$21-F24 -> 21549 | H24: 46198 | I24: 10000 | J24: WWHJ4CA-20.5 | K24: 46177 | L24: H1-4 | M24: M01150522214 | Q24: 7/6出貨-10400
A25: 46198 | B25: =A25 -> 46198 | E25: 1027 | F25: =F24+E25 -> 4571 | G25: =$D$21-F25 -> 20522 | H25: 46204 | I25: 10000 | J25: WWHJ4CA-20.5 | K25: 46189 | L25: H1-4 | M25: M01150601112 | Q25: 7/13出貨-4584
A26: 46199 | B26: =A26 -> 46199 | E26: 1026 | F26: =F25+E26 -> 5597 | G26: =$D$21-F26 -> 19496 | H26: 46216 | I26: 10000 | J26: WWHJ4CA-20.5 | K26: 46197 | L26: H1-4 | M26: M01150611076 | Q26: 7/15出貨-1800
A27: 46200 | B27: =A27 -> 46200 | E27: 1029 | F27: =F26+E27 -> 6626 | G27: =$D$21-F27 -> 18467 | H27: 46227 | I27: 10000 | J27: WWHJ4CA-20.5 | K27: 46217 | L27: H1-4 | M27: M01150618016
A28: 46201 | B28: =A28 -> 46201 | E28: 874 | F28: =F27+E28 -> 7500 | G28: =$D$21-F28 -> 17593 | H28: 46244 | I28: 10000 | J28: WWHJ4CA-20.5 | K28: 46217 | L28: H1-4 | M28: M01150618035
A29: 46202 | B29: =A29 -> 46202 | E29: 956 | F29: =F28+E29 -> 8456 | G29: =$D$21-F29 -> 16637 | I29: =SUM(I21:I28) -> 72265
A30: 46203 | B30: =A30 -> 46203 | E30: 954 | F30: =F29+E30 -> 9410 | G30: =$D$21-F30 -> 15683 | H30: C2 | I30: 25093
A31: 46204 | B31: =A31 -> 46204 | E31: 957 | F31: =F30+E31 -> 10367 | G31: =$D$21-F31 -> 14726 | H31: C32 | I31: 26806
A32: 46205 | B32: =A32 -> 46205 | E32: 957 | F32: =F31+E32 -> 11324 | G32: =$D$21-F32 -> 13769 | H32: C18 | I32: 20366
A33: 46206 | B33: =A33 -> 46206 | E33: 987 | F33: =F32+E33 -> 12311 | G33: =$D$21-F33 -> 12782 | I33: =SUM(I30:I32) -> 72265
A34: 46207 | B34: =A34 -> 46207 | E34: 1028 | F34: =F33+E34 -> 13339 | G34: =$D$21-F34 -> 11754
A35: 46208 | B35: =A35 -> 46208 | E35: 1025 | F35: =F34+E35 -> 14364 | G35: =$D$21-F35 -> 10729
A36: 46209 | B36: =A36 -> 46209 | E36: 1026 | F36: =F35+E36 -> 15390 | G36: =$D$21-F36 -> 9703
A37: 46210 | B37: =A37 -> 46210 | E37: 1013 | F37: =F36+E37 -> 16403 | G37: =$D$21-F37 -> 8690
A38: 46211 | B38: =A38 -> 46211 | E38: 1029 | F38: =F37+E38 -> 17432 | G38: =$D$21-F38 -> 7661
A39: 46212 | B39: =A39 -> 46212 | E39: 1010 | F39: =F38+E39 -> 18442 | G39: =$D$21-F39 -> 6651
A40: 46213 | B40: =A40 -> 46213 | E40: 993 | F40: =F39+E40 -> 19435 | G40: =$D$21-F40 -> 5658
A41: 46214 | B41: =A41 -> 46214 | E41: 965 | F41: =F40+E41 -> 20400 | G41: =$D$21-F41 -> 4693
A42: 46215 | B42: =A42 -> 46215 | E42: 1021 | F42: =F41+E42 -> 21421 | G42: =$D$21-F42 -> 3672
A43: 46216 | B43: =A43 -> 46216 | E43: 1012 | F43: =F42+E43 -> 22433 | G43: =$D$21-F43 -> 2660
A44: 46217 | B44: =A44 -> 46217 | E44: 958 | F44: =F43+E44 -> 23391 | G44: =$D$21-F44 -> 1702
A45: 46218 | B45: =A45 -> 46218 | E45: 1011 | F45: =F44+E45 -> 24402 | G45: =$D$21-F45 -> 691
A46: 46219 | B46: =A46 -> 46219 | E46: 691 | F46: =F45+E46 -> 25093 | G46: =$D$21-F46 -> 0
C47: SP8309-80 | D47: 300 | E47: 248 | F47: =E47 -> 248 | G47: =$D$47-F47 -> 52 | H47: 46234 | I47: 300 | J47: WWMJ4CA-23.0 | L47: 21B | M47: M01150702112 | Q47: 8/10出貨
A48: 46220 | B48: =A48 -> 46220 | E48: 168 | F48: =E48+F47 -> 416 | G48: =$D$47-F48 -> -116
C49: SP8012-80 | D49: =I60 -> 31600 | E49: 696 | F49: =E49 -> 696 | G49: =$D$49-F49 -> 30904 | H49: 46222 | I49: 1800 | J49: WWMJ4CA-17.5 | K49: 46175 | L49: 23A | M49: M01150518158 | Q49: 7/24出貨-2828
A50: 46221 | B50: =A50 -> 46221 | E50: 1048 | F50: =F49+E50 -> 1744 | G50: =$D$49-F50 -> 29856 | H50: 46223 | I50: 1200 | J50: WWMJ4CA-17.5 | K50: 46182 | L50: 23C | M50: M01150601172 | Q50: 7/27出貨-480
A51: 46222 | B51: =A51 -> 46222 | E51: 1046 | F51: =F50+E51 -> 2790 | G51: =$D$49-F51 -> 28810 | H51: 46223 | I51: 500 | J51: WWMJ4CA-17.5 | K51: 46182 | L51: 23C | M51: M01150603115 | Q51: 8/21出貨-6246
A52: 46223 | B52: =A52 -> 46223 | E52: 1048 | F52: =F51+E52 -> 3838 | G52: =$D$49-F52 -> 27762 | H52: 46218 | I52: 300 | J52: WWMJ4CA-17.5 | K52: 46182 | L52: 23C | M52: M01150605072 | Q52: 8/7出貨-3060
A53: 46224 | B53: =A53 -> 46224 | E53: 1048 | F53: =F52+E53 -> 4886 | G53: =$D$49-F53 -> 26714 | H53: 46219 | I53: 3300 | J53: WWMJ4CA-17.5 | K53: 46199 | L53: 23C | M53: M01150615094 | Q53: 9/18出貨-3834
A54: 46225 | B54: =A54 -> 46225 | E54: 61 | F54: =F53+E54 -> 4947 | G54: =$D$49-F54 -> 26653 | H54: 46219 | I54: 5000 | J54: WWMJ4CA-17.5 | K54: 46199 | L54: 23C | M54: M01150618072 | Q54: 10/23出貨-2592
H55: 46254 | I55: 12000 | J55: WWMJ4CA-17.5 | K55: 46199 | L55: 23C | M55: M01150618087 | Q55: 11/20出貨-2592
H56: 46230 | I56: 1000 | J56: WWMJ4CA-17.5 | K56: 46209 | L56: 24A | M56: M01150625074 | Q56: 12/21出貨-2592
H57: 46314 | I57: 1000 | J57: WWMJ4CA-17.5 | K57: 46209 | L57: 24A | M57: M01150626079
H58: 46241 | I58: 4500 | J58: WWMJ4CA-17.5 | K58: 46211 | L58: 24A | M58: M01150706026
H59: 46237 | I59: 1000 | J59: WWMJ4CA-17.5 | K59: 46211 | L59: 24A | M59: M01150626216
I60: =SUM(I49:I59) -> 31600
C61: 50.8010.99770-80 | D61: =I69 -> 70077 | E61: 790 | F61: =E61 -> 790 | G61: =$D$61-F61 -> 69287 | H61: 46238 | I61: 136100 | J61: WWHD4CH-15.87 | K61: 46205 | L61: B1-2 | M61: M01150616034 | Q61: 7/16出貨-10000 | R61: 熱處理+電鍍
A62: 46226 | B62: =A62 -> 46226 | E62: 1158 | F62: =F61+E62 -> 1948 | G62: =$D$61-F62 -> 68129 | H62: 46244 | I62: 140000 | J62: WWHD4CH-15.87 | K62: 46226 | L62: B1-2 | M62: M01150616035 | Q62: 7/23出貨-10000 | R62: 熱處理+電鍍
A63: 46227 | B63: =A63 -> 46227 | E63: 1177 | F63: =F62+E63 -> 3125 | G63: =$D$61-F63 -> 66952 | H63: 46272 | I63: 140000 | J63: WWHD4CH-15.87 | K63: 46244 | L63: I1-2.I1-3 | M63: M01150616036 | Q63: 7/30出貨-20000 | R63: 熱處理+電鍍
A64: 46228 | B64: =A64 -> 46228 | E64: 1170 | F64: =F63+E64 -> 4295 | G64: =$D$61-F64 -> 65782 | H64: 46300 | I64: 140000 | J64: WWHD4CH-15.87 | K64: 46259 | L64: B1-3.B1-4 | M64: M01150616037 | Q64: 8/6出貨-20000 | R64: 熱處理+電鍍
A65: 46229 | B65: =A65 -> 46229 | E65: 1155 | F65: =F64+E65 -> 5450 | G65: =$D$61-F65 -> 64627 | I65: =SUM(I61:I64) -> 556100 | Q65: 8/13出貨-40000 | R65: 熱處理+電鍍
A66: 46230 | B66: =A66 -> 46230 | E66: 1155 | F66: =F65+E66 -> 6605 | G66: =$D$61-F66 -> 63472 | H66: C33 | I66: 56839 | Q66: 8/27出貨-60000 | R66: 熱處理+電鍍
A67: 46231 | B67: =A67 -> 46231 | E67: 1170 | F67: =F66+E67 -> 7775 | G67: =$D$61-F67 -> 62302 | H67: C21 | I67: 172000 | Q67: 9/3出貨-40000 | R67: 熱處理+電鍍
A68: 46232 | B68: =A68 -> 46232 | E68: 1171 | F68: =F67+E68 -> 8946 | G68: =$D$61-F68 -> 61131 | H68: C22 | I68: 90184 | Q68: 9/11出貨-26000 | R68: 熱處理+電鍍
A69: 46233 | B69: =A69 -> 46233 | E69: 1143 | F69: =F68+E69 -> 10089 | G69: =$D$61-F69 -> 59988 | H69: C2 | I69: 70077
A70: 46234 | B70: =A70 -> 46234 | E70: 1151 | F70: =F69+E70 -> 11240 | G70: =$D$61-F70 -> 58837 | H70: C3 | I70: 69097
A71: 46235 | B71: =A71 -> 46235 | E71: 1170 | F71: =F70+E71 -> 12410 | G71: =$D$61-F71 -> 57667 | H71: V3 | I71: 97903
A72: 46236 | B72: =A72 -> 46236 | E72: 1171 | F72: =F71+E72 -> 13581 | G72: =$D$61-F72 -> 56496 | I72: =SUM(I66:I71) -> 556100
A73: 46237 | B73: =A73 -> 46237 | E73: 1172 | F73: =F72+E73 -> 14753 | G73: =$D$61-F73 -> 55324
A74: 46238 | B74: =A74 -> 46238 | E74: 1167 | F74: =F73+E74 -> 15920 | G74: =$D$61-F74 -> 54157
A75: 46239 | B75: =A75 -> 46239 | E75: 1171 | F75: =F74+E75 -> 17091 | G75: =$D$61-F75 -> 52986
A76: 46240 | B76: =A76 -> 46240 | E76: 1136 | F76: =F75+E76 -> 18227 | G76: =$D$61-F76 -> 51850
A77: 46241 | B77: =A77 -> 46241 | E77: 1165 | F77: =F76+E77 -> 19392 | G77: =$D$61-F77 -> 50685
A78: 46242 | B78: =A78 -> 46242 | E78: 1165 | F78: =F77+E78 -> 20557 | G78: =$D$61-F78 -> 49520
A79: 46243 | B79: =A79 -> 46243 | E79: 1108 | F79: =F78+E79 -> 21665 | G79: =$D$61-F79 -> 48412
A80: 46244 | B80: =A80 -> 46244 | E80: 1107 | F80: =F79+E80 -> 22772 | G80: =$D$61-F80 -> 47305
A81: 46245 | B81: =A81 -> 46245 | E81: 1194 | F81: =F80+E81 -> 23966 | G81: =$D$61-F81 -> 46111
A82: 46246 | B82: =A82 -> 46246 | E82: 1194 | F82: =F81+E82 -> 25160 | G82: =$D$61-F82 -> 44917
A83: 46247 | B83: =A83 -> 46247 | E83: 1179 | F83: =F82+E83 -> 26339 | G83: =$D$61-F83 -> 43738
A84: 46248 | B84: =A84 -> 46248 | E84: 1194 | F84: =F83+E84 -> 27533 | G84: =$D$61-F84 -> 42544
... A121: 46285 | B121: =A121 -> 46285 | E121: 1100 | F121: =F120+E121 -> 70950 | G121: =$D$61-F121 -> -873
A122: 46286 | B122: =A122 -> 46286 | C122: R00070-80 | D122: 506 | E122: 1100 | F122: =E122 -> 1100 | G122: =$D$122-F122 -> -594 | H122: 46295 | I122: 506 | J122: WWHUACA-15.87 | K122: 46266 | L122: 7A | M122: M01150827134 | Q122: 10/13出貨 | R122: 電鍍
A123: 46287 | B123: =A123 -> 46287 | C123: R00275-80 | D123: 3000 | E123: 100 | F123: =E123 -> 100 | G123: =$D$123-F123 -> 2900 | H123: 46296 | I123: 3000 | J123: WWMUCCA-20 | K123: 46288 | M123: M01150909040 | Q123: 10/8出貨
A124: 46288 | B124: =A124 -> 46288 | E124: 220 | F124: =F123+E124 -> 320 | G124: =$D$123-F124 -> 2680 | J124: 庫存131kg*534
A125: 46289 | B125: =A125 -> 46289 | E125: 220 | F125: =F124+E125 -> 540 | G125: =$D$123-F125 -> 2460
A126: 46290 | B126: =A126 -> 46290 | E126: 220 | F126: =F125+E126 -> 760 | G126: =$D$123-F126 -> 2240
A127: 46291 | B127: =A127 -> 46291 | E127: 220 | F127: =F126+E127 -> 980 | G127: =$D$123-F127 -> 2020
A128: 46292 | B128: =A128 -> 46292 | E128: 220 | F128: =F127+E128 -> 1200 | G128: =$D$123-F128 -> 1800
A129: 46293 | B129: =A129 -> 46293 | E129: 220 | F129: =F128+E129 -> 1420 | G129: =$D$123-F129 -> 1580
A130: 46294 | B130: =A130 -> 46294 | E130: 220 | F130: =F129+E130 -> 1640 | G130: =$D$123-F130 -> 1360
A131: 46295 | B131: =A131 -> 46295 | E131: 220 | F131: =F130+E131 -> 1860 | G131: =$D$123-F131 -> 1140
A132: 46296 | B132: =A132 -> 46296 | E132: 220 | F132: =F131+E132 -> 2080 | G132: =$D$123-F132 -> 920
A133: 46297 | B133: =A133 -> 46297 | E133: 220 | F133: =F132+E133 -> 2300 | G133: =$D$123-F133 -> 700
A134: 46298 | B134: =A134 -> 46298 | E134: 220 | F134: =F133+E134 -> 2520 | G134: =$D$123-F134 -> 480
A135: 46299 | B135: =A135 -> 46299 | E135: 220 | F135: =F134+E135 -> 2740 | G135: =$D$123-F135 -> 260
A136: 46300 | B136: =A136 -> 46300 | E136: 220 | F136: =F135+E136 -> 2960 | G136: =$D$123-F136 -> 40
...

Sheet C7
A1: 日期 | C1: 品名(42圓) | D1: 投產數 | E1: 當日產量 | F1: 累積產量 | G1: 未生產數 | H1: 預交日 | I1: 訂單數量 | J1: 銅條 | K1: 進料日 | L1: 架位 | M1: 工令單號 | N1: 實際入庫 | O1: 差異 | P1: 單重 | Q1: 備註(出貨日) | R1: 後製程
A2: 46180 | B2: =A2 -> 46180 | C2: C30325-4-80 | D2: 1700 | E2: 1064 | F2: =E2 -> 1064 | G2: =$D$2-F2 -> 636 | H2: 46181 | I2: 1700 | J2: WWMJ6CA-16.0 | K2: 46168 | L2: 17A右 | M2: M01150518046 | Q2: 6/15出貨 | R2: 電鍍
A3: 46181 | B3: =A3 -> 46181 | E3: 902 | F3: =E3+F2 -> 1966 | G3: =$D$2-F3 -> -266
C4: W61109-4-80 | D4: 120 | E4: 250 | F4: =E4 -> 250 | G4: =$D$4-F4 -> -130 | H4: 46185 | I4: 120 | J4: WWMJ4CA-14.0 | K4: 46174 | L4: 22B.23B | M4: M01150519065 | Q4: 6/22出貨 | R4: 沖角
C5: P97009.BR-80 | D5: 200 | E5: 363 | F5: =E5 -> 363 | G5: =$D$5-F5 -> -163 | H5: 46188 | I5: 200 | J5: WWMD4CA-11.5 | L5: 5D | M5: M01150518198 | Q5: 6/29出貨 | R5: 沖齒
C6: P89014.38R-80 | D6: 200 | E6: 114 | F6: =E6 -> 114 | G6: =$D$6-F6 -> 86 | H6: 46209 | I6: 200 | J6: WWMD4CA-11 | L6: A1-2.A1-3 | M6: M01150601099 | Q6: 7/13出貨 | R6: 沖角+雷雕
A7: 46182 | B7: =A7 -> 46182 | E7: 135 | F7: =E7+F6 -> 249 | G7: =$D$6-F7 -> -49
C8: DF-30-80 | D8: 960 | E8: 542 | F8: =E8 -> 542 | G8: =$D$8-F8 -> 418 | H8: 46188 | I8: 400 | J8: WWMUACA-14.5 | K8: 46177 | L8: 9B | M8: M01150528012 | Q8: 7/13出貨 | R8: 拋光+電鍍+滿益金
A9: 46183 | B9: =A9 -> 46183 | E9: 488 | F9: =F8+E9 -> 1030 | G9: =$D$8-F9 -> -70 | H9: 46188 | I9: 460 | J9: WWMUACA-14.5 | K9: 46177 | L9: 9B | M9: M01150528004 | Q9: 7/1出貨 | R9: 拋光+電鍍
C10: P24007.U7NT-80 | D10: 1300 | E10: 195 | F10: =E10 -> 195 | G10: =$D$10-F10 -> 1105 | H10: 46185 | I10: 1300 | J10: WWHU7CA-28.5-87 | K10: 46178 | L10: 1C | M10: M01150518313 | Q10: 6/25出貨(7/1出貨) | R10: 熱處理+洗色+卯合
A11: 46184 | B11: =A11 -> 46184 | E11: 491 | F11: =F10+E11 -> 686 | G11: =$D$10-F11 -> 614
A12: 46185 | B12: =A12 -> 46185 | E12: 485 | F12: =F11+E12 -> 1171 | G12: =$D$10-F12 -> 129
A13: 46186 | B13: =A13 -> 46186 | E13: 184 | F13: =F12+E13 -> 1355 | G13: =$D$10-F13 -> -55
C14: 07-4020A-UECP-80 | D14: 200 | E14: 204 | F14: =E14 -> 204 | G14: =$D$14-F14 -> -4 | H14: 46191 | I14: 200 | J14: WWMUEA-21.5*C16.5 | K14: 46185 | L14: 2A | M14: M01150529018 | Q14: 7/6出貨 | R14: 拋光+電鍍+雷雕
C15: 07-4030A-UECP-80 | D15: =I15+I16 -> 1100 | E15: 221 | F15: =E15 -> 221 | G15: =$D$15-F15 -> 879 | H15: 46191 | I15: 640 | J15: WWMUEA-21.5*C16.5 | K15: 46185 | L15: 2A | M15: M01150529033 | Q15: 7/6出貨 | R15: 拋光+電鍍+雷雕
A16: 46187 | B16: =A16 -> 46187 | E16: 811 | F16: =F15+E16 -> 1032 | G16: =$D$15-F16 -> 68 | H16: 46191 | I16: 460 | J16: WWMUEA-21.5*C16.5 | K16: 46185 | L16: 2A | M16: M01150529021 | Q16: 7/6出貨 | R16: 拋光+電鍍+雷雕
A17: 46188 | B17: =A17 -> 46188 | E17: 99 | F17: =E17+F16 -> 1131 | G17: =$D$15-F17 -> -31
C18: 07-4040A-UECP-80 | D18: 1580 | E18: 672 | F18: =E18 -> 672 | G18: =$D$18-F18 -> 908 | H18: 46191 | I18: 1080 | J18: WWMUEA-21.5*C16.5 | K18: 46185 | L18: 2A | M18: M01150529036 | Q18: 7/6出貨 | R18: 拋光+電鍍+雷雕
A19: 46189 | B19: =A19 -> 46189 | E19: 826 | F19: =F18+E19 -> 1498 | G19: =$D$18-F19 -> 82 | H19: 46191 | I19: 500 | J19: WWMUEA-21.5*C16.5 | K19: 46185 | L19: 2A | M19: M01150529024 | Q19: 7/6出貨 | R19: 拋光+電鍍+雷雕
A20: 46190 | B20: =A20 -> 46190 | E20: 102 | F20: =F19+E20 -> 1600 | G20: =$D$18-F20 -> -20 | I20: =SUM(I18:I19) -> 1580
C21: 07-4045A-UECP-80 | D21: 80 | E21: 100 | F21: =E21 -> 100 | G21: =$D$21-F21 -> -20 | H21: 46191 | I21: 80 | J21: WWMUEA-21.5*C16.5 | K21: 46185 | L21: 2A | M21: M01150529039 | Q21: 7/6出貨 | R21: 拋光+電鍍+雷雕
C22: 07-4050A-UECP-80 | D22: 310 | E22: 320 | F22: =E22 -> 320 | G22: =$D$22-F22 -> -10 | H22: 46191 | I22: 310 | J22: WWMUEA-21.5*C16.5 | K22: 46185 | L22: 2A | M22: M01150529042 | Q22: 7/6出貨 | R22: 拋光+電鍍+雷雕
C23: 07-4060A-UECP-80 | D23: =I25 -> 2200 | E23: 148 | F23: =E23 -> 148 | G23: =$D$23-F23 -> 2052 | H23: 46191 | I23: 950 | J23: WWMUEA-21.5*C16.5 | K23: 46185 | L23: 2A | M23: M01150529045 | N23: 6/18-SCH | Q23: 7/6出貨 | R23: 拋光+電鍍+雷雕
A24: 46191 | B24: =A24 -> 46191 | E24: 663 | F24: =F23+E24 -> 811 | G24: =$D$23-F24 -> 1389 | H24: 46191 | I24: 1250 | J24: WWMUEA-21.5*C16.5 | K24: 46185 | L24: 2A | M24: M01150529027 | Q24: 7/6出貨 | R24: 拋光+電鍍+雷雕
A25: 46192 | B25: =A25 -> 46192 | E25: 644 | F25: =F24+E25 -> 1455 | G25: =$D$23-F25 -> 745 | I25: =SUM(I23:I24) -> 2200
A26: 46193 | B26: =A26 -> 46193 | E26: 678 | F26: =F25+E26 -> 2133 | G26: =$D$23-F26 -> 67
A27: 46194 | B27: =A27 -> 46194 | E27: 96 | F27: =F26+E27 -> 2229 | G27: =$D$23-F27 -> -29
C28: 07-3020A-UECP-80 | D28: 780 | E28: 467 | F28: =E28 -> 467 | G28: =$D$28-F28 -> 313 | H28: 46191 | I28: 780 | J28: WWMUEA-17.5*C12.5 | K28: 46184 | L28: 2B | M28: M01150529030 | Q28: 7/6出貨 | R28: 拋光+電鍍+雷雕
A29: 46195 | B29: =A29 -> 46195 | E29: 318 | F29: =F28+E29 -> 785 | G29: =$D$28-F29 -> -5
C30: 07-6025A-UECP-80 | D30: 460 | E30: 473 | F30: =E30 -> 473 | G30: =$D$30-F30 -> -13 | H30: 46191 | I30: 460 | J30: WWMUEA-26.5*C21 | K30: 46185 | L30: 3A | M30: M01150529004 | Q30: 7/6出貨 | R30: 拋光+電鍍+雷雕
C31: 07-6035A-UECP-80 | D31: 500 | E31: 59 | F31: =E31 -> 59 | G31: =$D$31-F31 -> 441 | H31: 46191 | I31: 500 | J31: WWMUEA-26.5*C21 | K31: 46185 | L31: 3A | M31: M01150529007 | Q31: 7/6出貨 | R31: 拋光+電鍍+雷雕
A32: 46196 | B32: =A32 -> 46196 | E32: 451 | F32: =F31+E32 -> 510 | G32: =$D$31-F32 -> -10
C33: W61962A-WE-80 | D33: 220 | E33: 225 | F33: =E33 -> 225 | G33: =$D$33-F33 -> -5 | H33: 46202 | I33: 220 | J33: WWMJ4A-26.5*C21 | L33: 12A左 | M33: M01150601178 | Q33: 7/13出貨 | R33: 拋光+電鍍
C34: 07-8050A-UECP-80 | D34: 300 | E34: 35 | F34: =E34 -> 35 | G34: =$D$34-F34 -> 265 | H34: 46191 | I34: 300 | J34: WWMUEA-33*C27 | K34: 46185 | L34: 2C | M34: M01150529010 | Q34: 7/6出貨 | R34: 拋光+電鍍+雷雕
A35: 46197 | B35: =A35 -> 46197 | E35: 282 | F35: =E35+F34 -> 317 | G35: =$D$34-F35 -> -17
C36: P09123.UANT-80 | D36: 281 | E36: 184 | F36: =E36 -> 184 | G36: =$D$36-F36 -> 97 | H36: 46216 | I36: 281 | J36: WWMUACA-34.5 | K36: 10D | M36: M01150611042 | Q36: 7/21出貨
A37: 46198 | B37: =A37 -> 46198 | E37: 107 | F37: =F36+E37 -> 291 | G37: =$D$36-F37 -> -10
C38: D02001-8A-80 | D38: 1610 | E38: 532 | F38: =E38 -> 532 | G38: =$D$38-F38 -> 1078 | H38: 46240 | I38: 1610 | J38: WWHDACA-15.87 | L38: 15A | M38: M01150617048 | Q38: 8/24出貨 | R38: 電鍍
A39: 46199 | B39: =A39 -> 46199 | E39: 872 | F39: =F38+E39 -> 1404 | G39: =$D$38-F39 -> 206
A40: 46200 | B40: =A40 -> 46200 | E40: 412 | F40: =F39+E40 -> 1816 | G40: =$D$38-F40 -> -206
C41: DFM-1000-3406A-80 | D41: =I43 -> 1900 | E41: 499 | F41: =E41 -> 499 | G41: =$D$41-F41 -> 1401 | H41: 46240 | I41: 900 | J41: WWHDACA-15.87 | L41: 15A | M41: M01150617050 | Q41: 8/24出貨 | R41: 電鍍
A42: 46201 | B42: =A42 -> 46201 | E42: 883 | F42: =F41+E42 -> 1382 | G42: =$D$41-F42 -> 518 | H42: 46296 | I42: 1000 | J42: WWHDACA-15.87 | L42: 15A | M42: M01150617069 | Q42: 10/19出貨 | R42: 電鍍
A43: 46202 | B43: =A43 -> 46202 | E43: 568 | F43: =F42+E43 -> 1950 | G43: =$D$41-F43 -> -50 | I43: =SUM(I41:I42) -> 1900
A44: 46203 | B44: =A44 -> 46203 | C44: P09B30.UENT-80 | D44: 513 | E44: 177 | F44: =E44 -> 177 | G44: =$D$44-F44 -> 336 | H44: 46210 | I44: 513 | J44: WWHUECA-27-87 | K44: 46197 | L44: 3B | M44: M01150608020 | Q44: 7/14出貨
A45: 46204 | B45: =A45 -> 46204 | E45: 245 | F45: =F44+E45 -> 422 | G45: =$D$44-F45 -> 91
A46: 46205 | B46: =A46 -> 46205 | E46: 114 | F46: =F45+E46 -> 536 | G46: =$D$44-F46 -> -23
C47: DF-30-80 | D47: 500 | E47: 335 | F47: =E47 -> 335 | G47: =$D$47-F47 -> 165 | H47: 46213 | I47: 500 | J47: WWMUACA-14.5 | K47: 46202 | L47: 9B | M47: M01150622067 | Q47: 7/27出貨 | R47: 拋光+電鍍
A48: 46206 | B48: =A48 -> 46206 | E48: 198 | F48: =F47+E48 -> 533 | G48: =$D$47-F48 -> -33
C49: P06070A.UANT-80 | D49: =I51 -> 4177 | E49: 340 | F49: =E49 -> 340 | G49: =$D$49-F49 -> 3837 | H49: 46216 | I49: 1477 | J49: WWMUAA-21*C11.5 | K49: 46205 | L49: 10C | M49: M01150611038 | Q49: 7/20出貨
A50: 46207 | B50: =A50 -> 46207 | C50: 7/10出一些 | E50: 543 | F50: =F49+E50 -> 883 | G50: =$D$49-F50 -> 3294 | H50: 46224 | I50: 2700 | J50: WWMUAA-21*C11.5 | K50: 46209 | L50: 10C | M50: M01150629068 | Q50: 7/23出貨
A51: 46208 | B51: =A51 -> 46208 | E51: 567 | F51: =F50+E51 -> 1450 | G51: =$D$49-F51 -> 2727 | I51: =SUM(I49:I50) -> 4177
A52: 46209 | B52: =A52 -> 46209 | E52: 446 | F52: =F51+E52 -> 1896 | G52: =$D$49-F52 -> 2281
A53: 46210 | B53: =A53 -> 46210 | E53: 389 | F53: =F52+E53 -> 2285 | G53: =$D$49-F53 -> 1892
A54: 46211 | B54: =A54 -> 46211 | E54: 384 | F54: =F53+E54 -> 2669 | G54: =$D$49-F54 -> 1508
A55: 46212 | B55: =A55 -> 46212 | E55: 387 | F55: =F54+E55 -> 3056 | G55: =$D$49-F55 -> 1121
A56: 46213 | B56: =A56 -> 46213 | E56: 385 | F56: =F55+E56 -> 3441 | G56: =$D$49-F56 -> 736
A57: 46214 | B57: =A57 -> 46214 | E57: 388 | F57: =F56+E57 -> 3829 | G57: =$D$49-F57 -> 348
A58: 46215 | B58: =A58 -> 46215 | E58: 388 | F58: =F57+E58 -> 4217 | G58: =$D$49-F58 -> -40
A59: 46216 | B59: =A59 -> 46216 | E59: 103 | F59: =F58+E59 -> 4320 | G59: =$D$49-F59 -> -143
C60: R10344-80 | D60: 1000 | E60: 308 | F60: =E60 -> 308 | G60: =$D$60-F60 -> 692 | H60: 46217 | I60: 1000 | J60: WWHUICA-17.5 | K60: 46210 | L60: 木箱 | M60: M01150515058 | Q60: 7/13出貨 | R60: 電鍍
A61: 46217 | B61: =A61 -> 46217 | E61: 515 | F61: =E61+F60 -> 823 | G61: =$D$60-F61 -> 177 | J61: 六角料牙外徑會車不過
A62: 46218 | B62: =A62 -> 46218 | E62: 207 | F62: =E62+F61 -> 1030 | G62: =$D$60-F62 -> -30
C63: 07-3040A-UECP-80 | D63: 400 | E63: 401 | F63: =E63 -> 401 | G63: =$D$63-F63 -> -1 | H63: 46220 | I63: 400 | J63: WWMUEA-17.5*C12.5 | K63: 46212 | L63: 2B | M63: M01150626021 | Q63: 8/7出貨 | R63: 拋光+電鍍+雷雕
A64: 46219 | B64: =A64 -> 46219 | E64: 19 | F64: =F63+E64 -> 420 | G64: =$D$63-F64 -> -20
C65: 07-4030A-UECP-80 | D65: 480 | E65: 500 | F65: =E65 -> 500 | G65: =$D$65-F65 -> -20 | H65: 46220 | I65: 320 | J65: WWMUEA-21.5*C16.5 | K65: 46211 | L65: 1A | M65: M01150626009 | Q65: 8/7出貨 | R65: 拋光+電鍍+雷雕
H66: 46220 | I66: 160 | J66: WWMUEA-21.5*C16.5 | K66: 46211 | L66: 1A | M66: M01150626027 | N66: 7/16-SCH | Q66: 8/7出貨 | R66: 拋光+電鍍+雷雕
C67: 07-4045A-UECP-80 | D67: 360 | E67: 229 | F67: =E67 -> 229 | G67: =$D$67-F67 -> 131 | H67: 46220 | I67: 120 | J67: WWMUEA-21.5*C16.5 | K67: 46211 | L67: 1A | M67: M01150626015 | Q67: 8/7出貨 | R67: 拋光+電鍍+雷雕
A68: 46220 | B68: =A68 -> 46220 | E68: 153 | F68: =E68+F67 -> 382 | G68: =$D$67-F68 -> -22 | H68: 46220 | I68: 240 | J68: WWMUEA-21.5*C16.5 | K68: 46211 | L68: 1A | M68: M01150626018 | Q68: 8/7出貨 | R68: 拋光+電鍍+雷雕
C69: 07-4060A-UECP-80 | D69: 550 | E69: 570 | F69: =E69 -> 570 | G69: =$D$69-F69 -> -20 | H69: 46220 | I69: 480 | J69: WWMUEA-21.5*C16.5 | K69: 46211 | L69: 1A | M69: M01150626012 | Q69: 8/7出貨 | R69: 拋光+電鍍+雷雕
H70: 46223 | I70: 70 | J70: WWMUEA-21.5*C16.5 | K70: 46211 | L70: 1A | M70: M01150529045 | Q70: 補報廢 | R70: 拋光+電鍍+雷雕
A71: 46221 | B71: =A71 -> 46221 | C71: D02002-3A-80 | D71: =I73 -> 2000 | E71: 384 | F71: =E71 -> 384 | G71: =$D$71-F71 -> 1616 | H71: 46244 | I71: 1000 | J71: WWHDACA-22.0 | K71: 46210 | L71: G1-2 | M71: M01150617044 | Q71: 8/24出貨
A72: 46222 | B72: =A72 -> 46222 | E72: 780 | F72: =F71+E72 -> 1164 | G72: =$D$71-F72 -> 836 | H72: 46303 | I72: 1000 | J72: WWHDACA-22.0 | K72: 46210 | L72: G1-2 | M72: M01150617065 | Q72: 10/19出貨
A73: 46223 | B73: =A73 -> 46223 | E73: 784 | F73: =F72+E73 -> 1948 | G73: =$D$71-F73 -> 52 | I73: =SUM(I71:I72) -> 2000
A74: 46224 | B74: =A74 -> 46224 | E74: 82 | F74: =F73+E74 -> 2030 | G74: =$D$71-F74 -> -30
C75: W61973-1-80 | D75: 100 | E75: 121 | F75: =E75 -> 121 | G75: =$D$75-F75 -> -21 | H75: 46226 | I75: 100 | J75: WWMJ4CA-14.0 | L75: 22B.23B | M75: M01150626140 | Q75: 8/10出貨 | R75: 攻牙+-二次加工+電鍍
C76: FBA-018A-80 | D76: =I78 -> 8921 | E76: 170 | F76: =E76 -> 170 | G76: =$D$76-F76 -> 8751 | H76: 46218 | I76: 8421 | J76: WWMJ4CA-17 | K76: 46202 | L76: M1-1 | M76: M01150623048 | Q76: 7/27出貨 | R76: 電鍍
A77: 46225 | B77: =A77 -> 46225 | E77: 570 | F77: =F76+E77 -> 740 | G77: =$D$76-F77 -> 8181 | H77: 46233 | I77: 500 | J77: WWMJ4CA-17 | K77: 46213 | L77: M1-1 | M77: M01150709004 | N77: 7/23-SCH | Q77: 8/10出貨 | R77: 電鍍
A78: 46226 | B78: =A78 -> 46226 | E78: 579 | F78: =F77+E78 -> 1319 | G78: =$D$76-F78 -> 7602 | I78: =SUM(I76:I77) -> 8921
A79: 46227 | B79: =A79 -> 46227 | E79: 578 | F79: =F78+E79 -> 1897 | G79: =$D$76-F79 -> 7024
A80: 46228 | B80: =A80 -> 46228 | E80: 553 | F80: =F79+E80 -> 2450 | G80: =$D$76-F80 -> 6471
A81: 46229 | B81: =A81 -> 46229 | E81: 576 | F81: =F80+E81 -> 3026 | G81: =$D$76-F81 -> 5895
A82: 46230 | B82: =A82 -> 46230 | E82: 572 | F82: =F81+E82 -> 3598 | G82: =$D$76-F82 -> 5323
A83: 46231 | B83: =A83 -> 46231 | E83: 579 | F83: =F82+E83 -> 4177 | G83: =$D$76-F83 -> 4744
A84: 46232 | B84: =A84 -> 46232 | E84: 578 | F84: =F83+E84 -> 4755 | G84: =$D$76-F84 -> 4166
A85: 46233 | B85: =A85 -> 46233 | E85: 578 | F85: =F84+E85 -> 5333 | G85: =$D$76-F85 -> 3588
A86: 46234 | B86: =A86 -> 46234 | E86: 578 | F86: =F85+E86 -> 5911 | G86: =$D$76-F86 -> 3010
A87: 46235 | B87: =A87 -> 46235 | E87: 578 | F87: =F86+E87 -> 6489 | G87: =$D$76-F87 -> 2432
A88: 46236 | B88: =A88 -> 46236 | E88: 579 | F88: =F87+E88 -> 7068 | G88: =$D$76-F88 -> 1853
A89: 46237 | B89: =A89 -> 46237 | E89: 578 | F89: =F88+E89 -> 7646 | G89: =$D$76-F89 -> 1275
A90: 46238 | B90: =A90 -> 46238 | E90: 578 | F90: =F89+E90 -> 8224 | G90: =$D$76-F90 -> 697
... A92: 46240 | B92: =A92 -> 46240 | E92: 149 | F92: =F91+E92 -> 8951 | G92: =$D$76-F92 -> -30
C93: 07-3050A-UECP-80 | D93: 150 | E93: 168 | F93: =E93 -> 168 | G93: =$D$93-F93 -> -18 | H93: 46253 | I93: 150 | J93: WWMUEA-17.5*C12.5 | K93: 46239 | L93: 2B | M93: M01150729034 | Q93: 9/8出貨 | R93: 清金+電鍍+雷雕
C94: 07-3030A-UECP-80 | D94: 600 | E94: 318 | F94: =E94 -> 318 | G94: =$D$94-F94 -> 282 | H94: 46252 | I94: 200 | J94: WWMUEA-17.5*C12.5 | K94: 46239 | L94: 2B | M94: M01150728036 | Q94: 9/8出貨 | R94: 清金+電鍍+雷雕
A95: 46241 | B95: =A95 -> 46241 | E95: 292 | F95: =E95+F94 -> 610 | G95: =$D$94-F95 -> -10 | H95: 46253 | I95: 400 | J95: WWMUEA-17.5*C12.5 | K95: 46239 | L95: 2B | M95: M01150729028 | Q95: 9/8出貨 | R95: 清金+電鍍+雷雕
C96: 07-3040A-UECP-80 | D96: 1200 | E96: 434 | F96: =E96 -> 434 | G96: =$D$96-F96 -> 766 | H96: 46246 | I96: 600 | J96: WWMUEA-17.5*C12.5 | K96: 46238 | L96: 2C | M96: M01150723088 | Q96: 9/2出貨 | R96: 清金+電鍍+雷雕
A97: 46242 | B97: =A97 -> 46242 | E97: 599 | F97: =F96+E97 -> 1033 | G97: =$D$96-F97 -> 167 | H97: 46252 | I97: 200 | J97: WWMUEA-17.5*C12.5 | K97: 46239 | L97: 2B | M97: M01150728039 | N97: 8/7-SCH | Q97: 9/8出貨 | R97: 清金+電鍍+雷雕
A98: 46243 | B98: =A98 -> 46243 | E98: 197 | F98: =F97+E98 -> 1230 | G98: =$D$96-F98 -> -30 | H98: 46253 | I98: 400 | J98: WWMUEA-17.5*C12.5 | K98: 46239 | L98: 2B | M98: M01150729031 | N98: 8/7-SCH | Q98: 9/8出貨 | R98: 清金+電鍍+雷雕
C99: 07-6020A-UECP-80 | D99: 200 | E99: 185 | F99: =E99 -> 185 | G99: =$D$99-F99 -> 15 | H99: 46252 | I99: 200 | J99: WWMUEA-26.5*C21 | L99: 2C | M99: M01150728042 | Q99: 9/8出貨 | R99: 清金+電鍍+雷雕
A100: 46244 | B100: =A100 -> 46244 | E100: 82 | F100: =E100+F99 -> 267 | G100: =$D$99-F100 -> -67
C101: 07-4020A-UECP-80 | D101: 470 | E101: 496 | F101: =E101 -> 496 | G101: =$D$101-F101 -> -26 | H101: 46246 | I101: 230 | J101: WWMUEA-21.5*C16.5 | K101: 46244 | L101: 2A | M101: M01150723024 | Q101: 9/2出貨 | R101: 清金+電鍍+雷雕
...

Sheet C11
A1: 日期 | C1: 品名(42圓) | D1: 投產數 | E1: 當日產量 | F1: 累積產量 | G1: 未生產數 | H1: 預交日 | I1: 訂單數量 | J1: 銅條 | K1: 進料日 | L1: 架位 | M1: 工令單號 | N1: 實際入庫 | O1: 差異 | P1: 單重 | Q1: 備註(出貨日) | R1: 後製程
A2: 46169 | B2: =A2 -> 46169 | C2: 50.8010.99770-80 | D2: =I4 -> 23500 | E2: 811 | F2: =E2 -> 811 | G2: =$D$2-F2 -> 22689 | H2: 46183 | I2: 23000 | J2: WWHD4CH-15.87 | L2: B1-4 | M2: M01150522056 | Q2: 6/18出貨 | R2: 熱處理+電鍍
A3: 46170 | B3: =A3 -> 46170 | E3: 1308 | F3: =F2+E3 -> 2119 | G3: =$D$2-F3 -> 21381 | H3: NG | I3: 500
A4: 46171 | B4: =A4 -> 46171 | E4: 1312 | F4: =F3+E4 -> 3431 | G4: =$D$2-F4 -> 20069 | I4: =SUM(I2:I3) -> 23500
A5: 46172 | B5: =A5 -> 46172 | E5: 1295 | F5: =F4+E5 -> 4726 | G5: =$D$2-F5 -> 18774
A6: 46173 | B6: =A6 -> 46173 | E6: 1312 | F6: =F5+E6 -> 6038 | G6: =$D$2-F6 -> 17462
A7: 46174 | B7: =A7 -> 46174 | E7: 1309 | F7: =F6+E7 -> 7347 | G7: =$D$2-F7 -> 16153
A8: 46175 | B8: =A8 -> 46175 | E8: 1308 | F8: =F7+E8 -> 8655 | G8: =$D$2-F8 -> 14845
A9: 46176 | B9: =A9 -> 46176 | E9: 1305 | F9: =F8+E9 -> 9960 | G9: =$D$2-F9 -> 13540
A10: 46177 | B10: =A10 -> 46177 | E10: 1311 | F10: =F9+E10 -> 11271 | G10: =$D$2-F10 -> 12229
A11: 46178 | B11: =A11 -> 46178 | E11: 1297 | F11: =F10+E11 -> 12568 | G11: =$D$2-F11 -> 10932
A12: 46179 | B12: =A12 -> 46179 | E12: 1311 | F12: =F11+E12 -> 13879 | G12: =$D$2-F12 -> 9621
A13: 46180 | B13: =A13 -> 46180 | E13: 1312 | F13: =F12+E13 -> 15191 | G13: =$D$2-F13 -> 8309
A14: 46181 | B14: =A14 -> 46181 | E14: 1313 | F14: =F13+E14 -> 16504 | G14: =$D$2-F14 -> 6996
A15: 46182 | B15: =A15 -> 46182 | E15: 1312 | F15: =F14+E15 -> 17816 | G15: =$D$2-F15 -> 5684
A16: 46183 | B16: =A16 -> 46183 | E16: 1311 | F16: =F15+E16 -> 19127 | G16: =$D$2-F16 -> 4373
... A20: 46187 | B20: =A20 -> 46187 | E20: 665 | F20: =F19+E20 -> 23715 | G20: =$D$2-F20 -> -215
C21: 50.8011.20140-80 | D21: 5874 | E21: 628 | F21: =E21 -> 628 | G21: =$D$21-F21 -> 5246 | H21: 46188 | I21: 5874 | J21: WWHD4CH-15.87 | L21: B1-4 | M21: M01150529127 | Q21: 7/2出貨 | R21: 熱處理+電鍍
A22: 46188 | B22: =A22 -> 46188 | E22: 1319 | F22: =F21+E22 -> 1947 | G22: =$D$21-F22 -> 3927 | Q22: 6/22出貨-600
A23: 46189 | B23: =A23 -> 46189 | E23: 1329 | F23: =F22+E23 -> 3276 | G23: =$D$21-F23 -> 2598
A24: 46190 | B24: =A24 -> 46190 | E24: 1323 | F24: =F23+E24 -> 4599 | G24: =$D$21-F24 -> 1275
A25: 46191 | B25: =A25 -> 46191 | E25: 1322 | F25: =F24+E25 -> 5921 | G25: =$D$21-F25 -> -47
A26: 46192 | B26: =A26 -> 46192 | E26: 552 | F26: =F25+E26 -> 6473 | G26: =$D$21-F26 -> -599
C27: R00275-80 | D27: =I29 -> 2830 | E27: 141 | F27: =E27 -> 141 | G27: =$D$27-F27 -> 2689 | H27: 46205 | I27: 2400 | J27: WWMUCCA-20 | K27: 46147 | L27: 待確認 | M27: M01150422105 | Q27: 6/11出貨>7/15出貨 | R27: 清金+超因波清洗
A28: 46193 | B28: =A28 -> 46193 | E28: 291 | F28: =E28+F27 -> 432 | G28: =$D$27-F28 -> 2398 | H28: 46174 | I28: 430 | J28: WWMUCCA-20 | K28: 46149 | L28: 6C | M28: M01150430084 | Q28: 6/18出貨>7/15出貨 | R28: 清金+超因波清洗
A29: 46194 | B29: =A29 -> 46194 | E29: 310 | F29: =F28+E29 -> 742 | G29: =$D$27-F29 -> 2088 | I29: =SUM(I27:I28) -> 2830
A30: 46195 | B30: =A30 -> 46195 | E30: 308 | F30: =F29+E30 -> 1050 | G30: =$D$27-F30 -> 1780
A31: 46196 | B31: =A31 -> 46196 | E31: 292 | F31: =F30+E31 -> 1342 | G31: =$D$27-F31 -> 1488
A32: 46197 | B32: =A32 -> 46197 | E32: 307 | F32: =F31+E32 -> 1649 | G32: =$D$27-F32 -> 1181
A33: 46198 | B33: =A33 -> 46198 | E33: 321 | F33: =F32+E33 -> 1970 | G33: =$D$27-F33 -> 860
A34: 46199 | B34: =A34 -> 46199 | E34: 317 | F34: =F33+E34 -> 2287 | G34: =$D$27-F34 -> 543
A35: 46200 | B35: =A35 -> 46200 | E35: 315 | F35: =F34+E35 -> 2602 | G35: =$D$27-F35 -> 228
A36: 46201 | B36: =A36 -> 46201 | E36: 278 | F36: =F35+E36 -> 2880 | G36: =$D$27-F36 -> -50
A37: 46202 | B37: =A37 -> 46202 | E37: 31 | F37: =F36+E37 -> 2911 | G37: =$D$27-F37 -> -81
C38: 50.8012.1731A-80 | D38: 30 | E38: 79 | F38: =E38 -> 79 | G38: =$D$38-F38 -> -49 | H38: 46206 | I38: 30 | J38: WWHD6CH-16.0 | L38: 15D左 | M38: M01150617001 | Q38: 樣品 | R38: 熱處理
A39: 46203 | B39: =A39 -> 46203 | C39: 50.8011.21570-80 | D39: 3000 | E39: 702 | F39: =E39 -> 702 | G39: =$D$39-F39 -> 2298 | H39: 46210 | I39: 3000 | J39: WWHD4CH-18.9 | K39: 46202 | L39: B1-2 | M39: M01150609022 | Q39: 7/23出貨 | R39: 熱處理+電鍍
A40: 46204 | B40: =A40 -> 46204 | E40: 919 | F40: =F39+E40 -> 1621 | G40: =$D$39-F40 -> 1379
A41: 46205 | B41: =A41 -> 46205 | E41: 919 | F41: =F40+E41 -> 2540 | G41: =$D$39-F41 -> 460
A42: 46206 | B42: =A42 -> 46206 | E42: 530 | F42: =F41+E42 -> 3070 | G42: =$D$39-F42 -> -70
C43: P09014A.J4NT-80 | D43: =I45 -> 1260 | E43: 145 | F43: =E43 -> 145 | G43: =$D$43-F43 -> 1115 | H43: 46212 | I43: 760 | J43: WWMJ4CA-32.5 | K43: 46189 | L43: 24D | M43: M01150612023 | Q43: 7/16出貨
A44: 46207 | B44: =A44 -> 46207 | E44: 391 | F44: =F43+E44 -> 536 | G44: =$D$43-F44 -> 724 | H44: 46217 | I44: 500 | J44: WWMJ4CA-32.5 | K44: 46202 | L44: 24D | M44: M01150618050 | Q44: 7/24出貨
A45: 46208 | B45: =A45 -> 46208 | E45: 392 | F45: =F44+E45 -> 928 | G45: =$D$43-F45 -> 332 | I45: =SUM(I43:I44) -> 1260
A46: 46209 | B46: =A46 -> 46209 | E46: 387 | F46: =F45+E46 -> 1315 | G46: =$D$43-F46 -> -55
A47: 46210 | B47: =A47 -> 46210 | C47: W31720-1-80 | D47: 100 | E47: 92 | F47: =E47 -> 92 | G47: =$D$47-F47 -> 8 | H47: 46209 | I47: 100 | J47: WWMJ4CA-39.5 | K47: 46197 | L47: 21D | M47: M01150615064 | Q47: 7/27出貨 | R47: 沖齒+詮宇勝+電鍍
C48: B02002-6-2M-80 | D48: 1800 | E48: 717 | F48: =E48 -> 717 | G48: =$D$48-F48 -> 1083 | H48: 46240 | I48: 900 | J48: WWMJ4CA-31.0 | K48: 46197 | L48: 20D | M48: M01150617055 | Q48: 8/24出貨 | R48: 電鍍
A49: 46211 | B49: =A49 -> 46211 | E49: 448 | F49: =E49+F48 -> 1165 | G49: =$D$48-F49 -> 635 | H49: 46296 | I49: 900 | J49: WWMJ4CA-31.0 | K49: 46197 | L49: 20D | M49: M01150617074 | Q49: 10/19出貨 | R49: 電鍍
H50: C11 | I50: 1165
H51: C2 | I51: 635
C52: 50.8010.18170-80 | D52: =I61+I62 -> 18184 | E52: 455 | F52: =E52 -> 455 | G52: =$D$52-F52 -> 17729 | H52: 46154 | I52: 10000 | J52: WWHD4CH-22.9 | K52: 46128 | L52: A1-3.A1-4 | M52: M01150401116 | N52: 4/30-SCH | Q52: 7/16出貨-10000 | R52: 熱處理+電鍍
A53: 46212 | B53: =A53 -> 46212 | E53: 714 | F53: =F52+E53 -> 1169 | G53: =$D$52-F53 -> 17015 | H53: 46189 | I53: 10000 | J53: WWHD4CH-22.9 | K53: 46148 | L53: A1-3.A1-4 | M53: M01150401117 | Q53: 7/30出貨-10000 | R53: 熱處理+電鍍
A54: 46213 | B54: =A54 -> 46213 | E54: 737 | F54: =F53+E54 -> 1906 | G54: =$D$52-F54 -> 16278 | H54: 46217 | I54: 10000 | J54: WWHD4CH-22.9 | K54: 46148 | L54: A1-3.A1-4 | M54: M01150401118 | R54: 熱處理+電鍍
A55: 46214 | B55: =A55 -> 46214 | E55: 713 | F55: =F54+E55 -> 2619 | G55: =$D$52-F55 -> 15565 | H55: 46245 | I55: 10000 | J55: WWHD4CH-22.9 | K55: 46148 | L55: A1-3.A1-4 | M55: M01150401119 | N55: 5/20-SCH | R55: 熱處理+電鍍
A56: 46215 | B56: =A56 -> 46215 | E56: 735 | F56: =F55+E56 -> 3354 | G56: =$D$52-F56 -> 14830 | H56: 46273 | I56: 10170 | J56: WWHD4CH-22.9 | K56: 46162 | M56: M01150401120 | N56: 5/20-SCH | R56: 熱處理+電鍍
A57: 46216 | B57: =A57 -> 46216 | E57: 739 | F57: =F56+E57 -> 4093 | G57: =$D$52-F57 -> 14091 | I57: =SUM(I52:I56) -> 50170
A58: 46217 | B58: =A58 -> 46217 | E58: 717 | F58: =F57+E58 -> 4810 | G58: =$D$52-F58 -> 13374 | H58: C11 | I58: 7179
A59: 46218 | B59: =A59 -> 46218 | E59: 650 | F59: =F58+E59 -> 5460 | G59: =$D$52-F59 -> 12724 | H59: C7 | I59: 9300
A60: 46219 | B60: =A60 -> 46219 | E60: 656 | F60: =F59+E60 -> 6116 | G60: =$D$52-F60 -> 12068 | H60: C3 | I60: 14747
A61: 46220 | B61: =A61 -> 46220 | E61: 651 | F61: =F60+E61 -> 6767 | G61: =$D$52-F61 -> 11417 | H61: C8 | I61: 18129
A62: 46221 | B62: =A62 -> 46221 | E62: 645 | F62: =F61+E62 -> 7412 | G62: =$D$52-F62 -> 10772 | H62: NG | I62: 55
A63: 46222 | B63: =A63 -> 46222 | E63: 650 | F63: =F62+E63 -> 8062 | G63: =$D$52-F63 -> 10122
A64: 46223 | B64: =A64 -> 46223 | E64: 654 | F64: =F63+E64 -> 8716 | G64: =$D$52-F64 -> 9468
A65: 46224 | B65: =A65 -> 46224 | E65: 656 | F65: =F64+E65 -> 9372 | G65: =$D$52-F65 -> 8812
A66: 46225 | B66: =A66 -> 46225 | E66: 654 | F66: =F65+E66 -> 10026 | G66: =$D$52-F66 -> 8158
A67: 46226 | B67: =A67 -> 46226 | E67: 651 | F67: =F66+E67 -> 10677 | G67: =$D$52-F67 -> 7507
A68: 46227 | B68: =A68 -> 46227 | E68: 652 | F68: =F67+E68 -> 11329 | G68: =$D$52-F68 -> 6855
A69: 46228 | B69: =A69 -> 46228 | E69: 656 | F69: =F68+E69 -> 11985 | G69: =$D$52-F69 -> 6199
A70: 46229 | B70: =A70 -> 46229 | E70: 653 | F70: =F69+E70 -> 12638 | G70: =$D$52-F70 -> 5546
A71: 46230 | B71: =A71 -> 46230 | E71: 649 | F71: =F70+E71 -> 13287 | G71: =$D$52-F71 -> 4897
A72: 46231 | B72: =A72 -> 46231 | E72: 656 | F72: =F71+E72 -> 13943 | G72: =$D$52-F72 -> 4241
A73: 46232 | B73: =A73 -> 46232 | E73: 655 | F73: =F72+E73 -> 14598 | G73: =$D$52-F73 -> 3586
A74: 46233 | B74: =A74 -> 46233 | E74: 656 | F74: =F73+E74 -> 15254 | G74: =$D$52-F74 -> 2930
... A79: 46238 | B79: =A79 -> 46238 | E79: 309 | F79: =F78+E79 -> 18184 | G79: =$D$52-F79 -> 0
C80: 50.8010.18170-80 | D80: =I82 -> 23338 | E80: 347 | F80: =E80 -> 347 | G80: =$D$80-F80 -> 22991 | H80: 46237 | I80: 60000 | J80: WWHD4CH-22.9 | K80: 46209 | L80: A1-2.A1-3 | M80: M01150603021 | Q80: 8月出貨-15000 | R80: 熱處理+電鍍
A81: 46239 | B81: =A81 -> 46239 | E81: 653 | F81: =F80+E81 -> 1000 | G81: =$D$80-F81 -> 22338 | H81: C7 | I81: 36662 | Q81: 9月出貨-15000 | R81: 熱處理+電鍍
A82: 46240 | B82: =A82 -> 46240 | E82: 655 | F82: =F81+E82 -> 1655 | G82: =$D$80-F82 -> 21683 | H82: C11 | I82: 23338 | Q82: 10月出貨-15000
A83: 46241 | B83: =A83 -> 46241 | E83: 649 | F83: =F82+E83 -> 2304 | G83: =$D$80-F83 -> 21034 | I83: =SUM(I81:I82) -> 60000 | Q83: 11月出貨-15000
A84: 46242 | B84: =A84 -> 46242 | E84: 656 | F84: =F83+E84 -> 2960 | G84: =$D$80-F84 -> 20378
A85: 46243 | B85: =A85 -> 46243 | E85: 656 | F85: =F84+E85 -> 3616 | G85: =$D$80-F85 -> 19722
A86: 46244 | B86: =A86 -> 46244 | E86: 656 | F86: =F85+E86 -> 4272 | G86: =$D$80-F86 -> 19066
A87: 46245 | B87: =A87 -> 46245 | E87: 656 | F87: =F86+E87 -> 4928 | G87: =$D$80-F87 -> 18410
A88: 46246 | B88: =A88 -> 46246 | E88: 656 | F88: =F87+E88 -> 5584 | G88: =$D$80-F88 -> 17754
A89: 46247 | B89: =A89 -> 46247 | E89: 655 | F89: =F88+E89 -> 6239 | G89: =$D$80-F89 -> 17099
A90: 46248 | B90: =A90 -> 46248 | E90: 647 | F90: =F89+E90 -> 6886 | G90: =$D$80-F90 -> 16452
A91: 46249 | B91: =A91 -> 46249 | E91: 656 | F91: =F90+E91 -> 7542 | G91: =$D$80-F91 -> 15796
A92: 46250 | B92: =A92 -> 46250 | E92: 642 | F92: =F91+E92 -> 8184 | G92: =$D$80-F92 -> 15154
A93: 46251 | B93: =A93 -> 46251 | E93: 647 | F93: =F92+E93 -> 8831 | G93: =$D$80-F93 -> 14507
A94: 46252 | B94: =A94 -> 46252 | E94: 646 | F94: =F93+E94 -> 9477 | G94: =$D$80-F94 -> 13861
A95: 46253 | B95: =A95 -> 46253 | E95: 654 | F95: =F94+E95 -> 10131 | G95: =$D$80-F95 -> 13207
... A116: 46274 | B116: =A116 -> 46274 | E116: 175 | F116: =F115+E116 -> 23338 | G116: =$D$80-F116 -> 0
C117: 07-4020A-UECP-80 | D117: 480 | E117: 462 | F117: =E117 -> 462 | G117: =$D$117-F117 -> 18 | H117: 46283 | I117: 480 | J117: WWMUEA-21.5*C16.5 | K117: 46275 | L117: 1A | M117: M01150826063 | P117: 37.8 | Q117: 10/7出貨 | R117: 清金+電鍍+雷雕
A118: 46275 | B118: =A118 -> 46275 | E118: 40 | F118: =E118+F117 -> 502 | G118: =$D$117-F118 -> -22
C119: 07-4045A-UECP-80 | D119: 220 | E119: 230 | F119: =E119 -> 230 | G119: =$D$119-F119 -> -10 | H119: 46283 | I119: 220 | J119: WWMUEA-21.5*C16.5 | K119: 46275 | L119: 1A | M119: M01150826103 | P119: 38.6 | Q119: 10/7出貨 | R119: 清金+電鍍+雷雕
C120: 07-4030A-UECP-80 | D120: 2560 | E120: 375 | F120: =E120 -> 375 | G120: =$D$120-F120 -> 2185 | H120: 46283 | I120: 2560 | J120: WWMUEA-21.5*C16.5 | K120: 46275 | L120: 1A | M120: M01150826066 | Q120: 10/7出貨 | R120: 清金+電鍍+雷雕
A121: 46276 | B121: =A121 -> 46276 | E121: 768 | F121: =F120+E121 -> 1143 | G121: =$D$120-F121 -> 1417
A122: 46277 | B122: =A122 -> 46277 | E122: 806 | F122: =F121+E122 -> 1949 | G122: =$D$120-F122 -> 611
A123: 46278 | B123: =A123 -> 46278 | E123: 658 | F123: =F122+E123 -> 2607 | G123: =$D$120-F123 -> -47
A124: 46279 | B124: =A124 -> 46279 | C124: 07-4060A-UECP-80 | D124: =I127 -> 1370 | E124: 531 | F124: =E124 -> 531 | G124: =$D$124-F124 -> 839 | H124: 46283 | I124: 900 | J124: WWMUEA-21.5*C16.5 | K124: 46275 | L124: 1A | M124: M01150826072 | Q124: 10/7出貨 | R124: 清金+電鍍+雷雕
A125: 46280 | B125: =A125 -> 46280 | E125: 562 | F125: =E125+F124 -> 1093 | G125: =$D$124-F125 -> 277 | H125: 46286 | I125: 400 | J125: WWMUEA-21.5*C16.5 | K125: 46275 | L125: 1A | M125: M01150831164 | Q125: 10/8出貨 | R125: 清金+電鍍+雷雕
A126: 46281 | B126: =A126 -> 46281 | E126: 600 | F126: =E126+F125 -> 1693 | G126: =$D$124-F126 -> -323 | H126: 46278 | I126: 70 | J126: WWMUEA-21.5*C16.5 | K126: 46275 | L126: 1A | M126: M01150728030 | Q126: 補報廢 | R126: 清金+電鍍+雷雕
I127: =SUM(I124:I126) -> 1370
...

Sheet C29
A1: 日期 | C1: 品名(42圓) | D1: 投產數 | E1: 當日產量 | F1: 累積產量 | G1: 未生產數 | H1: 預交日 | I1: 訂單數量 | J1: 銅條 | K1: 進料日 | L1: 架位 | M1: 工令單號 | N1: 實際入庫 | O1: 差異 | P1: 單重 | Q1: 備註(出貨日) | R1: 後製程
A2: 46174 | B2: =A2 -> 46174 | C2: 9314-008NL-80 | D2: 845 | E2: 392 | F2: =E2 -> 392 | G2: =$D$2-F2 -> 453 | H2: 46176 | I2: 845 | J2: WWHJ6CA-17.5 | K2: 46168 | L2: 18C右 | M2: M01150423070 | Q2: 6/5出貨 | R2: 去毛邊+滾字
A3: 46175 | B3: =A3 -> 46175 | E3: 594 | F3: =F2+E3 -> 986 | G3: =$D$2-F3 -> -141
A4: 46176 | B4: =A4 -> 46176 | C4: GY.0693.1-80 | D4: 1620 | E4: 183 | F4: =E4 -> 183 | G4: =$D$4-F4 -> 1437 | H4: 46176 | I4: 1620 | J4: WWMJ6CA-35.5 | K4: 46167 | L4: 19D | M4: M01150507138 | Q4: 6/22出貨 | R4: 拋光+電鍍
A5: 46177 | B5: =A5 -> 46177 | E5: 282 | F5: =F4+E5 -> 465 | G5: =$D$4-F5 -> 1155
A6: 46178 | B6: =A6 -> 46178 | E6: 304 | F6: =F5+E6 -> 769 | G6: =$D$4-F6 -> 851
A7: 46179 | B7: =A7 -> 46179 | E7: 302 | F7: =F6+E7 -> 1071 | G7: =$D$4-F7 -> 549
A8: 46180 | B8: =A8 -> 46180 | E8: 304 | F8: =F7+E8 -> 1375 | G8: =$D$4-F8 -> 245
A9: 46181 | B9: =A9 -> 46181 | E9: 245 | F9: =F8+E9 -> 1620 | G9: =$D$4-F9 -> 0
C10: GY.0693.1-80 | D10: 1620 | E10: 59 | F10: =E10 -> 59 | G10: =$D$10-F10 -> 1561 | H10: 46192 | I10: 1620 | J10: WWMJ6CA-35.5 | K10: 46178 | L10: 19D | M10: M01150520101 | Q10: 7/6出貨 | R10: 拋光+電鍍
A11: 46182 | B11: =A11 -> 46182 | E11: 299 | F11: =F10+E11 -> 358 | G11: =$D$10-F11 -> 1262
A12: 46183 | B12: =A12 -> 46183 | E12: 303 | F12: =F11+E12 -> 661 | G12: =$D$10-F12 -> 959
A13: 46184 | B13: =A13 -> 46184 | E13: 305 | F13: =F12+E13 -> 966 | G13: =$D$10-F13 -> 654
A14: 46185 | B14: =A14 -> 46185 | E14: 304 | F14: =F13+E14 -> 1270 | G14: =$D$10-F14 -> 350
A15: 46186 | B15: =A15 -> 46186 | E15: 305 | F15: =F14+E15 -> 1575 | G15: =$D$10-F15 -> 45
A16: 46187 | B16: =A16 -> 46187 | E16: 303 | F16: =F15+E16 -> 1878 | G16: =$D$10-F16 -> -258
A17: 46188 | B17: =A17 -> 46188 | C17: F00280-80 | D17: 3 | E17: 3 | F17: =E17 -> 3 | G17: =$D$17-F17 -> 0 | H17: 46204 | I17: 3 | J17: WWHUECA-25.4 | K17: 3C | M17: M01150605001
C18: GY.0763.1-80 | D18: 500 | E18: 303 | F18: =E18 -> 303 | G18: =$D$18-F18 -> 197 | H18: 46205 | I18: 150 | J18: WWMJ6CA-24.0 | K18: 46185 | M18: M01150527034 | Q18: 7/20出貨(補報廢) | R18: 沖齒+電鍍
A19: 46189 | B19: =A19 -> 46189 | E19: 233 | F19: =E19+F18 -> 536 | G19: =$D$18-F19 -> -36
C20: 7000-055-000-80 | D20: 3119 | E20: 451 | F20: =E20 -> 451 | G20: =$D$20-F20 -> 2668 | H20: 46188 | I20: 3119 | J20: WWMJ4A-32*C26 | K20: 46175 | L20: 12D | M20: M01150508081 | Q20: 622出貨
A21: 46190 | B21: =A21 -> 46190 | E21: 930 | F21: =F20+E21 -> 1381 | G21: =$D$20-F21 -> 1738
A22: 46191 | B22: =A22 -> 46191 | E22: 931 | F22: =F21+E22 -> 2312 | G22: =$D$20-F22 -> 807
A23: 46192 | B23: =A23 -> 46192 | E23: 925 | F23: =F22+E23 -> 3237 | G23: =$D$20-F23 -> -118
A24: 46193 | B24: =A24 -> 46193 | E24: 264 | F24: =F23+E24 -> 3501 | G24: =$D$20-F24 -> -382
C25: P03112.J4NT-80 | D25: =I29 -> 4098 | E25: 831 | F25: =E25 -> 831 | G25: =$D$25-F25 -> 3267 | H25: 46195 | I25: 1350 | J25: WWMJ4CA-30UC-1 | K25: 46169 | L25: 待確認 | M25: M01150508068 | Q25: 6/30出貨 | R25: 雷射雕刻
A26: 46194 | B26: =A26 -> 46194 | E26: 1701 | F26: =F25+E26 -> 2532 | G26: =$D$25-F26 -> 1566 | H26: 46211 | I26: 1300 | J26: WWMJ4CA-30UC-1 | K26: 46184 | L26: L1-1 | M26: M01150601194 | Q26: 7/22出貨 | R26: 雷射雕刻
A27: 46195 | B27: =A27 -> 46195 | E27: 1720 | F27: =F26+E27 -> 4252 | G27: =$D$25-F27 -> -154 | H27: 46216 | I27: 1200 | J27: WWMJ4CA-30UC-1 | K27: 46191 | L27: L1-1 | M27: M01150608005 | Q27: 7/22出貨 | R27: 雷射雕刻
A28: 46196 | B28: =A28 -> 46196 | E28: 88 | F28: =E28+F27 -> 4340 | G28: =$D$25-F28 -> -242 | H28: 46216 | I28: 248 | J28: WWMJ4CA-30UC-1 | L28: L1-1 | M28: M01150618164
I29: =SUM(I25:I28) -> 4098
C30: GY.3462.1-80 | D30: 7000 | E30: 699 | F30: =E30 -> 699 | G30: =$D$30-F30 -> 6301 | H30: 46191 | I30: 7000 | J30: WWMJ6CA-27.0 | K30: 46191 | L30: 19C | M30: M01150515023 | Q30: 7/6出貨 | R30: 電鍍
A31: 46197 | B31: =A31 -> 46197 | E31: 925 | F31: =E31+F30 -> 1624 | G31: =$D$30-F31 -> 5376 | H31: C29 | I31: 3126
A32: 46198 | B32: =A32 -> 46198 | E32: 925 | F32: =E32+F31 -> 2549 | G32: =$D$30-F32 -> 4451 | H32: C33 | I32: 3874
A33: 46199 | B33: =A33 -> 46199 | E33: 577 | F33: =E33+F32 -> 3126 | G33: =$D$30-F33 -> 3874
C34: 05240-0100-80 | D34: =I39 -> 18194 | E34: 260 | F34: =E34 -> 260 | G34: =$D$34-F34 -> 17934 | H34: 46198 | I34: 2900 | J34: WWHUACA-36.5 | K34: 46181 | L34: 8D | M34: M01150526039 | Q34: 7/3出貨
A35: 46200 | B35: =A35 -> 46200 | E35: 896 | F35: =F34+E35 -> 1156 | G35: =$D$34-F35 -> 17038 | H35: 46202 | I35: 1344 | J35: WWHUACA-36.5 | K35: 46188 | L35: 8D | M35: M01150604018 | Q35: 7/6出貨
A36: 46201 | B36: =A36 -> 46201 | E36: 770 | F36: =F35+E36 -> 1926 | G36: =$D$34-F36 -> 16268 | H36: 46223 | I36: 9600 | J36: WWHUACA-36.5 | K36: 46195 | L36: 8D | M36: M01150609045 | Q36: 7/14出貨
A37: 46202 | B37: =A37 -> 46202 | E37: 844 | F37: =F36+E37 -> 2770 | G37: =$D$34-F37 -> 15424 | H37: 46216 | I37: 4050 | J37: WWHUACA-36.5 | K37: 46202 | L37: 8D | M37: M01150616182 | N37: 7/9-SCH | Q37: 7/20出貨
A38: 46203 | B38: =A38 -> 46203 | E38: 845 | F38: =F37+E38 -> 3615 | G38: =$D$34-F38 -> 14579 | H38: 46230 | I38: 300 | J38: WWHUACA-36.5 | K38: 46209 | L38: 8D | M38: M01150618186 | N38: 7/9-SCH | Q38: 8/3出貨
A39: 46204 | B39: =A39 -> 46204 | E39: 844 | F39: =F38+E39 -> 4459 | G39: =$D$34-F39 -> 13735 | I39: =SUM(I34:I38) -> 18194
A40: 46205 | B40: =A40 -> 46205 | E40: 844 | F40: =F39+E40 -> 5303 | G40: =$D$34-F40 -> 12891
A41: 46206 | B41: =A41 -> 46206 | E41: 844 | F41: =F40+E41 -> 6147 | G41: =$D$34-F41 -> 12047
A42: 46207 | B42: =A42 -> 46207 | E42: 845 | F42: =F41+E42 -> 6992 | G42: =$D$34-F42 -> 11202
A43: 46208 | B43: =A43 -> 46208 | E43: 845 | F43: =F42+E43 -> 7837 | G43: =$D$34-F43 -> 10357
A44: 46209 | B44: =A44 -> 46209 | E44: 844 | F44: =F43+E44 -> 8681 | G44: =$D$34-F44 -> 9513
A45: 46210 | B45: =A45 -> 46210 | E45: 844 | F45: =F44+E45 -> 9525 | G45: =$D$34-F45 -> 8669
A46: 46211 | B46: =A46 -> 46211 | E46: 844 | F46: =F45+E46 -> 10369 | G46: =$D$34-F46 -> 7825
A47: 46212 | B47: =A47 -> 46212 | E47: 843 | F47: =F46+E47 -> 11212 | G47: =$D$34-F47 -> 6982
A48: 46213 | B48: =A48 -> 46213 | E48: 897 | F48: =F47+E48 -> 12109 | G48: =$D$34-F48 -> 6085
A49: 46214 | B49: =A49 -> 46214 | E49: 889 | F49: =F48+E49 -> 12998 | G49: =$D$34-F49 -> 5196
A50: 46215 | B50: =A50 -> 46215 | E50: 897 | F50: =F49+E50 -> 13895 | G50: =$D$34-F50 -> 4299
A51: 46216 | B51: =A51 -> 46216 | E51: 897 | F51: =F50+E51 -> 14792 | G51: =$D$34-F51 -> 3402
... A55: 46220 | B55: =A55 -> 46220 | E55: 437 | F55: =F54+E55 -> 17916 | G55: =$D$34-F55 -> 278
C56: D02001-4A-80 | D56: =I58 -> 2000 | E56: 328 | F56: =E56 -> 328 | G56: =$D$56-F56 -> 1672 | H56: 46223 | I56: 1000 | J56: WWHDACA-27.0 | K56: 46210 | L56: 15C右 | M56: M01150617045 | Q56: 8/24出貨 | R56: 詮宇勝+拋光+電鍍
A57: 46221 | B57: =A57 -> 46221 | E57: 694 | F57: =F56+E57 -> 1022 | G57: =$D$56-F57 -> 978 | H57: 46274 | I57: 1000 | J57: WWHDACA-27.0 | K57: 46210 | L57: 15C右 | M57: M01150617065 | Q57: 10/19出貨 | R57: 詮宇勝+拋光+電鍍
A58: 46222 | B58: =A58 -> 46222 | E58: 695 | F58: =F57+E58 -> 1717 | G58: =$D$56-F58 -> 283 | I58: =SUM(I56:I57) -> 2000
A59: 46223 | B59: =A59 -> 46223 | E59: 312 | F59: =F58+E59 -> 2029 | G59: =$D$56-F59 -> -29
C60: BY.0243.1-80 | D60: 1050 | E60: 249 | F60: =E60 -> 249 | G60: =$D$60-F60 -> 801 | H60: 46223 | I60: 1050 | J60: WWMJ4CA-23.5 | K60: 46206 | L60: 22C | M60: M01150629008 | Q60: 8/3出貨 | R60: 拋光+滾字+電鍍
A61: 46224 | B61: =A61 -> 46224 | E61: 665 | F61: =F60+E61 -> 914 | G61: =$D$60-F61 -> 136
A62: 46225 | B62: =A62 -> 46225 | E62: 146 | F62: =F61+E62 -> 1060 | G62: =$D$60-F62 -> -10
C63: R10251-80 | D63: 1150 | E63: 406 | F63: =E63 -> 406 | G63: =$D$63-F63 -> 744 | H63: 46232 | I63: 1150 | J63: WWMJ6CA-17.0 | K63: 46213 | L63: 17C | M63: M01150701059 | Q63: 8/13出貨 | R63: 沖角+酸洗
A64: 46226 | B64: =A64 -> 46226 | E64: 645 | F64: =F63+E64 -> 1051 | G64: =$D$63-F64 -> 99
A65: 46227 | B65: =A65 -> 46227 | E65: 131 | F65: =F64+E65 -> 1182 | G65: =$D$63-F65 -> -32
C66: P24007.U7NT-80 | D66: 1300 | E66: 325 | F66: =E66 -> 325 | G66: =$D$66-F66 -> 975 | H66: 46230 | I66: 1300 | J66: WWHU7CA-28.5-87 | K66: 46225 | L66: 1C | M66: M01150706010 | Q66: 8/6出貨 | R66: 熱處理+洗色+鉚合
A67: 46228 | B67: =A67 -> 46228 | C67: 需求23 | E67: 473 | F67: =F66+E67 -> 798 | G67: =$D$66-F67 -> 502
A68: 46229 | B68: =A68 -> 46229 | E68: 313 | F68: =F67+E68 -> 1111 | G68: =$D$66-F68 -> 189
A69: 46230 | B69: =A69 -> 46230 | E69: 222 | F69: =F68+E69 -> 1333 | G69: =$D$66-F69 -> -33
C70: BY.0073.1-80 | D70: 6000 | E70: 773 | F70: =E70 -> 773 | G70: =$D$70-F70 -> 5227 | H70: 46234 | I70: 6000 | J70: WWMJ4A-21*C15.5 | K70: 46230 | L70: 13A | M70: M01150602027 | Q70: 8/3出貨 | R70: 剖溝+電鍍
A71: 46231 | B71: =A71 -> 46231 | E71: 1688 | F71: =F70+E71 -> 2461 | G71: =$D$70-F71 -> 3539 | J71: WWMJ4A-21*C15.5 | K71: 46230 | L71: 13A
A72: 46232 | B72: =A72 -> 46232 | E72: 1691 | F72: =F71+E72 -> 4152 | G72: =$D$70-F72 -> 1848
A73: 46233 | B73: =A73 -> 46233 | E73: 1618 | F73: =F72+E73 -> 5770 | G73: =$D$70-F73 -> 230
A74: 46234 | B74: =A74 -> 46234 | E74: 276 | F74: =F73+E74 -> 6046 | G74: =$D$70-F74 -> -46
C75: R00275-80 | D75: 100 | E75: 121 | F75: =E75 -> 121 | G75: =$D$75-F75 -> -21 | H75: 46234 | I75: 100 | J75: WWMUCCA-20 | L75: 6C | M75: M01150713072 | Q75: 8/14出貨 | R75: 清金+超音波清洗
C76: R10252-80 | D76: 600 | E76: 143 | F76: =E76 -> 143 | G76: =$D$76-F76 -> 457 | H76: 46233 | I76: 600 | J76: WWMJ6CA-20.0 | K76: 46227 | L76: 18D | M76: M01150701063 | Q76: 8/13出貨 | R76: 酸洗
A77: 46235 | B77: =A77 -> 46235 | E77: 487 | F77: =F76+E77 -> 630 | G77: =$D$76-F77 -> -30
C78: R00284-80 | D78: 2795 | E78: 297 | F78: =E78 -> 297 | G78: =$D$78-F78 -> 2498 | H78: 46232 | I78: 2795 | J78: WWMJ4CA-21.5 | K78: 46209 | L78: 24D | M78: M01150626025 | Q78: 8/7出貨
A79: 46236 | B79: =A79 -> 46236 | E79: 1258 | F79: =F78+E79 -> 1555 | G79: =$D$78-F79 -> 1240
A80: 46237 | B80: =A80 -> 46237 | E80: 976 | F80: =F79+E80 -> 2531 | G80: =$D$78-F80 -> 264
A81: 46238 | B81: =A81 -> 46238 | E81: 278 | F81: =E81+F80 -> 2809 | G81: =$D$78-F81 -> -14
C82: W60174WE-80 | D82: 500 | E82: 454 | F82: =E82 -> 454 | G82: =$D$82-F82 -> 46 | H82: 46240 | I82: 500 | J82: WWMJ4CA-19.0 | L82: 21C.H1-3 | M82: M01150708144 | Q82: 8/27出貨 | R82: 拋光+電鍍
C83: F10244-80 | D83: 882 | E83: 43 | F83: =E83 -> 43 | G83: =$D$83-F83 -> 839 | H83: 46237 | I83: 882 | J83: WWMUICA-24.0 | K83: 46200 | L83: 木箱 | M83: M01150525026 | Q83: 8/17出貨 | R83: 沖角+電鍍
A84: 46239 | B84: =A84 -> 46239 | E84: 552 | F84: =F83+E84 -> 595 | G84: =$D$83-F84 -> 287
A85: 46240 | B85: =A85 -> 46240 | E85: 310 | F85: =F84+E85 -> 905 | G85: =$D$83-F85 -> -23
C86: D02001-5A-80 | D86: 840 | E86: 357 | F86: =E86 -> 357 | G86: =$D$86-F86 -> 483 | H86: 46247 | I86: 840 | J86: WWMDACA-17.5 | K86: 先用此料 | L86: 16D | M86: M01150617047 | Q86: 8/15出貨
A87: 46241 | B87: =A87 -> 46241 | E87: 513 | F87: =F86+E87 -> 870 | G87: =$D$86-F87 -> -30
C88: P03112.J4NT-80 | D88: =I94 -> 6870 | E88: 665 | F88: =E88 -> 665 | G88: =$D$88-F88 -> 6205 | H88: 46244 | I88: 1400 | J88: WWMJ4CA-30UC-1 | K88: 46217 | L88: K1-3 | M88: M01150702036 | Q88: 8/20出貨 | R88: 雷雕
A89: 46242 | B89: =A89 -> 46242 | E89: 1717 | F89: =F88+E89 -> 2382 | G89: =$D$88-F89 -> 4488 | H89: 46247 | I89: 450 | J89: WWMJ4CA-30UC-1 | K89: 46225 | L89: K1-3 | M89: M01150709053 | Q89: 8/26出貨 | R89: 雷雕
A90: 46243 | B90: =A90 -> 46243 | E90: 1709 | F90: =F89+E90 -> 4091 | G90: =$D$88-F90 -> 2779 | H90: 46251 | I90: 720 | J90: WWMJ4CA-30UC-1 | K90: 46225 | L90: K1-3 | M90: M01150710075 | Q90: 8/24出貨
A91: 46244 | B91: =A91 -> 46244 | E91: 1714 | F91: =F90+E91 -> 5805 | G91: =$D$88-F91 -> 1065 | H91: 46254 | I91: 900 | J91: WWMJ4CA-30UC-1 | K91: 46234 | L91: K1-3 | M91: M01150717106 | Q91: 9/3出貨 | R91: 雷雕
A92: 46245 | B92: =A92 -> 46245 | E92: 1109 | F92: =F91+E92 -> 6914 | G92: =$D$88-F92 -> -44 | H92: 46265 | I92: 2600 | J92: WWMJ4CA-30UC-1 | K92: 46234 | L92: K1-3 | M92: M01150724031 | Q92: 9/10出貨 | R92: 雷雕
H93: 46251 | I93: 800 | J93: WWMJ4CA-30UC-1 | K93: 46246 | M93: M01150727183 | Q93: 8/24出貨
I94: =SUM(I88:I93) -> 6870 | J94: 7/28已通知請提早送允成
C95: R10298-80 | D95: 1172 | E95: 222 | F95: =E95 -> 222 | G95: =$D$95-F95 -> 950 | H95: 46261 | I95: 1172 | J95: WWMUECA-30UC-1 | K95: 46240 | L95: K1-5 | M95: M01150723110 | Q95: 9/2出貨
A96: 46246 | B96: =A96 -> 46246 | E96: 763 | F96: =F95+E96 -> 985 | G96: =$D$95-F96 -> 187
A97: 46247 | B97: =A97 -> 46247 | E97: 206 | F97: =E97+F96 -> 1191 | G97: =$D$95-F97 -> -19
C98: F00280-80 | D98: 100 | E98: 188 | F98: =E98 -> 188 | G98: =$D$98-F98 -> -88 | H98: 46258 | I98: 100 | J98: WWHUACA-25.4 | L98: 10B | M98: M01150804066 | Q98: 8/31出貨 | R98: 電鍍
C99: R10340-80 | D99: 800 | E99: 417 | F99: =E99 -> 417 | G99: =$D$99-F99 -> 383 | H99: 46266 | I99: 800 | J99: WWHUECA-23.0 | K99: 46239 | L99: 2A | M99: M01150728056 | Q99: 9/17出貨 | R99: 電鍍
A100: 46248 | B100: =A100 -> 46248 | E100: 427 | F100: =F99+E100 -> 844 | G100: =$D$99-F100 -> -44
C101: R00284-80 | D101: =I103 -> 3400 | E101: 628 | F101: =E101 -> 628 | G101: =$D$101-F101 -> 2772 | H101: 46258 | I101: 2400 | J101: WWMJ4CA-21.5 | K101: 46239 | L101: 23B | M101: M01150723078 | Q101: 9/2出貨
A102: 46249 | B102: =A102 -> 46249 | E102: 1274 | F102: =F101+E102 -> 1902 | G102: =$D$101-F102 -> 1498 | H102: 46265 | I102: 1000 | J102: WWMJ4CA-21.5 | K102: 46239 | L102: 23B | M102: M01150728048 | Q102: 9/8出貨
A103: 46250 | B103: =A103 -> 46250 | E103: 1259 | F103: =F102+E103 -> 3161 | G103: =$D$101-F103 -> 239 | I103: =SUM(I101:I102) -> 3400
...

Sheet C10
A1: 日期 | C1: 品名 | D1: 投產數 | E1: 當日產量 | F1: 累積產量 | G1: 未生產數 | H1: 預交日 | I1: 訂單數量 | J1: 銅條 | K1: 進料日 | L1: 架位 | M1: 工令單號 | N1: 實際入庫 | O1: 差異 | P1: 單重 | Q1: 備註(出貨日) | R1: 後製程
A2: 46164 | B2: =A2 -> 46164 | C2: F00089-80 | D2: =I7 -> 8413 | E2: 1257 | F2: =E2 -> 1257 | G2: =$D$2-F2 -> 7156 | H2: 46129 | I2: 4097 | J2: WWMD4CA-16.5 | K2: 46063 | L2: L1-6 | M2: M01150130146 | Q2: 6/1出貨
A3: 46165 | B3: =A3 -> 46165 | E3: 1688 | F3: =F2+E3 -> 2945 | G3: =$D$2-F3 -> 5468 | H3: 46139 | I3: 3000 | J3: WWMD4CA-16.5 | K3: 46111 | L3: L1-6 | M3: M01150325060
A4: 46166 | B4: =A4 -> 46166 | E4: 901 | F4: =F3+E4 -> 3846 | G4: =$D$2-F4 -> 4567 | H4: 46167 | I4: 11886 | J4: WWMD4CA-16.5 | K4: 46126 | L4: L1-6 | M4: M01150327103
A5: 46167 | B5: =A5 -> 46167 | E5: 1602 | F5: =F4+E5 -> 5448 | G5: =$D$2-F5 -> 2965 | I5: =SUM(I2:I4) -> 18983
A6: 46168 | B6: =A6 -> 46168 | E6: 1723 | F6: =F5+E6 -> 7171 | G6: =$D$2-F6 -> 1242 | H6: C24 | I6: 10570
A7: 46169 | B7: =A7 -> 46169 | E7: 1242 | F7: =F6+E7 -> 8413 | G7: =$D$2-F7 -> 0 | H7: C10 | I7: =I5-I6 -> 8413
C8: F00089-80 | D8: 12000 | E8: 421 | F8: =E8 -> 421 | G8: =$D$8-F8 -> 11579 | H8: 46181 | I8: 12000 | J8: WWMD4CA-16.5 | K8: 46153 | L8: L1-6.B1-3 | M8: M01150420411 | N8: 5/22-SCH | Q8: 6/15出貨
A9: 46170 | B9: =A9 -> 46170 | E9: 1737 | F9: =F8+E9 -> 2158 | G9: =$D$8-F9 -> 9842
A10: 46171 | B10: =A10 -> 46171 | E10: 1960 | F10: =F9+E10 -> 4118 | G10: =$D$8-F10 -> 7882
A11: 46172 | B11: =A11 -> 46172 | E11: 2006 | F11: =F10+E11 -> 6124 | G11: =$D$8-F11 -> 5876
A12: 46173 | B12: =A12 -> 46173 | E12: 1997 | F12: =F11+E12 -> 8121 | G12: =$D$8-F12 -> 3879
A13: 46174 | B13: =A13 -> 46174 | E13: 1970 | F13: =F12+E13 -> 10091 | G13: =$D$8-F13 -> 1909
A14: 46175 | B14: =A14 -> 46175 | E14: 1905 | F14: =F13+E14 -> 11996 | G14: =$D$8-F14 -> 4
A15: 46176 | B15: =A15 -> 46176 | E15: 4 | F15: =F14+E15 -> 12000 | G15: =$D$8-F15 -> 0
C16: F00089-80 | D16: =I18+I19 -> 22737 | E16: 1950 | F16: =E16 -> 1950 | G16: =$D$16-F16 -> 20787 | H16: 46190 | I16: 27000 | J16: WWMD4CA-16.5 | K16: 46153 | L16: L1-6.B1-3 | M16: M01150429021 | N16: 5/29-SCH | Q16: 6/24出貨
A17: 46177 | B17: =A17 -> 46177 | E17: 1948 | F17: =F16+E17 -> 3898 | G17: =$D$16-F17 -> 18839 | H17: C18 | I17: 4884
A18: 46178 | B18: =A18 -> 46178 | E18: 2048 | F18: =F17+E18 -> 5946 | G18: =$D$16-F18 -> 16791 | H18: C10 | I18: 22116
A19: 46179 | B19: =A19 -> 46179 | E19: 1958 | F19: =F18+E19 -> 7904 | G19: =$D$16-F19 -> 14833 | H19: NG | I19: 621
A20: 46180 | B20: =A20 -> 46180 | E20: 2006 | F20: =F19+E20 -> 9910 | G20: =$D$16-F20 -> 12827
A21: 46181 | B21: =A21 -> 46181 | E21: 2031 | F21: =F20+E21 -> 11941 | G21: =$D$16-F21 -> 10796
A22: 46182 | B22: =A22 -> 46182 | E22: 2056 | F22: =F21+E22 -> 13997 | G22: =$D$16-F22 -> 8740
A23: 46183 | B23: =A23 -> 46183 | E23: 2047 | F23: =F22+E23 -> 16044 | G23: =$D$16-F23 -> 6693
A24: 46184 | B24: =A24 -> 46184 | E24: 2041 | F24: =F23+E24 -> 18085 | G24: =$D$16-F24 -> 4652
A25: 46185 | B25: =A25 -> 46185 | E25: 2021 | F25: =F24+E25 -> 20106 | G25: =$D$16-F25 -> 2631
A26: 46186 | B26: =A26 -> 46186 | E26: 2046 | F26: =F25+E26 -> 22152 | G26: =$D$16-F26 -> 585
A27: 46187 | B27: =A27 -> 46187 | E27: 1982 | F27: =F26+E27 -> 24134 | G27: =$D$16-F27 -> -1397
A28: 46188 | B28: =A28 -> 46188 | E28: 272 | F28: =F27+E28 -> 24406 | G28: =$D$16-F28 -> -1669
C29: F10089-80 | D29: =I33 -> 17424 | E29: 1614 | F29: =E29 -> 1614 | G29: =$D$29-F29 -> 15810 | H29: 46209 | I29: 51000 | J29: WWMD6CP-16.5 | L29: K1-3 | M29: M01150505025 | Q29: 7/13出貨-51000
A30: 46189 | B30: =A30 -> 46189 | E30: 1970 | F30: =F29+E30 -> 3584 | G30: =$D$29-F30 -> 13840 | H30: 46223 | I30: 33000 | J30: WWMD6CP-16.5 | L30: 16A.16B | M30: M01150505031 | Q30: 7/27出貨-33000
A31: 46190 | B31: =A31 -> 46190 | E31: 1951 | F31: =F30+E31 -> 5535 | G31: =$D$29-F31 -> 11889 | I31: =SUM(I29:I30) -> 84000
A32: 46191 | B32: =A32 -> 46191 | E32: 1962 | F32: =F31+E32 -> 7497 | G32: =$D$29-F32 -> 9927 | H32: C18 | I32: =I31-I33 -> 66576
A33: 46192 | B33: =A33 -> 46192 | E33: 1768 | F33: =F32+E33 -> 9265 | G33: =$D$29-F33 -> 8159 | H33: C10 | I33: 17424
A34: 46193 | B34: =A34 -> 46193 | E34: 1935 | F34: =F33+E34 -> 11200 | G34: =$D$29-F34 -> 6224 | I34: =SUM(I32:I33) -> 84000
A35: 46194 | B35: =A35 -> 46194 | E35: 1895 | F35: =F34+E35 -> 13095 | G35: =$D$29-F35 -> 4329
A36: 46195 | B36: =A36 -> 46195 | E36: 1911 | F36: =F35+E36 -> 15006 | G36: =$D$29-F36 -> 2418
A37: 46196 | B37: =A37 -> 46196 | E37: 1927 | F37: =F36+E37 -> 16933 | G37: =$D$29-F37 -> 491
A38: 46197 | B38: =A38 -> 46197 | E38: 491 | F38: =F37+E38 -> 17424 | G38: =$D$29-F38 -> 0
C39: GY.3392.1-80 | D39: =I41 -> 29800 | E39: 906 | F39: =E39 -> 906 | G39: =$D$39-F39 -> 28894 | H39: 46223 | I39: 20000 | J39: WWMJ6CA-21.5 | K39: 46182 | L39: 17B | M39: M01150527030 | N39: 6/30已設定 | Q39: 7/20出貨 | R39: 電鍍
A40: 46198 | B40: =A40 -> 46198 | E40: 1681 | F40: =F39+E40 -> 2587 | G40: =$D$39-F40 -> 27213 | H40: 46223 | I40: 9800 | J40: WWMJ6CA-21.5 | K40: 46205 | L40: 17B | M40: M01150623006 | Q40: (客人提早出貨原8/3)
A41: 46199 | B41: =A41 -> 46199 | E41: 1668 | F41: =F40+E41 -> 4255 | G41: =$D$39-F41 -> 25545 | I41: =SUM(I39:I40) -> 29800
A42: 46200 | B42: =A42 -> 46200 | E42: 1706 | F42: =F41+E42 -> 5961 | G42: =$D$39-F42 -> 23839
A43: 46201 | B43: =A43 -> 46201 | E43: 1566 | F43: =F42+E43 -> 7527 | G43: =$D$39-F43 -> 22273
A44: 46202 | B44: =A44 -> 46202 | E44: 1682 | F44: =F43+E44 -> 9209 | G44: =$D$39-F44 -> 20591
A45: 46203 | B45: =A45 -> 46203 | E45: 1685 | F45: =F44+E45 -> 10894 | G45: =$D$39-F45 -> 18906
A46: 46204 | B46: =A46 -> 46204 | E46: 1673 | F46: =F45+E46 -> 12567 | G46: =$D$39-F46 -> 17233
A47: 46205 | B47: =A47 -> 46205 | E47: 1674 | F47: =F46+E47 -> 14241 | G47: =$D$39-F47 -> 15559
A48: 46206 | B48: =A48 -> 46206 | E48: 1629 | F48: =F47+E48 -> 15870 | G48: =$D$39-F48 -> 13930
A49: 46207 | B49: =A49 -> 46207 | E49: 1619 | F49: =F48+E49 -> 17489 | G49: =$D$39-F49 -> 12311
A50: 46208 | B50: =A50 -> 46208 | E50: 1728 | F50: =F49+E50 -> 19217 | G50: =$D$39-F50 -> 10583
A51: 46209 | B51: =A51 -> 46209 | E51: 1712 | F51: =F50+E51 -> 20929 | G51: =$D$39-F51 -> 8871
A52: 46210 | B52: =A52 -> 46210 | E52: 1711 | F52: =F51+E52 -> 22640 | G52: =$D$39-F52 -> 7160
A53: 46211 | B53: =A53 -> 46211 | E53: 1715 | F53: =F52+E53 -> 24355 | G53: =$D$39-F53 -> 5445
... A57: 46215 | B57: =A57 -> 46215 | E57: 485 | F57: =F56+E57 -> 29850 | G57: =$D$39-F57 -> -50
A58: 46216 | B58: =A58 -> 46216 | C58: 50.1173-80 | D58: 30105 | E58: 1624 | F58: =E58 -> 1624 | G58: =$D$58-F58 -> 28481 | H58: 206/07/20 | I58: 30105 | J58: WWMJ4A-24.3*C19.1 | K58: 46196 | L58: V1 | M58: M01150528019 | Q58: 8/3出貨 | R58: 電鍍
A59: 46217 | B59: =A59 -> 46217 | C59: 清洗 | E59: 1648 | F59: =F58+E59 -> 3272 | G59: =$D$58-F59 -> 26833
A60: 46218 | B60: =A60 -> 46218 | E60: 1651 | F60: =F59+E60 -> 4923 | G60: =$D$58-F60 -> 25182
A61: 46219 | B61: =A61 -> 46219 | E61: 1662 | F61: =F60+E61 -> 6585 | G61: =$D$58-F61 -> 23520
A62: 46220 | B62: =A62 -> 46220 | E62: 1656 | F62: =F61+E62 -> 8241 | G62: =$D$58-F62 -> 21864
A63: 46221 | B63: =A63 -> 46221 | E63: 1636 | F63: =F62+E63 -> 9877 | G63: =$D$58-F63 -> 20228
A64: 46222 | B64: =A64 -> 46222 | E64: 1647 | F64: =F63+E64 -> 11524 | G64: =$D$58-F64 -> 18581
A65: 46223 | B65: =A65 -> 46223 | E65: 1686 | F65: =F64+E65 -> 13210 | G65: =$D$58-F65 -> 16895
A66: 46224 | B66: =A66 -> 46224 | E66: 1669 | F66: =F65+E66 -> 14879 | G66: =$D$58-F66 -> 15226
A67: 46225 | B67: =A67 -> 46225 | E67: 1684 | F67: =F66+E67 -> 16563 | G67: =$D$58-F67 -> 13542
A68: 46226 | B68: =A68 -> 46226 | E68: 1649 | F68: =F67+E68 -> 18212 | G68: =$D$58-F68 -> 11893
A69: 46227 | B69: =A69 -> 46227 | E69: 1666 | F69: =F68+E69 -> 19878 | G69: =$D$58-F69 -> 10227
A70: 46228 | B70: =A70 -> 46228 | E70: 1643 | F70: =F69+E70 -> 21521 | G70: =$D$58-F70 -> 8584
A71: 46229 | B71: =A71 -> 46229 | E71: 1644 | F71: =F70+E71 -> 23165 | G71: =$D$58-F71 -> 6940
... A76: 46234 | B76: =A76 -> 46234 | E76: 194 | F76: =F75+E76 -> 29960 | G76: =$D$58-F76 -> 145
C77: F00065-80 | D77: 381 | E77: 258 | F77: =E77 -> 258 | G77: =$D$77-F77 -> 123 | H77: 206/07/29 | I77: 381 | J77: WWMUACA-16 | K77: 8A | M77: M01150703126 | Q77: 8/6出貨
A78: 46235 | B78: =A78 -> 46235 | E78: 169 | F78: =F77+E78 -> 427 | G78: =$D$77-F78 -> -46
C79: P97020.J4NT-80 | D79: 969 | E79: 767 | F79: =E79 -> 767 | G79: =$D$79-F79 -> 202 | H79: 46233 | I79: 969 | J79: WWMJ4CA-16.0 | K79: 46213 | L79: 25B | M79: M01150707005 | Q79: 8/6出貨
A80: 46236 | B80: =A80 -> 46236 | E80: 234 | F80: =F79+E80 -> 1001 | G80: =$D$79-F80 -> -32
C81: W61999-1-1-80 | D81: 500 | E81: 450 | F81: =E81 -> 450 | G81: =$D$81-F81 -> 50 | H81: 46233 | I81: 500 | J81: WWMJ4CA-16.0 | K81: 46209 | L81: 25A | M81: M01150626129 | Q81: 8/10出貨
A82: 46237 | B82: =A82 -> 46237 | E82: 100 | F82: =F81+E82 -> 550 | G82: =$D$81-F82 -> -50
C83: W61998-1-1-80 | D83: =I86 -> 2950 | E83: 480 | F83: =E83 -> 480 | G83: =$D$83-F83 -> 2470 | H83: 46237 | I83: 1000 | J83: WWMJ4CA-14.5 | K83: 46210 | L83: 22A | M83: M01150629020 | Q83: 8/11出貨
A84: 46238 | B84: =A84 -> 46238 | E84: 693 | F84: =F83+E84 -> 1173 | G84: =$D$83-F84 -> 1777 | H84: 46248 | I84: 750 | J84: WWMJ4CA-14.5 | L84: 22A | M84: M01150715086 | N84: 8/4-SCH | Q84: 8/24出貨
A85: 46239 | B85: =A85 -> 46239 | E85: 764 | F85: =F84+E85 -> 1937 | G85: =$D$83-F85 -> 1013 | H85: 46266 | I85: 1200 | J85: WWMJ4CA-14.5 | L85: 25A | M85: M01150803003 | N85: 8/4-SCH | Q85: 9/18出貨 | R85: 雷雕
A86: 46240 | B86: =A86 -> 46240 | E86: 766 | F86: =F85+E86 -> 2703 | G86: =$D$83-F86 -> 247 | I86: =SUM(I83:I85) -> 2950
A87: 46241 | B87: =A87 -> 46241 | E87: 357 | F87: =F86+E87 -> 3060 | G87: =$D$83-F87 -> -110
C88: R00350-80 | D88: =I90 -> 4002 | E88: 487 | F88: =E88 -> 487 | G88: =$D$88-F88 -> 3515 | H88: 46241 | I88: 4000 | J88: WWHJ4CA-14.3 | K88: 46226 | L88: 23A | M88: M01150715245 | Q88: 8/17出貨
A89: 46242 | B89: =A89 -> 46242 | E89: 1111 | F89: =F88+E89 -> 1598 | G89: =$D$88-F89 -> 2404 | H89: 46241 | I89: 2 | J89: WWHJ4CA-14.3 | K89: 46226 | L89: 23A | M89: M01150715248 | N89: 8/10-SCH | Q89: 樣品
A90: 46243 | B90: =A90 -> 46243 | E90: 1109 | F90: =F89+E90 -> 2707 | G90: =$D$88-F90 -> 1295 | I90: =SUM(I88:I89) -> 4002
A91: 46244 | B91: =A91 -> 46244 | E91: 1106 | F91: =F90+E91 -> 3813 | G91: =$D$88-F91 -> 189
A92: 46245 | B92: =A92 -> 46245 | E92: 255 | F92: =F91+E92 -> 4068 | G92: =$D$88-F92 -> -66
C93: F10078-80 | D93: 750 | E93: 515 | F93: =E93 -> 515 | G93: =$D$93-F93 -> 235 | H93: 46252 | I93: 750 | J93: WWMD6CP-13.5 | L93: 16C | M93: M01150505028 | Q93: 8/24出貨
A94: 46246 | B94: =A94 -> 46246 | E94: 258 | F94: =F93+E94 -> 773 | G94: =$D$93-F94 -> -23
C95: F10089-80 | D95: 2215 | E95: 705 | F95: =E95 -> 705 | G95: =$D$95-F95 -> 1510 | H95: 46223 | I95: 2215 | J95: WWMD6CP-16.5 | K95: 46245 | L95: L1-1 | M95: M01150505031 | Q95: 8/24出貨
A96: 46247 | B96: =A96 -> 46247 | E96: 1762 | F96: =F95+E96 -> 2467 | G96: =$D$95-F96 -> -252
A97: 46248 | B97: =A97 -> 46248 | E97: 213 | F97: =F96+E97 -> 2680 | G97: =$D$95-F97 -> -465
C98: 29982-0100-80 | D98: 1827 | E98: 706 | F98: =E98 -> 706 | G98: =$D$98-F98 -> 1121 | H98: 46244 | I98: 1200 | J98: WWMUACA-14.5 | K98: 46234 | L98: 9B | M98: M01150720019 | Q98: 8/17出貨 | R98: 沖齒
A99: 46249 | B99: =A99 -> 46249 | E99: 1090 | F99: =F98+E99 -> 1796 | G99: =$D$98-F99 -> 31 | H99: 46258 | I99: 600 | J99: WWMUACA-14.5 | K99: 46241 | L99: 9B | M99: M01150805062 | Q99: 9/7出貨 | R99: 沖齒
A100: 46250 | B100: =A100 -> 46250 | E100: 106 | F100: =F99+E100 -> 1902 | G100: =$D$98-F100 -> -75 | I100: =SUM(I98:I99) -> 1800
C101: YHM083-80 | D101: 2000 | E101: 636 | F101: =E101 -> 636 | G101: =$D$101-F101 -> 1364 | H101: 46248 | I101: 2000 | J101: WWMD4CA-7.85 | L101: 5A | M101: M01150715053 | Q101: 8/24出貨
A102: 46251 | B102: =A102 -> 46251 | E102: 1325 | F102: =F101+E102 -> 1961 | G102: =$D$101-F102 -> 39
A103: 46252 | B103: =A103 -> 46252 | E103: 114 | F103: =F102+E103 -> 2075 | G103: =$D$101-F103 -> -75
C104: W61909-6-80 | D104: 600 | E104: 635 | F104: =E104 -> 635 | G104: =$D$104-F104 -> -35 | H104: 46254 | I104: 600 | J104: WWMJ4CA-17.5 | L104: 23C | M104: M01150722162 | Q104: 9/7出貨 | R104: 鑽孔
C105: GV.0003.1-80 | D105: =I107 -> 2750 | E105: 355 | F105: =E105 -> 355 | G105: =$D$105-F105 -> 2395 | H105: 46244 | I105: 800 | J105: WWMJ6CA-11.5 | L105: 18A | M105: M01150708236 | P105: 12.16 | Q105: 8/31出貨 | R105: 倒角+電鍍
A106: 46253 | B106: =A106 -> 46253 | E106: 1370 | F106: =F105+E106 -> 1725 | G106: =$D$105-F106 -> 1025 | H106: 46274 | I106: 1950 | J106: WWMJ6CA-11.5 | M106: M01150807305 | P106: 29.64 | Q106: 9/28出貨 | R106: 倒角+電鍍
A107: 46254 | B107: =A107 -> 46254 | E107: 1297 | F107: =F106+E107 -> 3022 | G107: =$D$105-F107 -> -272 | I107: =SUM(I105:I106) -> 2750
...

Sheet C16-長
A1: 日期 | C1: 品名 | D1: 投產數 | E1: 當日產量 | F1: 累積產量 | G1: 未生產數 | H1: 預交日 | I1: 訂單數量 | J1: 銅條 | K1: 進料日 | L1: 架位 | M1: 工令單號 | N1: 實際入庫 | O1: 差異 | P1: 單重 | Q1: 備註(出貨日) | R1: 後製程
A2: 46173 | B2: =A2 -> 46173 | C2: W61998-2-80 | D2: =I5 -> 6000 | E2: 156 | F2: =E2 -> 156 | G2: =$D$2-F2 -> 5844 | H2: 46183 | I2: 3000 | J2: WWMS3A-16 | K2: 46161 | L2: 27C | M2: M01150511009 | Q2: 7/6出貨-371(BASSCO) | R2: 研磨+超因波清洗+焊接
A3: 46174 | B3: =A3 -> 46174 | E3: 368 | F3: =F2+E3 -> 524 | G3: =$D$2-F3 -> 5476 | H3: 46192 | I3: 500 | J3: WWMS3A-16 | K3: 46176 | L3: 28B | M3: M01150601020 | N3: 6/3-SCH | Q3: 7/13出貨-2000 | R3: 研磨+超因波清洗+焊接
A4: 46175 | B4: =A4 -> 46175 | E4: 363 | F4: =F3+E4 -> 887 | G4: =$D$2-F4 -> 5113 | H4: 46199 | I4: 2500 | J4: WWMS3A-16 | K4: 46176 | L4: 28B | M4: M01150601020 | N4: 6/11已設定 | O4: 序2 | Q4: 8/17出貨-1100 | R4: 研磨+超因波清洗+焊接
A5: 46176 | B5: =A5 -> 46176 | E5: 369 | F5: =F4+E5 -> 1256 | G5: =$D$2-F5 -> 4744 | I5: =SUM(I2:I4) -> 6000
A6: 46177 | B6: =A6 -> 46177 | E6: 370 | F6: =F5+E6 -> 1626 | G6: =$D$2-F6 -> 4374
A7: 46178 | B7: =A7 -> 46178 | E7: 374 | F7: =F6+E7 -> 2000 | G7: =$D$2-F7 -> 4000
A8: 46179 | B8: =A8 -> 46179 | E8: 368 | F8: =F7+E8 -> 2368 | G8: =$D$2-F8 -> 3632
A9: 46180 | B9: =A9 -> 46180 | E9: 357 | F9: =F8+E9 -> 2725 | G9: =$D$2-F9 -> 3275
A10: 46181 | B10: =A10 -> 46181 | E10: 377 | F10: =F9+E10 -> 3102 | G10: =$D$2-F10 -> 2898
A11: 46182 | B11: =A11 -> 46182 | E11: 368 | F11: =F10+E11 -> 3470 | G11: =$D$2-F11 -> 2530
A12: 46183 | B12: =A12 -> 46183 | E12: 375 | F12: =F11+E12 -> 3845 | G12: =$D$2-F12 -> 2155
