Workbook
Name Z_62402EC8_062B_4A52_BB2A_ECBAF15826A4_.wvu.Cols: 'C1'!#REF!
Name Z_62402EC8_062B_4A52_BB2A_ECBAF15826A4_.wvu.Cols: 'C10'!#REF!
Name Z_62402EC8_062B_4A52_BB2A_ECBAF15826A4_.wvu.Cols: 'C11'!#REF!
Name Z_62402EC8_062B_4A52_BB2A_ECBAF15826A4_.wvu.Cols: 'C12'!#REF!
Name Z_62402EC8_062B_4A52_BB2A_ECBAF15826A4_.wvu.Cols: 'C16-長'!#REF!
Name Z_62402EC8_062B_4A52_BB2A_ECBAF15826A4_.wvu.Cols: 'C18'!#REF!
Name Z_62402EC8_062B_4A52_BB2A_ECBAF15826A4_.wvu.Cols: 'C19'!#REF!
Name Z_62402EC8_062B_4A52_BB2A_ECBAF15826A4_.wvu.Cols: 'C20'!#REF!
Name Z_62402EC8_062B_4A52_BB2A_ECBAF15826A4_.wvu.Cols: 'C21'!#REF!
Name Z_62402EC8_062B_4A52_BB2A_ECBAF15826A4_.wvu.Cols: 'C22'!#REF!
Name Z_62402EC8_062B_4A52_BB2A_ECBAF15826A4_.wvu.Cols: 'C23Y'!#REF!
Name Z_62402EC8_062B_4A52_BB2A_ECBAF15826A4_.wvu.Cols: 'C24D'!#REF!
Name Z_62402EC8_062B_4A52_BB2A_ECBAF15826A4_.wvu.Cols: 'C25'!#REF!
Name Z_62402EC8_062B_4A52_BB2A_ECBAF15826A4_.wvu.Cols: 'C26'!#REF!
Name Z_62402EC8_062B_4A52_BB2A_ECBAF15826A4_.wvu.Cols: 'C27'!#REF!
Name Z_62402EC8_062B_4A52_BB2A_ECBAF15826A4_.wvu.Cols: 'C28D'!#REF!
Name Z_62402EC8_062B_4A52_BB2A_ECBAF15826A4_.wvu.Cols: 'C29'!#REF!
Name Z_62402EC8_062B_4A52_BB2A_ECBAF15826A4_.wvu.Cols: 'C30'!#REF!
Name Z_62402EC8_062B_4A52_BB2A_ECBAF15826A4_.wvu.Cols: 'C31-12.5圓'!#REF!
Name Z_62402EC8_062B_4A52_BB2A_ECBAF15826A4_.wvu.Cols: 'C34-12.5圓'!#REF!
Name Z_62402EC8_062B_4A52_BB2A_ECBAF15826A4_.wvu.Cols: 'C36-12.5圓'!#REF!
Name Z_62402EC8_062B_4A52_BB2A_ECBAF15826A4_.wvu.Cols: 'C37'!#REF!
Name Z_62402EC8_062B_4A52_BB2A_ECBAF15826A4_.wvu.Cols: 'C38'!#REF!
Name Z_62402EC8_062B_4A52_BB2A_ECBAF15826A4_.wvu.Cols: 'C40DY'!#REF!
Name Z_62402EC8_062B_4A52_BB2A_ECBAF15826A4_.wvu.Cols: 'C43長'!#REF!
Name Z_62402EC8_062B_4A52_BB2A_ECBAF15826A4_.wvu.Cols: 'C5'!#REF!
Name Z_62402EC8_062B_4A52_BB2A_ECBAF15826A4_.wvu.Cols: 'C7'!#REF!
Name Z_62402EC8_062B_4A52_BB2A_ECBAF15826A4_.wvu.Cols: 'C9'!#REF!
Name Z_6FAA6C97_FB7D_4B53_BB01_B757EA5C6C1A_.wvu.Cols: 'C1'!#REF!
Name Z_6FAA6C97_FB7D_4B53_BB01_B757EA5C6C1A_.wvu.Cols: 'C10'!#REF!
Name Z_6FAA6C97_FB7D_4B53_BB01_B757EA5C6C1A_.wvu.Cols: 'C11'!#REF!
Name Z_6FAA6C97_FB7D_4B53_BB01_B757EA5C6C1A_.wvu.Cols: 'C12'!#REF!
Name Z_6FAA6C97_FB7D_4B53_BB01_B757EA5C6C1A_.wvu.Cols: 'C16-長'!#REF!
Name Z_6FAA6C97_FB7D_4B53_BB01_B757EA5C6C1A_.wvu.Cols: 'C18'!#REF!
Name Z_6FAA6C97_FB7D_4B53_BB01_B757EA5C6C1A_.wvu.Cols: 'C19'!#REF!
Name Z_6FAA6C97_FB7D_4B53_BB01_B757EA5C6C1A_.wvu.Cols: 'C20'!#REF!
Name Z_6FAA6C97_FB7D_4B53_BB01_B757EA5C6C1A_.wvu.Cols: 'C21'!#REF!
Name Z_6FAA6C97_FB7D_4B53_BB01_B757EA5C6C1A_.wvu.Cols: 'C22'!#REF!
Name Z_6FAA6C97_FB7D_4B53_BB01_B757EA5C6C1A_.wvu.Cols: 'C23Y'!#REF!
Name Z_6FAA6C97_FB7D_4B53_BB01_B757EA5C6C1A_.wvu.Cols: 'C24D'!#REF!
Name Z_6FAA6C97_FB7D_4B53_BB01_B757EA5C6C1A_.wvu.Cols: 'C25'!#REF!
Name Z_6FAA6C97_FB7D_4B53_BB01_B757EA5C6C1A_.wvu.Cols: 'C26'!#REF!
Name Z_6FAA6C97_FB7D_4B53_BB01_B757EA5C6C1A_.wvu.Cols: 'C27'!#REF!
Name Z_6FAA6C97_FB7D_4B53_BB01_B757EA5C6C1A_.wvu.Cols: 'C28D'!#REF!
Name Z_6FAA6C97_FB7D_4B53_BB01_B757EA5C6C1A_.wvu.Cols: 'C29'!#REF!
Name Z_6FAA6C97_FB7D_4B53_BB01_B757EA5C6C1A_.wvu.Cols: 'C30'!#REF!
Name Z_6FAA6C97_FB7D_4B53_BB01_B757EA5C6C1A_.wvu.Cols: 'C31-12.5圓'!#REF!
Name Z_6FAA6C97_FB7D_4B53_BB01_B757EA5C6C1A_.wvu.Cols: 'C34-12.5圓'!#REF!
Name Z_6FAA6C97_FB7D_4B53_BB01_B757EA5C6C1A_.wvu.Cols: 'C36-12.5圓'!#REF!
Name Z_6FAA6C97_FB7D_4B53_BB01_B757EA5C6C1A_.wvu.Cols: 'C37'!#REF!
Name Z_6FAA6C97_FB7D_4B53_BB01_B757EA5C6C1A_.wvu.Cols: 'C38'!#REF!
Name Z_6FAA6C97_FB7D_4B53_BB01_B757EA5C6C1A_.wvu.Cols: 'C40DY'!#REF!
Name Z_6FAA6C97_FB7D_4B53_BB01_B757EA5C6C1A_.wvu.Cols: 'C43長'!#REF!
Name Z_6FAA6C97_FB7D_4B53_BB01_B757EA5C6C1A_.wvu.Cols: 'C5'!#REF!
Name Z_6FAA6C97_FB7D_4B53_BB01_B757EA5C6C1A_.wvu.Cols: 'C7'!#REF!
Name Z_6FAA6C97_FB7D_4B53_BB01_B757EA5C6C1A_.wvu.Cols: 'C9'!#REF!
Name Z_F856E5C8_623B_46A2_9BA6_8E327465E71F_.wvu.Cols: 'C1'!#REF!
Name Z_F856E5C8_623B_46A2_9BA6_8E327465E71F_.wvu.Cols: 'C10'!#REF!
Name Z_F856E5C8_623B_46A2_9BA6_8E327465E71F_.wvu.Cols: 'C11'!#REF!
Name Z_F856E5C8_623B_46A2_9BA6_8E327465E71F_.wvu.Cols: 'C12'!#REF!

Sheet 6.7月夜班
A1: 大夜班輪值人員(週六不用輪值班)
A2: 44719 | B2: 週二 | C2: 曾凱詣 | D2: 44749 | E2: 週四 | F2: 陳鴻維
A3: 44720 | B3: 週三 | C3: 曾凱詣 | D3: 44750 | E3: 週五 | F3: 陳鴻維
A4: 44721 | B4: 週四 | C4: 曾凱詣 | D4: 44751 | E4: 週六
A5: 44722 | B5: 週五 | C5: 曾凱詣 | D5: 44752 | E5: 週日
A6: 44723 | B6: 週六 | D6: 44753 | E6: 週一 | F6: 陳鴻維
A7: 44724 | B7: 週日 | D7: 44754 | E7: 週二 | F7: 陳鴻維
A8: 44725 | B8: 週一 | C8: 曾凱詣 | D8: 44755 | E8: 週三 | F8: 陳鴻維
A9: 44726 | B9: 週二 | C9: 曾凱詣 | D9: 44756 | E9: 週四 | F9: 陳鴻維
A10: 44727 | B10: 週三 | C10: 曾凱詣 | D10: 44757 | E10: 週五 | F10: 陳鴻維
A11: 44728 | B11: 週四 | C11: 曾凱詣 | D11: 44758 | E11: 週六
A12: 44729 | B12: 週五 | C12: 曾凱詣 | D12: 44759 | E12: 週日
A13: 44730 | B13: 週六 | D13: 44760 | E13: 週一 | F13: 陳鴻維
A14: 44731 | B14: 週日 | D14: 44761 | E14: 週二 | F14: 陳鴻維
A15: 44732 | B15: 週一 | C15: 曾凱詣 | D15: 44762 | E15: 週三 | F15: 陳鴻維
A16: 44733 | B16: 週二 | C16: 曾凱詣 | D16: 44763 | E16: 週四 | F16: 陳鴻維
A17: 44734 | B17: 週三 | C17: 謝承祐 | D17: 44764 | E17: 週五 | F17: 陳鴻維
A18: 44735 | B18: 週四 | C18: 謝承祐 | D18: 44765 | E18: 週六
A19: 44736 | B19: 週五 | C19: 謝承祐 | D19: 44766 | E19: 週日
A20: 44737 | B20: 週六 | D20: 44767 | E20: 週一 | F20: 楊璨嶸
A21: 44738 | B21: 週日 | D21: 44768 | E21: 週二 | F21: 楊璨嶸
A22: 44739 | B22: 週一 | C22: 謝承祐 | D22: 44769 | E22: 週三 | F22: 楊璨嶸
A23: 44740 | B23: 週二 | C23: 謝承祐 | D23: 44770 | E23: 週四 | F23: 楊璨嶸
A24: 44741 | B24: 週三 | C24: 謝承祐 | D24: 44771 | E24: 週五 | F24: 楊璨嶸
A25: 44742 | B25: 週四 | C25: 謝承祐 | D25: 44772 | E25: 週六
A26: 44743 | B26: 週五 | C26: 謝承祐 | D26: 44773 | E26: 週日
A27: 44744 | B27: 週六 | D27: 44774 | E27: 週一 | F27: 楊璨嶸
A28: 44745 | B28: 週日 | D28: 44775 | E28: 週二 | F28: 楊璨嶸
A29: 44746 | B29: 週一 | C29: 謝承祐 | D29: 44776 | E29: 週三 | F29: 楊璨嶸
A30: 44747 | B30: 週二 | C30: 謝承祐 | D30: 44777 | E30: 週四 | F30: 楊璨嶸
A31: 44748 | B31: 週三 | C31: 謝承祐 | D31: 44778 | E31: 週五 | F31: 楊璨嶸

Sheet C1
A1: 日期 | C1: 品名-可對角定位 | D1: 投產數 | E1: 當日產量 | F1: 累積產量 | G1: 未生產數 | H1: 預交日 | I1: 訂單數量 | J1: 銅條 | K1: 進料日 | L1: 架位 | M1: 工令單號 | N1: 實際入庫 | O1: 差異 | P1: 單重 | Q1: 備註(出貨日) | R1: 後製程
A2: 46174 | B2: =A2 -> 46174 | E2: 76 | F2: =#REF!+E2 -> #REF! | G2: =#REF!-F2 -> #REF!
C3: NFCN25241-009-80 | D3: 105 | E3: 139 | F3: =E3 -> 139 | G3: =$D$3-F3 -> -34 | H3: 46174 | I3: 105 | J3: WWMD6CH-14.5 | L3: 15B右 | M3: M01150518246 | R3: 熱處理(硬度不足重新打樣)
C4: NFS20260421-5-1-80 | D4: 50 | E4: 40 | F4: =E4 -> 40 | G4: =$D$4-F4 -> 10 | H4: 46177 | I4: 50 | J4: WWMD4CA-14.50 | L4: 5C | M4: M01150505103 | Q4: 車刀痕(重新打樣) | R4: 熱處理+電鍍
C5: 50.8012.2741A-80 | D5: 200 | E5: 66 | F5: =E5 -> 66 | G5: =$D$5-F5 -> 134 | H5: 2026/06/18 | I5: 50000 | J5: WWMD6CH-9.0 | M5: M01150522050 | Q5: 6/5出貨-200
A6: 46175 | B6: =A6 -> 46175 | E6: 148 | F6: =E6+F5 -> 214 | G6: =$D$5-F6 -> -14 | H6: V4 | I6: 48800 | Q6: 6/26出貨-10000
H7: C1 | I7: 200
C8: LBM-B002-80 | D8: 9300 | E8: 836 | F8: =E8 -> 836 | G8: =$D$8-F8 -> 8464 | H8: 46181 | I8: 9300 | J8: WWMJ4CA-28.5 | K8: 46161 | L8: 25B | M8: M01150507066 | Q8: 6/22出貨 | R8: 電鍍
A9: 46176 | B9: =A9 -> 46176 | E9: 1266 | F9: =F8+E9 -> 2102 | G9: =$D$8-F9 -> 7198
A10: 46177 | B10: =A10 -> 46177 | E10: 1298 | F10: =F9+E10 -> 3400 | G10: =$D$8-F10 -> 5900
A11: 46178 | B11: =A11 -> 46178 | E11: 1256 | F11: =F10+E11 -> 4656 | G11: =$D$8-F11 -> 4644
A12: 46179 | B12: =A12 -> 46179 | E12: 844 | F12: =F11+E12 -> 5500 | G12: =$D$8-F12 -> 3800
A13: 46180 | B13: =A13 -> 46180 | E13: 1164 | F13: =F12+E13 -> 6664 | G13: =$D$8-F13 -> 2636
A14: 46181 | B14: =A14 -> 46181 | E14: 1185 | F14: =F13+E14 -> 7849 | G14: =$D$8-F14 -> 1451
A15: 46182 | B15: =A15 -> 46182 | E15: 1182 | F15: =F14+E15 -> 9031 | G15: =$D$8-F15 -> 269
A16: 46183 | B16: =A16 -> 46183 | E16: 325 | F16: =F15+E16 -> 9356 | G16: =$D$8-F16 -> -56
C17: W61113A-2-80 | D17: 200 | E17: 220 | F17: =E17 -> 220 | G17: =$D$17-F17 -> -20 | H17: 46188 | I17: 200 | J17: WWMJ4CA-33.5 | K17: 46175 | L17: 20D | M17: M01150519093 | Q17: 6/22出貨
A18: 46184 | B18: =A18 -> 46184 | C18: X00009D-80 | D18: 100 | E18: 100 | F18: =E18 -> 100 | G18: =$D$18-F18 -> 0 | H18: 46203 | I18: 50 | J18: WWMJ4A-25.5*C19 | L18: 16C左 | M18: M01150605076 | Q18: 樣品 | R18: 電鍍
H19: 46188 | I19: 50 | J19: WWMJ4A-25.5*C19 | L19: 16C左 | M19: M01150609002 | Q19: 樣品 | R19: 電鍍+電著
C20: X00009-80 | D20: 420 | E20: 450 | F20: =E20 -> 450 | G20: =$D$20-F20 -> -30 | H20: 46188 | I20: 420 | J20: WWMJ4A-25.5*C19 | K20: 46162 | L20: 13A | M20: M01150514060 | Q20: 6/29出貨 | R20: 電鍍
C21: X00009A-80 | D21: =I25 -> 27670 | E21: 427 | F21: =E21 -> 427 | G21: =$D$21-F21 -> 27243 | H21: 46190 | I21: 7700 | J21: WWMJ4A-25.5*C19 | K21: 46181 | L21: F1-3 | M21: M01150520123 | N21: 已設定 | Q21: 6/25出貨 | R21: 電鍍
A22: 46185 | B22: =A22 -> 46185 | C22: 試電 | E22: 1598 | F22: =F21+E22 -> 2025 | G22: =$D$21-F22 -> 25645 | H22: 46191 | I22: 10000 | J22: WWMJ4A-25.5*C19 | K22: 46181 | L22: F1-3 | M22: M01150520125 | N22: 已設定 | Q22: 7/2出貨-10000 | R22: 電鍍
A23: 46186 | B23: =A23 -> 46186 | C23: 清洗 | E23: 1620 | F23: =F22+E23 -> 3645 | G23: =$D$21-F23 -> 24025 | H23: 46202 | I23: 9920 | J23: WWMJ4A-25.5*C19 | K23: 46188 | L23: F1-3 | M23: M01150529063 | N23: 6/18-SCH | Q23: 7/8出貨 | R23: 電鍍
A24: 46187 | B24: =A24 -> 46187 | E24: 1621 | F24: =F23+E24 -> 5266 | G24: =$D$21-F24 -> 22404 | H24: 46188 | I24: 50 | J24: WWMJ4A-25.5*C19 | K24: 46188 | L24: F1-3 | M24: M01150609004 | Q24: 樣品 | R24: 電鍍+電著
A25: 46188 | B25: =A25 -> 46188 | E25: 1496 | F25: =F24+E25 -> 6762 | G25: =$D$21-F25 -> 20908 | I25: =SUM(I21:I24) -> 27670 | Q25: 6/18出貨-2000 | R25: 電鍍
A26: 46189 | B26: =A26 -> 46189 | E26: 1597 | F26: =F25+E26 -> 8359 | G26: =$D$21-F26 -> 19311
A27: 46190 | B27: =A27 -> 46190 | C27: 清洗 | E27: 1614 | F27: =F26+E27 -> 9973 | G27: =$D$21-F27 -> 17697
A28: 46191 | B28: =A28 -> 46191 | E28: 1616 | F28: =F27+E28 -> 11589 | G28: =$D$21-F28 -> 16081
A29: 46192 | B29: =A29 -> 46192 | E29: 1512 | F29: =F28+E29 -> 13101 | G29: =$D$21-F29 -> 14569
A30: 46193 | B30: =A30 -> 46193 | E30: 1620 | F30: =F29+E30 -> 14721 | G30: =$D$21-F30 -> 12949
A31: 46194 | B31: =A31 -> 46194 | E31: 1570 | F31: =F30+E31 -> 16291 | G31: =$D$21-F31 -> 11379
A32: 46195 | B32: =A32 -> 46195 | E32: 1614 | F32: =F31+E32 -> 17905 | G32: =$D$21-F32 -> 9765
A33: 46196 | B33: =A33 -> 46196 | E33: 1609 | F33: =F32+E33 -> 19514 | G33: =$D$21-F33 -> 8156
A34: 46197 | B34: =A34 -> 46197 | C34: 清洗 | E34: 1615 | F34: =F33+E34 -> 21129 | G34: =$D$21-F34 -> 6541
A35: 46198 | B35: =A35 -> 46198 | E35: 1603 | F35: =F34+E35 -> 22732 | G35: =$D$21-F35 -> 4938
A36: 46199 | B36: =A36 -> 46199 | E36: 1621 | F36: =F35+E36 -> 24353 | G36: =$D$21-F36 -> 3317
A37: 46200 | B37: =A37 -> 46200 | E37: 1514 | F37: =F36+E37 -> 25867 | G37: =$D$21-F37 -> 1803
A38: 46201 | B38: =A38 -> 46201 | E38: 1297 | F38: =F37+E38 -> 27164 | G38: =$D$21-F38 -> 506
A39: 46202 | B39: =A39 -> 46202 | E39: 333 | F39: =F38+E39 -> 27497 | G39: =$D$21-F39 -> 173
C40: X00009D-80 | D40: 100 | E40: 124 | F40: =E40 -> 124 | G40: =$D$40-F40 -> -24 | H40: 46203 | I40: 100 | J40: WWMJ4A-25.5*C19 | L40: F1-3 | M40: M01150605076 | Q40: 電鍍後NOGO進
...

Sheet C3
A1: 日期 | C1: 品名 | D1: 投產數 | E1: 當日產量 | F1: 累積產量 | G1: 未生產數 | H1: 預交日 | I1: 訂單數量 | J1: 銅條 | K1: 進料日 | L1: 架位 | M1: 工令單號 | N1: 實際入庫 | O1: 差異 | P1: 單重 | Q1: 備註(出貨日) | R1: 後製程
A2: 46202 | B2: =A2 -> 46202 | C2: F00053-80 | D2: 6720 | E2: 1860 | F2: =E2 -> 1860 | G2: =$D$2-F2 -> 4860 | H2: 111941 | I2: 6720 | J2: WWMUACA-18.0 | K2: 46178 | L2: M1-5 | M2: M01150526042 | Q2: 7/3出貨
A3: 46203 | B3: =A3 -> 46203 | E3: 3040 | F3: =F2+E3 -> 4900 | G3: =$D$2-F3 -> 1820
A4: 46204 | B4: =A4 -> 46204 | E4: 1820 | F4: =F3+E4 -> 6720 | G4: =$D$2-F4 -> 0
C5: F00053-80 | D5: 1650 | E5: 1150 | F5: =E5 -> 1150 | G5: =$D$5-F5 -> 500 | H5: 46230 | I5: 1650 | J5: WWMUACA-18.0 | K5: 46202 | L5: M1-5 | M5: M01150618189 | Q5: 8/3出貨
A6: 46205 | B6: =A6 -> 46205 | E6: 550 | F6: =F5+E6 -> 1700 | G6: =$D$5-F6 -> -50
C7: SP8013-80 | D7: =I18 -> 127000 | E7: 1165 | F7: =E7 -> 1165 | G7: =$D$7-F7 -> 125835 | H7: 46212 | I7: 10000 | J7: WWMJ4CA-19.0 | K7: 46191 | L7: 21C.H1-3 | M7: M01150518191 | Q7: 7/24出貨-5528
A8: 46206 | B8: =A8 -> 46206 | E8: 1400 | F8: =F7+E8 -> 2565 | G8: =$D$7-F8 -> 124435 | H8: 46220 | I8: 10000 | J8: WWMJ4CA-19.0 | K8: 46204 | L8: 21C | M8: M01150618017 | N8: 7/9-SCH | Q8: 7/25出貨-786
A9: 46207 | B9: =A9 -> 46207 | E9: 1400 | F9: =F8+E9 -> 3965 | G9: =$D$7-F9 -> 123035 | H9: 46246 | I9: 10000 | J9: WWMJ4CA-19.0 | K9: 46209 | L9: H1-3 | M9: M01150618029 | Q9: 7/27出貨-300
A10: 46208 | B10: =A10 -> 46208 | E10: 1400 | F10: =F9+E10 -> 5365 | G10: =$D$7-F10 -> 121635 | H10: 46230 | I10: 11000 | J10: WWMJ4CA-19.0 | K10: 46204 | L10: 21C | M10: M01150625010 | N10: 7/16-SCH | Q10: 7/31出貨-216
A11: 46209 | B11: =A11 -> 46209 | E11: 1400 | F11: =F10+E11 -> 6765 | G11: =$D$7-F11 -> 120235 | H11: 46244 | I11: 12500 | J11: WWMJ4CA-19.0 | K11: 46209 | L11: H1-3 | M11: M01150625018 | Q11: 8/21出貨-4860
A12: 46210 | B12: =A12 -> 46210 | E12: 1400 | F12: =F11+E12 -> 8165 | G12: =$D$7-F12 -> 118835 | H12: 46258 | I12: 10000 | J12: WWMJ4CA-19.0 | K12: 46241 | L12: H1-3 | M12: M01150708140 | Q12: 9/18出貨-4860
A13: 46211 | B13: =A13 -> 46211 | E13: 1454 | F13: =F12+E13 -> 9619 | G13: =$D$7-F13 -> 117381 | H13: 46272 | I13: 13500 | J13: WWMJ4CA-19.0 | K13: 46241 | L13: H1-3 | M13: M01150625028
A14: 46212 | B14: =A14 -> 46212 | E14: 1506 | F14: =F13+E14 -> 11125 | G14: =$D$7-F14 -> 115875 | H14: 46307 | I14: 13500 | J14: WWMJ4CA-19.0 | K14: 46241 | L14: H1-3 | M14: M01150625038
A15: 46213 | B15: =A15 -> 46213 | E15: 1522 | F15: =F14+E15 -> 12647 | G15: =$D$7-F15 -> 114353 | H15: 46335 | I15: 13000 | J15: WWMJ4CA-19.0 | K15: 46253 | M15: M01150625048
A16: 46214 | B16: =A16 -> 46214 | E16: 1417 | F16: =F15+E16 -> 14064 | G16: =$D$7-F16 -> 112936 | H16: 46363 | I16: 13500 | J16: WWMJ4CA-19.0 | K16: 46253 | M16: M01150625058
A17: 46215 | B17: =A17 -> 46215 | E17: 1680 | F17: =F16+E17 -> 15744 | G17: =$D$7-F17 -> 111256 | H17: 46237 | I17: 10000 | J17: WWMJ4CA-19.0 | K17: 46209 | L17: H1-3 | M17: M01150625090
A18: 46216 | B18: =A18 -> 46216 | E18: 1500 | F18: =F17+E18 -> 17244 | G18: =$D$7-F18 -> 109756 | I18: =SUM(I7:I17) -> 127000
A19: 46217 | B19: =A19 -> 46217 | E19: 1540 | F19: =F18+E19 -> 18784 | G19: =$D$7-F19 -> 108216
A20: 46218 | B20: =A20 -> 46218 | E20: 1401 | F20: =F19+E20 -> 20185 | G20: =$D$7-F20 -> 106815
A21: 46219 | B21: =A21 -> 46219 | E21: 1541 | F21: =F20+E21 -> 21726 | G21: =$D$7-F21 -> 105274
A22: 46220 | B22: =A22 -> 46220 | E22: 1536 | F22: =F21+E22 -> 23262 | G22: =$D$7-F22 -> 103738
A23: 46221 | B23: =A23 -> 46221 | E23: 1539 | F23: =F22+E23 -> 24801 | G23: =$D$7-F23 -> 102199
A24: 46222 | B24: =A24 -> 46222 | E24: 1540 | F24: =F23+E24 -> 26341 | G24: =$D$7-F24 -> 100659
A25: 46223 | B25: =A25 -> 46223 | E25: 955 | F25: =F24+E25 -> 27296 | G25: =$D$7-F25 -> 99704
A26: 46224 | B26: =A26 -> 46224 | C26: 50.8010.99770-80 | D26: =I35 -> 69097 | E26: 1019 | F26: =E26 -> 1019 | G26: =$D$26-F26 -> 68078 | H26: 46238 | I26: 136100 | J26: WWHD4CH-15.87 | K26: 46205 | L26: B1-2 | M26: M01150616034 | Q26: 7/16出貨-10000 | R26: 熱處理+電鍍
A27: 46225 | B27: =A27 -> 46225 | E27: 1444 | F27: =F26+E27 -> 2463 | G27: =$D$26-F27 -> 66634 | H27: 46244 | I27: 140000 | J27: WWHD4CH-15.87 | K27: 46226 | L27: B1-2 | M27: M01150616035 | Q27: 7/23出貨-10000 | R27: 熱處理+電鍍
A28: 46226 | B28: =A28 -> 46226 | E28: 1329 | F28: =F27+E28 -> 3792 | G28: =$D$26-F28 -> 65305 | H28: 46272 | I28: 140000 | J28: WWHD4CH-15.87 | K28: 46244 | L28: I1-2.I1-3 | M28: M01150616036 | Q28: 7/30出貨-20000 | R28: 熱處理+電鍍
A29: 46227 | B29: =A29 -> 46227 | E29: 1466 | F29: =F28+E29 -> 5258 | G29: =$D$26-F29 -> 63839 | H29: 46300 | I29: 140000 | J29: WWHD4CH-15.87 | K29: 46259 | L29: B1-3.B1-4 | M29: M01150616037 | Q29: 8/6出貨-20000 | R29: 熱處理+電鍍
A30: 46228 | B30: =A30 -> 46228 | E30: 1422 | F30: =F29+E30 -> 6680 | G30: =$D$26-F30 -> 62417 | I30: =SUM(I26:I29) -> 556100 | Q30: 8/13出貨-40000 | R30: 熱處理+電鍍
A31: 46229 | B31: =A31 -> 46229 | E31: 1469 | F31: =F30+E31 -> 8149 | G31: =$D$26-F31 -> 60948 | H31: C33 | I31: 56839 | Q31: 8/27出貨-60000 | R31: 熱處理+電鍍
A32: 46230 | B32: =A32 -> 46230 | E32: 1448 | F32: =F31+E32 -> 9597 | G32: =$D$26-F32 -> 59500 | H32: C21 | I32: 172000 | Q32: 9/3出貨-40000 | R32: 熱處理+電鍍
A33: 46231 | B33: =A33 -> 46231 | E33: 1465 | F33: =F32+E33 -> 11062 | G33: =$D$26-F33 -> 58035 | H33: C22 | I33: 90184 | Q33: 9/11出貨-26000 | R33: 熱處理+電鍍
A34: 46232 | B34: =A34 -> 46232 | E34: 1464 | F34: =F33+E34 -> 12526 | G34: =$D$26-F34 -> 56571 | H34: C2 | I34: 70077
A35: 46233 | B35: =A35 -> 46233 | E35: 1464 | F35: =F34+E35 -> 13990 | G35: =$D$26-F35 -> 55107 | H35: C3 | I35: 69097
A36: 46234 | B36: =A36 -> 46234 | E36: 1440 | F36: =F35+E36 -> 15430 | G36: =$D$26-F36 -> 53667 | H36: V3 | I36: 97903
A37: 46235 | B37: =A37 -> 46235 | E37: 1467 | F37: =F36+E37 -> 16897 | G37: =$D$26-F37 -> 52200 | I37: =SUM(I31:I36) -> 556100
A38: 46236 | B38: =A38 -> 46236 | E38: 1459 | F38: =F37+E38 -> 18356 | G38: =$D$26-F38 -> 50741
A39: 46237 | B39: =A39 -> 46237 | E39: 1464 | F39: =F38+E39 -> 19820 | G39: =$D$26-F39 -> 49277
A40: 46238 | B40: =A40 -> 46238 | E40: 1451 | F40: =F39+E40 -> 21271 | G40: =$D$26-F40 -> 47826
...

Sheet C4
A1: 日期 | C1: 品名 | D1: 投產數 | E1: 當日產量 | F1: 累積產量 | G1: 未生產數 | H1: 預交日 | I1: 訂單數量 | J1: 銅條 | K1: 進料日 | L1: 架位 | M1: 工令單號 | N1: 實際入庫 | O1: 差異 | P1: 單重 | Q1: 備註(出貨日) | R1: 後製程
A2: 46176 | B2: =A2 -> 46176 | C2: G0.A072.1-80 | D2: 4900 | E2: 146 | F2: =E2 -> 146 | G2: =$D$2-F2 -> 4754 | H2: 206/06/08 | I2: 4900 | J2: WWMJ6CA-24.0 | K2: 46177 | M2: M01150507092 | N2: 6/3-SCH | Q2: 6/22出貨 | R2: 滾字+電鍍
A3: 46177 | B3: =A3 -> 46177 | E3: 911 | F3: =F2+E3 -> 1057 | G3: =$D$2-F3 -> 3843
A4: 46178 | B4: =A4 -> 46178 | E4: 914 | F4: =F3+E4 -> 1971 | G4: =$D$2-F4 -> 2929
A5: 46179 | B5: =A5 -> 46179 | E5: 916 | F5: =F4+E5 -> 2887 | G5: =$D$2-F5 -> 2013
A6: 46180 | B6: =A6 -> 46180 | E6: 915 | F6: =F5+E6 -> 3802 | G6: =$D$2-F6 -> 1098
A7: 46181 | B7: =A7 -> 46181 | E7: 914 | F7: =F6+E7 -> 4716 | G7: =$D$2-F7 -> 184
A8: 46182 | B8: =A8 -> 46182 | E8: 184 | F8: =F7+E8 -> 4900 | G8: =$D$2-F8 -> 0
C9: G0.A072.1-80 | D9: 596 | E9: 596 | F9: =E9 -> 596 | G9: =$D$9-F9 -> 0 | H9: 46174 | I9: 15000 | J9: WWMJ6CA-24.0 | K9: 46162 | L9: 17D | M9: M01150430014 | Q9: 6/22出貨 | R9: 滾字+電鍍
H10: C12 | I10: 10304
H11: C4 | I11: 4100
H12: C12-1 | I12: 596
C13: G0.A072.1-80 | D13: 10000 | E13: 134 | F13: =E13 -> 134 | G13: =$D$13-F13 -> 9866 | H13: 46195 | I13: 10000 | J13: WWMJ6CA-24.0 | K13: 46185 | L13: 17D | M13: M01150520083 | Q13: 7/6出貨 | R13: 滾字+電鍍
A14: 46183 | B14: =A14 -> 46183 | E14: 914 | F14: =F13+E14 -> 1048 | G14: =$D$13-F14 -> 8952
A15: 46184 | B15: =A15 -> 46184 | E15: 905 | F15: =F14+E15 -> 1953 | G15: =$D$13-F15 -> 8047
A16: 46185 | B16: =A16 -> 46185 | E16: 913 | F16: =F15+E16 -> 2866 | G16: =$D$13-F16 -> 7134
A17: 46186 | B17: =A17 -> 46186 | E17: 916 | F17: =F16+E17 -> 3782 | G17: =$D$13-F17 -> 6218
A18: 46187 | B18: =A18 -> 46187 | E18: 916 | F18: =F17+E18 -> 4698 | G18: =$D$13-F18 -> 5302
A19: 46188 | B19: =A19 -> 46188 | E19: 914 | F19: =F18+E19 -> 5612 | G19: =$D$13-F19 -> 4388
A20: 46189 | B20: =A20 -> 46189 | E20: 914 | F20: =F19+E20 -> 6526 | G20: =$D$13-F20 -> 3474
A21: 46190 | B21: =A21 -> 46190 | E21: 915 | F21: =F20+E21 -> 7441 | G21: =$D$13-F21 -> 2559
A22: 46191 | B22: =A22 -> 46191 | E22: 915 | F22: =F21+E22 -> 8356 | G22: =$D$13-F22 -> 1644
A23: 46192 | B23: =A23 -> 46192 | E23: 916 | F23: =F22+E23 -> 9272 | G23: =$D$13-F23 -> 728
A24: 46193 | B24: =A24 -> 46193 | E24: 554 | F24: =F23+E24 -> 9826 | G24: =$D$13-F24 -> 174
C25: B0.A072.1-80 | D25: =I28 -> 11900 | E25: 371 | F25: =E25 -> 371 | G25: =$D$25-F25 -> 11529 | H25: 46206 | I25: 900 | J25: WWMJ4CA-24 | K25: 46183 | L25: 24C | M25: M01150527014 | Q25: 7/20出貨 | R25: 滾字+電鍍
A26: 46194 | B26: =A26 -> 46194 | E26: 947 | F26: =F25+E26 -> 1318 | G26: =$D$25-F26 -> 10582 | H26: 46202 | I26: 20000 | J26: WWMJ4CA-24 | K26: 46183 | L26: 24C | M26: M01150527024 | Q26: 7/20出貨 | R26: 滾字+電鍍
A27: 46195 | B27: =A27 -> 46195 | E27: 943 | F27: =F26+E27 -> 2261 | G27: =$D$25-F27 -> 9639 | I27: =SUM(I25:I26) -> 20900
A28: 46196 | B28: =A28 -> 46196 | E28: 941 | F28: =F27+E28 -> 3202 | G28: =$D$25-F28 -> 8698 | H28: C4 | I28: 11900
A29: 46197 | B29: =A29 -> 46197 | E29: 927 | F29: =F28+E29 -> 4129 | G29: =$D$25-F29 -> 7771 | H29: C13 | I29: 9000
A30: 46198 | B30: =A30 -> 46198 | E30: 937 | F30: =F29+E30 -> 5066 | G30: =$D$25-F30 -> 6834
A31: 46199 | B31: =A31 -> 46199 | E31: 954 | F31: =F30+E31 -> 6020 | G31: =$D$25-F31 -> 5880
A32: 46200 | B32: =A32 -> 46200 | E32: 914 | F32: =F31+E32 -> 6934 | G32: =$D$25-F32 -> 4966
A33: 46201 | B33: =A33 -> 46201 | E33: 828 | F33: =F32+E33 -> 7762 | G33: =$D$25-F33 -> 4138
A34: 46202 | B34: =A34 -> 46202 | E34: 947 | F34: =F33+E34 -> 8709 | G34: =$D$25-F34 -> 3191
A35: 46203 | B35: =A35 -> 46203 | E35: 949 | F35: =F34+E35 -> 9658 | G35: =$D$25-F35 -> 2242
A36: 46204 | B36: =A36 -> 46204 | E36: 949 | F36: =F35+E36 -> 10607 | G36: =$D$25-F36 -> 1293
A37: 46205 | B37: =A37 -> 46205 | E37: 941 | F37: =F36+E37 -> 11548 | G37: =$D$25-F37 -> 352
A38: 46206 | B38: =A38 -> 46206 | E38: 352 | F38: =F37+E38 -> 11900 | G38: =$D$25-F38 -> 0
C39: B0.A072.1-80 | D39: =I40 -> 13000 | E39: 596 | F39: =E39 -> 596 | G39: =$D$39-F39 -> 12404 | H39: 46218 | I39: 19152 | J39: WWMJ4CA-24 | K39: 46185 | L39: 25C | M39: M01150602020 | N39: 6/24-SCH | Q39: 8/3出貨 | R39: 滾字+電鍍
A40: 46207 | B40: =A40 -> 46207 | E40: 958 | F40: =F39+E40 -> 1554 | G40: =$D$39-F40 -> 11446 | H40: C4 | I40: 13000
...

Sheet C5
A1: 日期 | C1: 品名-壓花易不良(側鑽) | D1: 投產數 | E1: 當日產量 | F1: 累積產量 | G1: 未生產數 | H1: 預交日 | I1: 訂單數量 | J1: 銅條 | K1: 進料日 | L1: 架位 | M1: 工令單號 | N1: 實際入庫 | O1: 差異 | P1: 單重 | Q1: 備註(出貨日) | R1: 後製程
A2: 46167 | B2: =A2 -> 46167 | C2: GY.0583.1-80 | D2: 1400 | E2: 737 | F2: =E2 -> 737 | G2: =$D$2-F2 -> 663 | H2: 46176 | I2: 1400 | J2: WWMJ6CA-24.0 | K2: 46162 | L2: 17D | M2: M01150506169 | Q2: 6/22出貨 | R2: 滾字+電鍍
A3: 46168 | B3: =A3 -> 46168 | E3: 1074 | F3: =F2+E3 -> 1811 | G3: =$D$2-F3 -> -411
A4: 46169 | B4: =A4 -> 46169 | E4: 153 | F4: =F3+E4 -> 1964 | G4: =$D$2-F4 -> -564
C5: 50.1186.5-80 | D5: 39800 | E5: 1541 | F5: =E5 -> 1541 | G5: =$D$5-F5 -> 38259 | H5: 46181 | I5: 29800 | J5: WWMJ4A-28*C23 | K5: 46162 | L5: 12B | M5: M01150506143 | Q5: 6/22出貨 | R5: 電鍍
A6: 46170 | B6: =A6 -> 46170 | E6: 2518 | F6: =F5+E6 -> 4059 | G6: =$D$5-F6 -> 35741 | H6: 46181 | I6: 10000 | J6: WWMJ4A-28*C23 | K6: 46162 | L6: 12B | M6: M01150506146 | N6: 5/29-SCH | Q6: 6/22出貨 | R6: 電鍍
A7: 46171 | B7: =A7 -> 46171 | E7: 2513 | F7: =F6+E7 -> 6572 | G7: =$D$5-F7 -> 33228 | I7: =SUM(I5:I6) -> 39800
A8: 46172 | B8: =A8 -> 46172 | E8: 2525 | F8: =F7+E8 -> 9097 | G8: =$D$5-F8 -> 30703
A9: 46173 | B9: =A9 -> 46173 | E9: 2523 | F9: =F8+E9 -> 11620 | G9: =$D$5-F9 -> 28180
A10: 46174 | B10: =A10 -> 46174 | E10: 2523 | F10: =F9+E10 -> 14143 | G10: =$D$5-F10 -> 25657
A11: 46175 | B11: =A11 -> 46175 | E11: 2521 | F11: =F10+E11 -> 16664 | G11: =$D$5-F11 -> 23136
A12: 46176 | B12: =A12 -> 46176 | E12: 2516 | F12: =F11+E12 -> 19180 | G12: =$D$5-F12 -> 20620
A13: 46177 | B13: =A13 -> 46177 | E13: 2513 | F13: =F12+E13 -> 21693 | G13: =$D$5-F13 -> 18107
A14: 46178 | B14: =A14 -> 46178 | E14: 2523 | F14: =F13+E14 -> 24216 | G14: =$D$5-F14 -> 15584
A15: 46179 | B15: =A15 -> 46179 | E15: 2524 | F15: =F14+E15 -> 26740 | G15: =$D$5-F15 -> 13060
A16: 46180 | B16: =A16 -> 46180 | E16: 2524 | F16: =F15+E16 -> 29264 | G16: =$D$5-F16 -> 10536
A17: 46181 | B17: =A17 -> 46181 | E17: 2521 | F17: =F16+E17 -> 31785 | G17: =$D$5-F17 -> 8015
A18: 46182 | B18: =A18 -> 46182 | E18: 2516 | F18: =F17+E18 -> 34301 | G18: =$D$5-F18 -> 5499
A19: 46183 | B19: =A19 -> 46183 | E19: 2522 | F19: =F18+E19 -> 36823 | G19: =$D$5-F19 -> 2977
... A21: 46185 | B21: =A21 -> 46185 | E21: 461 | F21: =F20+E21 -> 39800 | G21: =$D$5-F21 -> 0
C22: 50.1186.5-80 | D22: =I24 -> 40000 | E22: 2063 | F22: =E22 -> 2063 | G22: =$D$22-F22 -> 37937 | H22: 46198 | I22: 30000 | J22: WWMJ4A-28*C23 | K22: 46175 | L22: 12C | M22: M01150525008 | N22: 6/3-SCH | Q22: 7/6出貨 | R22: 電鍍
A23: 46186 | B23: =A23 -> 46186 | E23: 2524 | F23: =F22+E23 -> 4587 | G23: =$D$22-F23 -> 35413 | H23: 46198 | I23: 10000 | J23: WWMJ4A-28*C23 | K23: 46175 | L23: 12C | M23: M01150525011 | N23: 6/3-SCH | Q23: 7/6出貨 | R23: 電鍍
A24: 46187 | B24: =A24 -> 46187 | E24: 2523 | F24: =F23+E24 -> 7110 | G24: =$D$22-F24 -> 32890 | I24: =SUM(I22:I23) -> 40000
A25: 46188 | B25: =A25 -> 46188 | E25: 2520 | F25: =F24+E25 -> 9630 | G25: =$D$22-F25 -> 30370
A26: 46189 | B26: =A26 -> 46189 | E26: 2516 | F26: =F25+E26 -> 12146 | G26: =$D$22-F26 -> 27854
A27: 46190 | B27: =A27 -> 46190 | E27: 2521 | F27: =F26+E27 -> 14667 | G27: =$D$22-F27 -> 25333
A28: 46191 | B28: =A28 -> 46191 | E28: 2518 | F28: =F27+E28 -> 17185 | G28: =$D$22-F28 -> 22815
A29: 46192 | B29: =A29 -> 46192 | E29: 2523 | F29: =F28+E29 -> 19708 | G29: =$D$22-F29 -> 20292
A30: 46193 | B30: =A30 -> 46193 | E30: 2525 | F30: =F29+E30 -> 22233 | G30: =$D$22-F30 -> 17767
A31: 46194 | B31: =A31 -> 46194 | E31: 2523 | F31: =F30+E31 -> 24756 | G31: =$D$22-F31 -> 15244
A32: 46195 | B32: =A32 -> 46195 | E32: 2517 | F32: =F31+E32 -> 27273 | G32: =$D$22-F32 -> 12727
A33: 46196 | B33: =A33 -> 46196 | E33: 2522 | F33: =F32+E33 -> 29795 | G33: =$D$22-F33 -> 10205
A34: 46197 | B34: =A34 -> 46197 | E34: 2522 | F34: =F33+E34 -> 32317 | G34: =$D$22-F34 -> 7683
A35: 46198 | B35: =A35 -> 46198 | E35: 2516 | F35: =F34+E35 -> 34833 | G35: =$D$22-F35 -> 5167
A36: 46199 | B36: =A36 -> 46199 | E36: 2496 | F36: =F35+E36 -> 37329 | G36: =$D$22-F36 -> 2671
... A38: 46201 | B38: =A38 -> 46201 | E38: 146 | F38: =F37+E38 -> 40000 | G38: =$D$22-F38 -> 0
C39: 50.1186.5-80 | D39: =I41 -> 41500 | E39: 1821 | F39: =E39 -> 1821 | G39: =$D$39-F39 -> 39679 | H39: 46223 | I39: 31500 | J39: WWMJ4A-28*C23 | K39: 46182 | L39: 12A.12B | M39: M01150603003 | N39: 6/30-SCH | Q39: 8/3出貨 | R39: 電鍍
A40: 46202 | B40: =A40 -> 46202 | E40: 2521 | F40: =F39+E40 -> 4342 | G40: =$D$39-F40 -> 37158 | H40: 46223 | I40: 10000 | J40: WWMJ4A-28*C23 | K40: 46182 | L40: 12A.12B | M40: M01150603006 | Q40: 8/3出貨 | R40: 電鍍
A41: 46203 | B41: =A41 -> 46203 | E41: 2508 | F41: =F40+E41 -> 6850 | G41: =$D$39-F41 -> 34650 | I41: =SUM(I39:I40) -> 41500
A42: 46204 | B42: =A42 -> 46204 | E42: 2525 | F42: =F41+E42 -> 9375 | G42: =$D$39-F42 -> 32125 | H42: NG | I42: 903
...

Sheet C6
A1: 日期 | C1: 品名-可對角定位,不要在C6壓花(力量不足) | D1: 投產數 | E1: 當日產量 | F1: 累積產量 | G1: 未生產數 | H1: 預交日 | I1: 訂單數量 | J1: 銅條 | K1: 進料日 | L1: 架位 | M1: 工令單號 | N1: 實際入庫 | O1: 差異 | P1: 單重 | Q1: 備註(出貨日) | R1: 後製程
A2: 46162 | B2: =A2 -> 46162 | C2: 50.1175-80 | D2: =I6 -> 54560 | E2: 15 | F2: =E2 -> 15 | G2: =$D$2-F2 -> 54545 | H2: 46167 | I2: 25000 | J2: WWMJ4A-26.5*C21 | K2: 46146 | L2: 13D | M2: M01150420374 | Q2: 6/8出貨 | R2: 電鍍
A3: 46163 | B3: =A3 -> 46163 | C3: 試電 | E3: 1601 | F3: =F2+E3 -> 1616 | G3: =$D$2-F3 -> 52944 | H3: 46174 | I3: 520 | J3: WWMJ4A-26.5*C21 | L3: 13D | M3: M01150507109 | Q3: 6/22出貨 | R3: 電鍍+鉚合+滿益金
A4: 46164 | B4: =A4 -> 46164 | E4: 2247 | F4: =F3+E4 -> 3863 | G4: =$D$2-F4 -> 50697 | H4: 46195 | I4: 28000 | J4: WWMJ4A-26.5*C21 | K4: 46171 | L4: 13D | M4: M01150515017 | N4: 5/29-SCH | Q4: 7/6出貨 | R4: 電鍍
A5: 46165 | B5: =A5 -> 46165 | E5: 2151 | F5: =F4+E5 -> 6014 | G5: =$D$2-F5 -> 48546 | H5: 46209 | I5: 1040 | J5: WWMJ4A-26.5*C21 | L5: 13D | M5: M01150603014 | N5: 6/11-SCH | Q5: 8/3出貨 | R5: 電鍍
A6: 46166 | B6: =A6 -> 46166 | E6: 2076 | F6: =F5+E6 -> 8090 | G6: =$D$2-F6 -> 46470 | I6: =SUM(I2:I5) -> 54560
A7: 46167 | B7: =A7 -> 46167 | E7: 2240 | F7: =F6+E7 -> 10330 | G7: =$D$2-F7 -> 44230
A8: 46168 | B8: =A8 -> 46168 | E8: 2261 | F8: =F7+E8 -> 12591 | G8: =$D$2-F8 -> 41969
A9: 46169 | B9: =A9 -> 46169 | E9: 2286 | F9: =F8+E9 -> 14877 | G9: =$D$2-F9 -> 39683
A10: 46170 | B10: =A10 -> 46170 | E10: 2243 | F10: =F9+E10 -> 17120 | G10: =$D$2-F10 -> 37440
A11: 46171 | B11: =A11 -> 46171 | E11: 2278 | F11: =F10+E11 -> 19398 | G11: =$D$2-F11 -> 35162
A12: 46172 | B12: =A12 -> 46172 | E12: 2240 | F12: =F11+E12 -> 21638 | G12: =$D$2-F12 -> 32922
A13: 46173 | B13: =A13 -> 46173 | E13: 2278 | F13: =F12+E13 -> 23916 | G13: =$D$2-F13 -> 30644
A14: 46174 | B14: =A14 -> 46174 | E14: 2260 | F14: =F13+E14 -> 26176 | G14: =$D$2-F14 -> 28384
A15: 46175 | B15: =A15 -> 46175 | E15: 2274 | F15: =F14+E15 -> 28450 | G15: =$D$2-F15 -> 26110
A16: 46176 | B16: =A16 -> 46176 | E16: 2017 | F16: =F15+E16 -> 30467 | G16: =$D$2-F16 -> 24093
A17: 46177 | B17: =A17 -> 46177 | E17: 2262 | F17: =F16+E17 -> 32729 | G17: =$D$2-F17 -> 21831
A18: 46178 | B18: =A18 -> 46178 | E18: 2278 | F18: =F17+E18 -> 35007 | G18: =$D$2-F18 -> 19553
... A28: 46188 | B28: =A28 -> 46188 | E28: 102 | F28: =F27+E28 -> 55539 | G28: =$D$2-F28 -> -979
C29: P59023.J4CP-80 | D29: 3000 | E29: 825 | F29: =E29 -> 825 | G29: =$D$29-F29 -> 2175 | H29: 46188 | I29: 3000 | J29: WWMJ4A-24.3*C19.1 | K29: 46157 | L29: 待確認 | M29: M01150514144 | P29: 98.1 | Q29: 6/23出貨-425 | R29: 滾字+電鍍
A30: 46189 | B30: =A30 -> 46189 | E30: 1336 | F30: =E30+F29 -> 2161 | G30: =$D$29-F30 -> 839
A31: 46190 | B31: =A31 -> 46190 | E31: 1370 | F31: =E31+F30 -> 3531 | G31: =$D$29-F31 -> -531
A32: 46191 | B32: =A32 -> 46191 | E32: 88 | F32: =E32+F31 -> 3619 | G32: =$D$29-F32 -> -619
C33: 18091-80 | D33: 137 | E33: 150 | F33: =E33 -> 150 | G33: =$D$33-F33 -> -13 | H33: 46218 | I33: 137 | J33: WWMJ4CA-28.5 | L33: 24B | M33: M01150611040 | Q33: 7/21出貨
C34: 50.1122.5-80 | D34: 500 | E34: 524 | F34: =E34 -> 524 | G34: =$D$34-F34 -> -24 | H34: 46195 | I34: 500 | J34: WWMJ4A-28.5*C23 | K34: 46188 | L34: 12A左 | M34: M01150605037 | Q34: 7/3出貨 | R34: 電鍍+雷雕(金台山)
C35: R00062-80 | D35: 12200 | E35: 364 | F35: =E35 -> 364 | G35: =$D$35-F35 -> 11836 | H35: 46198 | I35: 12200 | J35: WWHUACA-22.2 | K35: 46178 | L35: 7A | M35: M01150526031 | Q35: 7/3出貨
A36: 46192 | B36: =A36 -> 46192 | E36: 1529 | F36: =F35+E36 -> 1893 | G36: =$D$35-F36 -> 10307 | J36: WWHUACA-22.2 | K36: 46182 | L36: 7A
A37: 46193 | B37: =A37 -> 46193 | C37: 清洗 | E37: 1529 | F37: =F36+E37 -> 3422 | G37: =$D$35-F37 -> 8778
A38: 46194 | B38: =A38 -> 46194 | E38: 1529 | F38: =F37+E38 -> 4951 | G38: =$D$35-F38 -> 7249
A39: 46195 | B39: =A39 -> 46195 | E39: 1527 | F39: =F38+E39 -> 6478 | G39: =$D$35-F39 -> 5722
A40: 46196 | B40: =A40 -> 46196 | E40: 1525 | F40: =F39+E40 -> 8003 | G40: =$D$35-F40 -> 4197
A41: 46197 | B41: =A41 -> 46197 | E41: 1529 | F41: =F40+E41 -> 9532 | G41: =$D$35-F41 -> 2668
A42: 46198 | B42: =A42 -> 46198 | E42: 1524 | F42: =F41+E42 -> 11056 | G42: =$D$35-F42 -> 1144
A43: 46199 | B43: =A43 -> 46199 | E43: 1144 | F43: =F42+E43 -> 12200 | G43: =$D$35-F43 -> 0
C44: R00062-80 | D44: 14715 | E44: 382 | F44: =E44 -> 382 | G44: =$D$44-F44 -> 14333 | H44: 46202 | I44: 14715 | J44: WWHUACA-22.2 | K44: 46188 | L44: 7A | M44: M01150604010 | N44: 6/24-SCH | Q44: 7/6出貨
A45: 46200 | B45: =A45 -> 46200 | E45: 1530 | F45: =F44+E45 -> 1912 | G45: =$D$44-F45 -> 12803 | J45: WWHUACA-22.2 | K45: 46195
A46: 46201 | B46: =A46 -> 46201 | E46: 1244 | F46: =F45+E46 -> 3156 | G46: =$D$44-F46 -> 11559
A47: 46202 | B47: =A47 -> 46202 | E47: 1528 | F47: =F46+E47 -> 4684 | G47: =$D$44-F47 -> 10031
A48: 46203 | B48: =A48 -> 46203 | E48: 1521 | F48: =F47+E48 -> 6205 | G48: =$D$44-F48 -> 8510
A49: 46204 | B49: =A49 -> 46204 | E49: 1526 | F49: =F48+E49 -> 7731 | G49: =$D$44-F49 -> 6984
...

Sheet C8
A1: 日期 | C1: 品名 | D1: 投產數 | E1: 當日產量 | F1: 累積產量 | G1: 未生產數 | H1: 預交日 | I1: 訂單數量 | J1: 銅條 | K1: 進料日 | L1: 架位 | M1: 工令單號 | N1: 實際入庫 | O1: 差異 | P1: 單重 | Q1: 備註(出貨日) | R1: 後製程
A2: 46173 | B2: =A2 -> 46173 | C2: P97021.UANT-80 | D2: 780 | E2: 1076 | F2: =E2 -> 1076 | G2: =$D$2-F2 -> -296 | H2: 46190 | I2: 780 | J2: WWMUACA-14.5 | K2: 46169 | L2: 9B | M2: M01150520104 | Q2: 6/25出貨 | R2: 沖齒
A3: 46174 | B3: =A3 -> 46174 | E3: 127 | F3: =E3+F2 -> 1203 | G3: =$D$2-F3 -> -423
C4: 50.1173-80 | D4: =I4+I5+I6 -> 28320 | E4: 888 | F4: =E4 -> 888 | G4: =$D$4-F4 -> 27432 | H4: 46176 | I4: 26800 | J4: WWMJ4A-24.3*C19.1 | K4: 46157 | L4: V1 | M4: M01150507101 | Q4: 6/22出貨 | R4: 剖溝+電鍍
A5: 46175 | B5: =A5 -> 46175 | E5: 1386 | F5: =F4+E5 -> 2274 | G5: =$D$4-F5 -> 26046 | H5: 46170 | I5: 520 | J5: WWMJ4A-24.3*C19.1 | K5: 46157 | L5: V1 | M5: M01150507110 | Q5: 6/22出貨 | R5: 剖溝+電鍍
A6: 46176 | B6: =A6 -> 46176 | E6: 1384 | F6: =F5+E6 -> 3658 | G6: =$D$4-F6 -> 24662 | H6: 46209 | I6: 1000 | J6: WWMJ4A-24.3*C19.1 | M6: M01150603015 | N6: 6/11-SCH | Q6: 8/3出貨 | R6: 剖溝+電鍍
A7: 46177 | B7: =A7 -> 46177 | E7: 1384 | F7: =F6+E7 -> 5042 | G7: =$D$4-F7 -> 23278 | I7: =SUM(I4:I6) -> 28320
A8: 46178 | B8: =A8 -> 46178 | E8: 1384 | F8: =F7+E8 -> 6426 | G8: =$D$4-F8 -> 21894
A9: 46179 | B9: =A9 -> 46179 | E9: 1389 | F9: =F8+E9 -> 7815 | G9: =$D$4-F9 -> 20505
A10: 46180 | B10: =A10 -> 46180 | E10: 1388 | F10: =F9+E10 -> 9203 | G10: =$D$4-F10 -> 19117
A11: 46181 | B11: =A11 -> 46181 | E11: 1383 | F11: =F10+E11 -> 10586 | G11: =$D$4-F11 -> 17734
A12: 46182 | B12: =A12 -> 46182 | E12: 1387 | F12: =F11+E12 -> 11973 | G12: =$D$4-F12 -> 16347
A13: 46183 | B13: =A13 -> 46183 | E13: 1389 | F13: =F12+E13 -> 13362 | G13: =$D$4-F13 -> 14958
A14: 46184 | B14: =A14 -> 46184 | E14: 1384 | F14: =F13+E14 -> 14746 | G14: =$D$4-F14 -> 13574
A15: 46185 | B15: =A15 -> 46185 | E15: 1324 | F15: =F14+E15 -> 16070 | G15: =$D$4-F15 -> 12250
A16: 46186 | B16: =A16 -> 46186 | E16: 1210 | F16: =F15+E16 -> 17280 | G16: =$D$4-F16 -> 11040
A17: 46187 | B17: =A17 -> 46187 | E17: 1299 | F17: =F16+E17 -> 18579 | G17: =$D$4-F17 -> 9741
A18: 46188 | B18: =A18 -> 46188 | E18: 1308 | F18: =F17+E18 -> 19887 | G18: =$D$4-F18 -> 8433
A19: 46189 | B19: =A19 -> 46189 | E19: 1308 | F19: =F18+E19 -> 21195 | G19: =$D$4-F19 -> 7125
... A25: 46195 | B25: =A25 -> 46195 | E25: 625 | F25: =F24+E25 -> 28359 | G25: =$D$4-F25 -> -39
C26: B10060-3-80 | D26: 300 | E26: 250 | F26: =E26 -> 250 | G26: =$D$26-F26 -> 50 | H26: 46202 | I26: 300 | J26: WWMJ6CA-27.0 | K26: 46182 | M26: M01150520011 | Q26: 7/30出貨 | R26: 焊接
A27: 46196 | B27: =A27 -> 46196 | E27: 55 | F27: =E27+F26 -> 305 | G27: =$D$26-F27 -> -5
C28: BY.0243.1-80 | D28: 1100 | E28: 483 | F28: =E28 -> 483 | G28: =$D$28-F28 -> 617 | H28: 46216 | I28: 1100 | J28: WWMJ4CA-24 | M28: M01150612008 | Q28: 8/3出貨 | R28: 拋光+滾字+電鍍
A29: 46197 | B29: =A29 -> 46197 | E29: 651 | F29: =F28+E29 -> 1134 | G29: =$D$28-F29 -> -34
C30: R00087-80 | D30: 190 | E30: 21 | F30: =E30 -> 21 | G30: =$D$30-F30 -> 169 | H30: 46218 | I30: 190 | J30: WWMUACA-29 | L30: D1-4 | M30: M01150601190 | Q30: 7/22出貨
A31: 46198 | B31: =A31 -> 46198 | E31: 179 | F31: =E31+F30 -> 200 | G31: =$D$30-F31 -> -10
C32: F00275-80 | D32: 2300 | E32: 2232 | F32: =E32 -> 2232 | G32: =$D$32-F32 -> 68 | H32: 46367 | I32: 2300 | J32: WWMUACA-29 | L32: D1-4 | M32: M01150302039 | Q32: 12/21出貨(補報廢)
A33: 46199 | B33: =A33 -> 46199 | E33: 157 | F33: =F32+E33 -> 2389 | G33: =$D$32-F33 -> -89
C34: P09124.UANT-80 | D34: =I39 -> 17280 | E34: 552 | F34: =E34 -> 552 | G34: =$D$34-F34 -> 16728 | H34: 46198 | I34: 3100 | J34: WWMUACA-29 | L34: D1-4 | M34: M01150526020 | Q34: 7/3出貨
A35: 46200 | B35: =A35 -> 46200 | E35: 1055 | F35: =F34+E35 -> 1607 | G35: =$D$34-F35 -> 15673 | H35: 46202 | I35: 980 | J35: WWMUACA-29 | L35: D1-4 | M35: M01150604004 | Q35: 7/6出貨
A36: 46201 | B36: =A36 -> 46201 | E36: 858 | F36: =F35+E36 -> 2465 | G36: =$D$34-F36 -> 14815 | H36: 46209 | I36: 9000 | J36: WWMUACA-29 | K36: 46191 | L36: 7B | M36: M01150609036 | N36: 6/30-SCH | Q36: 7/14出貨
A37: 46202 | B37: =A37 -> 46202 | E37: 890 | F37: =F36+E37 -> 3355 | G37: =$D$34-F37 -> 13925 | H37: 46216 | I37: 3000 | J37: WWMUACA-29 | K37: 46204 | L37: D1-4 | M37: M01150616174 | N37: 6/30-SCH | Q37: 7/20出貨
A38: 46203 | B38: =A38 -> 46203 | E38: 895 | F38: =F37+E38 -> 4250 | G38: =$D$34-F38 -> 13030 | H38: 46230 | I38: 1200 | J38: WWMUACA-29 | K38: 46204 | L38: D1-4 | M38: M01150618177 | N38: 6/30-SCH | Q38: 8/3出貨
A39: 46204 | B39: =A39 -> 46204 | E39: 908 | F39: =F38+E39 -> 5158 | G39: =$D$34-F39 -> 12122 | I39: =SUM(I34:I38) -> 17280
A40: 46205 | B40: =A40 -> 46205 | E40: 909 | F40: =F39+E40 -> 6067 | G40: =$D$34-F40 -> 11213
A41: 46206 | B41: =A41 -> 46206 | E41: 890 | F41: =F40+E41 -> 6957 | G41: =$D$34-F41 -> 10323
A42: 46207 | B42: =A42 -> 46207 | E42: 921 | F42: =F41+E42 -> 7878 | G42: =$D$34-F42 -> 9402
A43: 46208 | B43: =A43 -> 46208 | E43: 923 | F43: =F42+E43 -> 8801 | G43: =$D$34-F43 -> 8479
A44: 46209 | B44: =A44 -> 46209 | E44: 900 | F44: =F43+E44 -> 9701 | G44: =$D$34-F44 -> 7579
A45: 46210 | B45: =A45 -> 46210 | E45: 913 | F45: =F44+E45 -> 10614 | G45: =$D$34-F45 -> 6666
...

Sheet C12
A1: 日期 | C1: 品名-可對角定位 | D1: 投產數 | E1: 當日產量 | F1: 累積產量 | G1: 未生產數 | H1: 預交日 | I1: 訂單數量 | J1: 銅條 | K1: 進料日 | L1: 架位 | M1: 工令單號 | N1: 實際入庫 | O1: 差異 | P1: 單重 | Q1: 備註(出貨日) | R1: 後製程
A2: 46181 | B2: =A2 -> 46181 | C2: GY.1293.1-80 | D2: 450 | E2: 470 | F2: =E2 -> 470 | G2: =$D$2-F2 -> -20 | H2: 46181 | I2: 450 | J2: WWMJ6CA-24.0 | K2: 46162 | L2: 17D | M2: M01150506129 | Q2: 6/22出貨 | R2: 電鍍
A3: 46182 | B3: =A3 -> 46182 | E3: 55 | F3: =F2+E3 -> 525 | G3: =$D$2-F3 -> -75
C4: P09068.J6C6-80 | D4: 500 | E4: 525 | F4: =E4 -> 525 | G4: =$D$4-F4 -> -25 | H4: 46181 | I4: 500 | J4: WWMJ6CA-24.0 | K4: 46162 | L4: 17D | M4: M01150430031 | Q4: 6/22出貨 | R4: 電鍍
C5: GY.3233.1-80 | D5: 500 | E5: 132 | F5: =E5 -> 132 | G5: =$D$5-F5 -> 368 | H5: 46181 | I5: 500 | J5: WWMJ6CA-24.0 | K5: 46162 | L5: 17D | M5: M01150507288 | Q5: 6/22出貨 | R5: 電鍍
A6: 46183 | B6: =A6 -> 46183 | E6: 368 | F6: =F5+E6 -> 500 | G6: =$D$5-F6 -> 0
C7: R00080-JC-80 | D7: 280 | E7: 96 | F7: =E7 -> 96 | G7: =$D$7-F7 -> 184 | H7: 46191 | I7: 280 | J7: WWMJ4CA-16.0 | K7: 46182 | L7: 25B | M7: M01150522216 | Q7: 7/3出貨 | R7: 沖齒+雷雕
A8: 46184 | B8: =A8 -> 46184 | E8: 229 | F8: =E8+F7 -> 325 | G8: =$D$7-F8 -> -45
C9: NFS20260421-5-2-80 | D9: 35 | E9: 48 | F9: =E9 -> 48 | G9: =$D$9-F9 -> -13 | H9: 202/06/611 | I9: 35 | J9: WWMD4CA-14.50 | L9: 5C | M9: M01150609001 | R9: 熱處理(槽位刀痕)
C10: NFCN25241-009-80 | D10: 105 | E10: 110 | F10: =E10 -> 110 | G10: =$D$10-F10 -> -5 | H10: 46183 | I10: 105 | J10: WWMD6CH-18.5 | L10: 16C左 | M10: M01150605028 | R10: 熱處理(硬度不足重新打樣*2)
A11: 46185 | B11: =A11 -> 46185 | E11: 120 | F11: =E11+F10 -> 230 | G11: =$D$10-F11 -> -125
C12: 50.8011.2741A-80 | D12: =I14 -> 4233 | E12: 706 | F12: =E12 -> 706 | G12: =$D$12-F12 -> 3527 | H12: 46188 | I12: 4000 | J12: WWMD6CH-18 | K12: 46181 | L12: M1-1 | M12: M01150522053 | Q12: 6/18出貨 | R12: 熱處理
A13: 46186 | B13: =A13 -> 46186 | E13: 894 | F13: =E13+F12 -> 1600 | G13: =$D$12-F13 -> 2633 | H13: NG | I13: 233
A14: 46187 | B14: =A14 -> 46187 | E14: 1086 | F14: =E14+F13 -> 2686 | G14: =$D$12-F14 -> 1547 | I14: =SUM(I12:I13) -> 4233
A15: 46188 | B15: =A15 -> 46188 | E15: 1077 | F15: =E15+F14 -> 3763 | G15: =$D$12-F15 -> 470
A16: 46189 | B16: =A16 -> 46189 | E16: 563 | F16: =E16+F15 -> 4326 | G16: =$D$12-F16 -> -93
C17: W61604-16-80 | D17: 1000 | E17: 1169 | F17: =E17 -> 1169 | G17: =$D$17-F17 -> -169 | H17: 46223 | I17: 1000 | J17: WWMUAA-4.0 | L17: 9A | M17: M01150615055 | Q17: 7/27出貨
A18: 46190 | B18: =A18 -> 46190 | E18: 142 | F18: =E18+F17 -> 1311 | G18: =$D$17-F18 -> -311
C19: W61109-5-80 | D19: 200 | E19: 204 | F19: =E19 -> 204 | G19: =$D$19-F19 -> -4 | H19: 46188 | I19: 200 | J19: ZM-PE-20 | K19: 加一購買 | L19: K1-1 | M19: M01150519066 | Q19: 6/22出貨
C20: W61109-6-80 | D20: 200 | E20: 205 | F20: =E20 -> 205 | G20: =$D$20-F20 -> -5 | H20: 46188 | I20: 200 | J20: ZM-PE-20 | K20: 加一購買 | L20: K1-1 | M20: M01150519067 | Q20: 6/22出貨
C21: YCN403 | D21: 100 | E21: 130 | F21: =E21 -> 130 | G21: =$D$21-F21 -> -30 | H21: 46223 | I21: 100 | J21: ZM-PE-25 | L21: AA2 | M21: M01150615065 | Q21: 7/27出貨
C22: W61109-1-80 | D22: 100 | E22: 110 | F22: =E22 -> 110 | G22: =$D$22-F22 -> -10 | H22: 206/06/15 | I22: 100 | J22: WWMJ4CA-14.5 | K22: 46168 | L22: 20B | M22: M01150519061 | Q22: 6/22出貨
A23: 46191 | B23: =A23 -> 46191 | C23: W61109-3-80 | D23: 200 | E23: 215 | F23: =E23 -> 215 | G23: =$D$23-F23 -> -15 | H23: 46188 | I23: 200 | J23: WWHJ4CA-8 | K23: 46167 | L23: 20A | M23: M01150519064 | Q23: 6/22出貨
C24: R00284-80 | D24: 1962 | E24: 1277 | F24: =E24 -> 1277 | G24: =$D$24-F24 -> 685 | H24: 46202 | I24: 1962 | J24: WWMJ4CA-21.5 | K24: 46177 | L24: 21D | M24: M01150529013 | Q24: 7/6出貨
A25: 46192 | B25: =A25 -> 46192 | E25: 723 | F25: =F24+E25 -> 2000 | G25: =$D$24-F25 -> -38
C26: C61305-3-80 | D26: 10000 | E26: 2213 | F26: =E26 -> 2213 | G26: =$D$26-F26 -> 7787 | H26: 46191 | I26: 10000 | J26: WWMJ6CA-17.0 | K26: 46174 | L26: 17C | M26: M01150514136 | Q26: 6/29出貨-11
A27: 46193 | B27: =A27 -> 46193 | E27: 4401 | F27: =F26+E27 -> 6614 | G27: =$D$26-F27 -> 3386
A28: 46194 | B28: =A28 -> 46194 | E28: 4404 | F28: =F27+E28 -> 11018 | G28: =$D$26-F28 -> -1018
A29: 46195 | B29: =A29 -> 46195 | E29: 497 | F29: =F28+E29 -> 11515 | G29: =$D$26-F29 -> -1515
C30: X00001A-80 | D30: 280 | E30: 377 | F30: =E30 -> 377 | G30: =$D$30-F30 -> -97 | H30: 46195 | I30: 280 | J30: WWMUACA-24.5 | K30: 46174 | L30: 9C | M30: M01150522011 | Q30: 7/10出貨 | R30: 拋光+電鍍
C31: B0.10S2.1-80 | D31: 9503 | E31: 966 | F31: =E31 -> 966 | G31: =$D$31-F31 -> 8537 | H31: 46209 | I31: 8700 | J31: WWMJ4CA-18.0 | K31: 46182 | L31: 21B | M31: M01150529111 | Q31: 7/20出貨 | R31: 剖溝+電鍍
A32: 46196 | B32: =A32 -> 46196 | E32: 1913 | F32: =F31+E32 -> 2879 | G32: =$D$31-F32 -> 6624
A33: 46197 | B33: =A33 -> 46197 | E33: 1945 | F33: =F32+E33 -> 4824 | G33: =$D$31-F33 -> 4679
A34: 46198 | B34: =A34 -> 46198 | E34: 1921 | F34: =F33+E34 -> 6745 | G34: =$D$31-F34 -> 2758
A35: 46199 | B35: =A35 -> 46199 | E35: 1900 | F35: =F34+E35 -> 8645 | G35: =$D$31-F35 -> 858
A36: 46200 | B36: =A36 -> 46200 | E36: 919 | F36: =F35+E36 -> 9564 | G36: =$D$31-F36 -> -61
C37: X00005-80 | D37: 1200 | E37: 650 | F37: =E37 -> 650 | G37: =$D$37-F37 -> 550 | H37: 46205 | I37: 1200 | J37: WWMJ4A-24.3*C19.1 | L37: V1 | M37: M01150615225 | Q37: 713出貨 | R37: 電鍍+雷雕
A38: 46201 | B38: =A38 -> 46201 | E38: 585 | F38: =F37+E38 -> 1235 | G38: =$D$37-F38 -> -35
C39: B0.1032.1-80 | D39: 1400 | E39: 610 | F39: =E39 -> 610 | G39: =$D$39-F39 -> 790 | H39: 46230 | I39: 1400 | J39: WWMJ4A-24.3*C19.1 | K39: 46204 | M39: M01150612012 | Q39: 8/3出貨
A40: 46202 | B40: =A40 -> 46202 | E40: 1561 | F40: =F39+E40 -> 2171 | G40: =$D$39-F40 -> -771
...

Sheet C13
A1: 日期 | C1: 品名 | D1: 投產數 | E1: 當日產量 | F1: 累積產量 | G1: 未生產數 | H1: 預交日 | I1: 訂單數量 | J1: 銅條 | K1: 進料日 | L1: 架位 | M1: 工令單號 | N1: 實際入庫 | O1: 差異 | P1: 單重 | Q1: 備註(出貨日) | R1: 後製程
A2: 46167 | B2: =A2 -> 46167 | C2: X00006C-80 | D2: 8000 | E2: 5 | F2: =E2 -> 5 | G2: =$D$2-F2 -> 7995 | H2: 46167 | I2: 8000 | J2: WWMUACA-24.5 | K2: 46153 | M2: M01150427045 | Q2: 6/12出貨 | R2: 電鍍+雷雕(金台山)
A3: 46168 | B3: =A3 -> 46168 | C3: 試電 | E3: 715 | F3: =F2+E3 -> 720 | G3: =$D$2-F3 -> 7280
A4: 46169 | B4: =A4 -> 46169 | E4: 783 | F4: =F3+E4 -> 1503 | G4: =$D$2-F4 -> 6497
A5: 46170 | B5: =A5 -> 46170 | E5: 801 | F5: =F4+E5 -> 2304 | G5: =$D$2-F5 -> 5696
A6: 46171 | B6: =A6 -> 46171 | E6: 798 | F6: =F5+E6 -> 3102 | G6: =$D$2-F6 -> 4898
A7: 46172 | B7: =A7 -> 46172 | E7: 761 | F7: =F6+E7 -> 3863 | G7: =$D$2-F7 -> 4137
A8: 46173 | B8: =A8 -> 46173 | E8: 763 | F8: =F7+E8 -> 4626 | G8: =$D$2-F8 -> 3374
A9: 46174 | B9: =A9 -> 46174 | E9: 809 | F9: =F8+E9 -> 5435 | G9: =$D$2-F9 -> 2565
A10: 46175 | B10: =A10 -> 46175 | E10: 788 | F10: =F9+E10 -> 6223 | G10: =$D$2-F10 -> 1777
A11: 46176 | B11: =A11 -> 46176 | E11: 770 | F11: =F10+E11 -> 6993 | G11: =$D$2-F11 -> 1007
A12: 46177 | B12: =A12 -> 46177 | E12: 799 | F12: =F11+E12 -> 7792 | G12: =$D$2-F12 -> 208
A13: 46178 | B13: =A13 -> 46178 | E13: 208 | F13: =F12+E13 -> 8000 | G13: =$D$2-F13 -> 0
C14: X00006C-80 | D14: 10000 | E14: 596 | F14: =E14 -> 596 | G14: =$D$14-F14 -> 9404 | H14: 46181 | I14: 10000 | J14: WWMUACA-24.5 | K14: 46174 | L14: 9C | M14: M01150520111 | N14: 5/29-SCH | Q14: 6/18出貨-5000 | R14: 電鍍+雷雕(金台山)
A15: 46179 | B15: =A15 -> 46179 | E15: 784 | F15: =F14+E15 -> 1380 | G15: =$D$14-F15 -> 8620 | Q15: 6/26出貨-5000 | R15: 電鍍+雷雕(金台山)
A16: 46180 | B16: =A16 -> 46180 | E16: 802 | F16: =F15+E16 -> 2182 | G16: =$D$14-F16 -> 7818
A17: 46181 | B17: =A17 -> 46181 | E17: 804 | F17: =F16+E17 -> 2986 | G17: =$D$14-F17 -> 7014
A18: 46182 | B18: =A18 -> 46182 | E18: 761 | F18: =F17+E18 -> 3747 | G18: =$D$14-F18 -> 6253
A19: 46183 | B19: =A19 -> 46183 | E19: 799 | F19: =F18+E19 -> 4546 | G19: =$D$14-F19 -> 5454
A20: 46184 | B20: =A20 -> 46184 | E20: 799 | F20: =F19+E20 -> 5345 | G20: =$D$14-F20 -> 4655
A21: 46185 | B21: =A21 -> 46185 | E21: 793 | F21: =F20+E21 -> 6138 | G21: =$D$14-F21 -> 3862
A22: 46186 | B22: =A22 -> 46186 | E22: 791 | F22: =F21+E22 -> 6929 | G22: =$D$14-F22 -> 3071
A23: 46187 | B23: =A23 -> 46187 | E23: 801 | F23: =F22+E23 -> 7730 | G23: =$D$14-F23 -> 2270
A24: 46188 | B24: =A24 -> 46188 | E24: 777 | F24: =F23+E24 -> 8507 | G24: =$D$14-F24 -> 1493
A25: 46189 | B25: =A25 -> 46189 | E25: 802 | F25: =F24+E25 -> 9309 | G25: =$D$14-F25 -> 691
A26: 46190 | B26: =A26 -> 46190 | E26: 691 | F26: =F25+E26 -> 10000 | G26: =$D$14-F26 -> 0
C27: X00006C-80 | D27: 8000 | E27: 111 | F27: =E27 -> 111 | G27: =$D$27-F27 -> 7889 | H27: 46197 | I27: 7900 | J27: WWMUACA-24.5 | K27: 46182 | L27: 9C | M27: M01150529059 | N27: 6/3-SCH | Q27: 7/9出貨 | R27: 電鍍+雷雕(金台山)
A28: 46191 | B28: =A28 -> 46191 | E28: 772 | F28: =F27+E28 -> 883 | G28: =$D$27-F28 -> 7117
A29: 46192 | B29: =A29 -> 46192 | E29: 803 | F29: =F28+E29 -> 1686 | G29: =$D$27-F29 -> 6314
A30: 46193 | B30: =A30 -> 46193 | E30: 786 | F30: =F29+E30 -> 2472 | G30: =$D$27-F30 -> 5528
A31: 46194 | B31: =A31 -> 46194 | E31: 791 | F31: =F30+E31 -> 3263 | G31: =$D$27-F31 -> 4737
A32: 46195 | B32: =A32 -> 46195 | E32: 788 | F32: =F31+E32 -> 4051 | G32: =$D$27-F32 -> 3949
A33: 46196 | B33: =A33 -> 46196 | E33: 780 | F33: =F32+E33 -> 4831 | G33: =$D$27-F33 -> 3169
A34: 46197 | B34: =A34 -> 46197 | E34: 780 | F34: =F33+E34 -> 5611 | G34: =$D$27-F34 -> 2389
A35: 46198 | B35: =A35 -> 46198 | E35: 773 | F35: =F34+E35 -> 6384 | G35: =$D$27-F35 -> 1616
A36: 46199 | B36: =A36 -> 46199 | E36: 787 | F36: =F35+E36 -> 7171 | G36: =$D$27-F36 -> 829
A37: 46200 | B37: =A37 -> 46200 | E37: 790 | F37: =F36+E37 -> 7961 | G37: =$D$27-F37 -> 39
A38: 46201 | B38: =A38 -> 46201 | E38: 202 | F38: =F37+E38 -> 8163 | G38: =$D$27-F38 -> -163
C39: W30811-3-80 | D39: 350 | E39: 1035 | F39: =E39 -> 1035 | G39: =$D$39-F39 -> -685 | H39: 46223 | I39: 350 | J39: WWMJ4CA-19.0 | K39: 46191 | L39: 21C.H1-3 | M39: M01150610089 | Q39: 8/3出貨 | R39: 電鍍
A40: 46202 | B40: =A40 -> 46202 | C40: G0.A072.1-80 | D40: 450 | E40: 562 | F40: =E40 -> 562 | G40: =$D$40-F40 -> -112 | H40: 46195 | I40: 450 | J40: WWMJ6CA-24.0 | K40: 46185 | L40: 17D | M40: M01150520083 | Q40: 7/6出貨 | R40: 滾字+電鍍
...

Sheet C32
A1: 日期 | C1: 品名 | D1: 投產數 | E1: 當日產量 | F1: 累積產量 | G1: 未生產數 | H1: 預交日 | I1: 訂單數量 | J1: 銅條 | K1: 進料日 | L1: 架位 | M1: 工令單號 | N1: 實際入庫 | O1: 差異 | P1: 單重 | Q1: 備註(出貨日) | R1: 後製程
A2: 46183 | B2: =A2 -> 46183 | C2: BY.0063.1-80 | D2: =I7 -> 38000 | E2: 2349 | F2: =E2 -> 2349 | G2: =$D$2-F2 -> 35651 | H2: 46181 | I2: 6000 | J2: WWMJ4A-24.3*C19.1 | K2: 46141 | L2: V1 | M2: M01150429002 | Q2: 6/22出貨 | R2: 電鍍
A3: 46184 | B3: =A3 -> 46184 | E3: 3439 | F3: =F2+E3 -> 5788 | G3: =$D$2-F3 -> 32212 | H3: 46187 | I3: 8000 | J3: WWMJ4A-24.3*C19.1 | K3: 46170 | L3: V1 | M3: M01150506175 | N3: 6/11-SCH | Q3: 6/22出貨 | R3: 電鍍
A4: 46185 | B4: =A4 -> 46185 | E4: 3262 | F4: =F3+E4 -> 9050 | G4: =$D$2-F4 -> 28950 | H4: 46198 | I4: 8000 | J4: WWMJ4A-24.3*C19.1 | K4: 46157 | L4: V1 | M4: M01150515008 | N4: 6/11-SCH | Q4: 7/6出貨 | R4: 電鍍
A5: 46186 | B5: =A5 -> 46186 | E5: 3272 | F5: =F4+E5 -> 12322 | G5: =$D$2-F5 -> 25678 | H5: 46209 | I5: 8000 | J5: WWMJ4A-24.3*C19.1 | K5: 46184 | L5: V1 | M5: M01150527017 | N5: 6/11-SCH | Q5: 7/20出貨 | R5: 電鍍
A6: 46187 | B6: =A6 -> 46187 | E6: 3341 | F6: =F5+E6 -> 15663 | G6: =$D$2-F6 -> 22337 | H6: 46209 | I6: 8000 | J6: WWMJ4A-24.3*C19.1 | K6: 46184 | L6: V1 | M6: M01150602016 | N6: 6/11-SCH | Q6: 7/20出貨 | R6: 電鍍
A7: 46188 | B7: =A7 -> 46188 | E7: 3366 | F7: =F6+E7 -> 19029 | G7: =$D$2-F7 -> 18971 | I7: =SUM(I2:I6) -> 38000
A8: 46189 | B8: =A8 -> 46189 | E8: 3491 | F8: =F7+E8 -> 22520 | G8: =$D$2-F8 -> 15480
A9: 46190 | B9: =A9 -> 46190 | E9: 3437 | F9: =F8+E9 -> 25957 | G9: =$D$2-F9 -> 12043
A10: 46191 | B10: =A10 -> 46191 | E10: 3355 | F10: =F9+E10 -> 29312 | G10: =$D$2-F10 -> 8688
A11: 46192 | B11: =A11 -> 46192 | E11: 3319 | F11: =F10+E11 -> 32631 | G11: =$D$2-F11 -> 5369
A12: 46193 | B12: =A12 -> 46193 | E12: 3189 | F12: =F11+E12 -> 35820 | G12: =$D$2-F12 -> 2180
A13: 46194 | B13: =A13 -> 46194 | E13: 2479 | F13: =F12+E13 -> 38299 | G13: =$D$2-F13 -> -299
A14: 46195 | C14: VXR-4-80 | D14: =I24 -> 26806 | E14: 293 | F14: =E14 -> 293 | G14: =$D$14-F14 -> 26513 | H14: 46181 | I14: 600 | J14: WWHJ4CA-20.5 | L14: H1-4 | M14: M01150422024 | Q14: 6/29出貨-1449
A15: 46196 | B15: =A15 -> 46196 | E15: 1200 | F15: =F14+E15 -> 1493 | G15: =$D$14-F15 -> 25313 | H15: 46198 | I15: 3165 | J15: WWHJ4CA-20.5 | L15: H1-4 | M15: M01150409205 | Q15: 7/1出貨-250
A16: 46197 | B16: =A16 -> 46197 | E16: 1199 | F16: =F15+E16 -> 2692 | G16: =$D$14-F16 -> 24114 | H16: 46206 | I16: 18500 | J16: WWHJ4CA-20.5 | L16: H1-4 | M16: M01150507162 | Q16: 7/3出貨-11940
A17: 46198 | B17: =A17 -> 46198 | E17: 1199 | F17: =F16+E17 -> 3891 | G17: =$D$14-F17 -> 22915 | H17: 46198 | I17: 10000 | J17: WWHJ4CA-20.5 | K17: 46177 | L17: H1-4 | M17: M01150522214 | Q17: 7/6出貨-10400
A18: 46199 | B18: =A18 -> 46199 | E18: 1197 | F18: =F17+E18 -> 5088 | G18: =$D$14-F18 -> 21718 | H18: 46204 | I18: 10000 | J18: WWHJ4CA-20.5 | K18: 46189 | L18: H1-4 | M18: M01150601112 | Q18: 7/13出貨-4584
A19: 46200 | B19: =A19 -> 46200 | E19: 1199 | F19: =F18+E19 -> 6287 | G19: =$D$14-F19 -> 20519 | H19: 46216 | I19: 10000 | J19: WWHJ4CA-20.5 | K19: 46197 | L19: H1-4 | M19: M01150611076 | Q19: 7/15出貨-1800
A20: 46201 | B20: =A20 -> 46201 | E20: 991 | F20: =F19+E20 -> 7278 | G20: =$D$14-F20 -> 19528 | H20: 46227 | I20: 10000 | J20: WWHJ4CA-20.5 | K20: 46217 | L20: H1-4 | M20: M01150618016
A21: 46202 | B21: =A21 -> 46202 | E21: 1187 | F21: =F20+E21 -> 8465 | G21: =$D$14-F21 -> 18341 | H21: 46244 | I21: 10000 | J21: WWHJ4CA-20.5 | K21: 46217 | L21: H1-4 | M21: M01150618035
A22: 46203 | B22: =A22 -> 46203 | E22: 1212 | F22: =F21+E22 -> 9677 | G22: =$D$14-F22 -> 17129 | I22: =SUM(I14:I21) -> 72265
A23: 46204 | B23: =A23 -> 46204 | E23: 1199 | F23: =F22+E23 -> 10876 | G23: =$D$14-F23 -> 15930 | H23: C2 | I23: 25093
A24: 46205 | B24: =A24 -> 46205 | E24: 1199 | F24: =F23+E24 -> 12075 | G24: =$D$14-F24 -> 14731 | H24: C32 | I24: 26806
A25: 46206 | B25: =A25 -> 46206 | E25: 1194 | F25: =F24+E25 -> 13269 | G25: =$D$14-F25 -> 13537 | H25: C18 | I25: 20366
A26: 46207 | B26: =A26 -> 46207 | E26: 1195 | F26: =F25+E26 -> 14464 | G26: =$D$14-F26 -> 12342 | I26: =SUM(I23:I25) -> 72265
A27: 46208 | B27: =A27 -> 46208 | E27: 1199 | F27: =F26+E27 -> 15663 | G27: =$D$14-F27 -> 11143
A28: 46209 | B28: =A28 -> 46209 | E28: 1196 | F28: =F27+E28 -> 16859 | G28: =$D$14-F28 -> 9947
A29: 46210 | B29: =A29 -> 46210 | E29: 1166 | F29: =F28+E29 -> 18025 | G29: =$D$14-F29 -> 8781
A30: 46211 | B30: =A30 -> 46211 | E30: 1165 | F30: =F29+E30 -> 19190 | G30: =$D$14-F30 -> 7616
A31: 46212 | B31: =A31 -> 46212 | E31: 1166 | F31: =F30+E31 -> 20356 | G31: =$D$14-F31 -> 6450
A32: 46213 | B32: =A32 -> 46213 | E32: 1165 | F32: =F31+E32 -> 21521 | G32: =$D$14-F32 -> 5285
A33: 46214 | B33: =A33 -> 46214 | E33: 1071 | F33: =F32+E33 -> 22592 | G33: =$D$14-F33 -> 4214
A34: 46215 | B34: =A34 -> 46215 | E34: 2478 | F34: =F33+E34 -> 25070 | G34: =$D$14-F34 -> 1736
A35: 46216 | B35: =A35 -> 46216 | E35: 1176 | F35: =F34+E35 -> 26246 | G35: =$D$14-F35 -> 560
A36: 46217 | B36: =A36 -> 46217 | E36: 560 | F36: =F35+E36 -> 26806 | G36: =$D$14-F36 -> 0
C37: 50.8011.2281C-80 | D37: 6000 | E37: 336 | F37: =E37 -> 336 | G37: =$D$37-F37 -> 5664 | H37: 46223 | I37: 6000 | J37: WWMD7CA-11.0 | K37: 46195 | L37: M1-2 | M37: M01150612015 | Q37: 7/30出貨 | R37: 熱處理
A38: 46218 | B38: =A38 -> 46218 | E38: 734 | F38: =F37+E38 -> 1070 | G38: =$D$37-F38 -> 4930
A39: 46219 | B39: =A39 -> 46219 | E39: 756 | F39: =F38+E39 -> 1826 | G39: =$D$37-F39 -> 4174
A40: 46220 | B40: =A40 -> 46220 | E40: 758 | F40: =F39+E40 -> 2584 | G40: =$D$37-F40 -> 3416
...

Sheet C33
A1: 日期 | C1: 品名 | D1: 投產數 | E1: 當日產量 | F1: 累積產量 | G1: 未生產數 | H1: 預交日 | I1: 訂單數量 | J1: 銅條 | K1: 進料日 | L1: 架位 | M1: 工令單號 | N1: 實際入庫 | O1: 差異 | P1: 單重 | Q1: 備註(出貨日) | R1: 後製程
A2: 46173 | B2: =A2 -> 46173 | C2: B0.2082.1-80 | D2: 9000 | E2: 749 | F2: =E2 -> 749 | G2: =$D$2-F2 -> 8251 | H2: 46181 | I2: 9000 | J2: WWMJ4A-21*C15.5 | K2: 46154 | M2: M01150424026 | N2: 4/29-SCH | Q2: 6/22出貨 | R2: 電鍍
A3: 46174 | B3: =A3 -> 46174 | E3: 1900 | F3: =F2+E3 -> 2649 | G3: =$D$2-F3 -> 6351
A4: 46175 | B4: =A4 -> 46175 | E4: 1826 | F4: =F3+E4 -> 4475 | G4: =$D$2-F4 -> 4525
A5: 46176 | B5: =A5 -> 46176 | E5: 1836 | F5: =F4+E5 -> 6311 | G5: =$D$2-F5 -> 2689
A6: 46177 | B6: =A6 -> 46177 | E6: 1893 | F6: =F5+E6 -> 8204 | G6: =$D$2-F6 -> 796
A7: 46178 | B7: =A7 -> 46178 | E7: 796 | F7: =F6+E7 -> 9000 | G7: =$D$2-F7 -> 0
C8: B0.2082.1-80 | D8: 30000 | E8: 1101 | F8: =E8 -> 1101 | G8: =$D$8-F8 -> 28899 | H8: 46195 | I8: 30000 | J8: WWMJ4A-21*C15.5 | K8: 46178 | L8: 13B | M8: M01150520063 | N8: 6/3-SCH | Q8: 7/6出貨 | R8: 電鍍
A9: 46179 | B9: =A9 -> 46179 | E9: 1890 | F9: =F8+E9 -> 2991 | G9: =$D$8-F9 -> 27009
A10: 46180 | B10: =A10 -> 46180 | E10: 1900 | F10: =F9+E10 -> 4891 | G10: =$D$8-F10 -> 25109
A11: 46181 | B11: =A11 -> 46181 | E11: 1881 | F11: =F10+E11 -> 6772 | G11: =$D$8-F11 -> 23228
A12: 46182 | B12: =A12 -> 46182 | E12: 1905 | F12: =F11+E12 -> 8677 | G12: =$D$8-F12 -> 21323
A13: 46183 | B13: =A13 -> 46183 | E13: 1900 | F13: =F12+E13 -> 10577 | G13: =$D$8-F13 -> 19423
A14: 46184 | B14: =A14 -> 46184 | E14: 1886 | F14: =F13+E14 -> 12463 | G14: =$D$8-F14 -> 17537
A15: 46185 | B15: =A15 -> 46185 | E15: 1882 | F15: =F14+E15 -> 14345 | G15: =$D$8-F15 -> 15655
A16: 46186 | B16: =A16 -> 46186 | E16: 1897 | F16: =F15+E16 -> 16242 | G16: =$D$8-F16 -> 13758
A17: 46187 | B17: =A17 -> 46187 | E17: 1905 | F17: =F16+E17 -> 18147 | G17: =$D$8-F17 -> 11853
A18: 46188 | B18: =A18 -> 46188 | E18: 1868 | F18: =F17+E18 -> 20015 | G18: =$D$8-F18 -> 9985
A19: 46189 | B19: =A19 -> 46189 | E19: 1880 | F19: =F18+E19 -> 21895 | G19: =$D$8-F19 -> 8105
A20: 46190 | B20: =A20 -> 46190 | E20: 1785 | F20: =F19+E20 -> 23680 | G20: =$D$8-F20 -> 6320
... A25: 46195 | B25: =A25 -> 46195 | E25: 169 | F25: =F24+E25 -> 31400 | G25: =$D$8-F25 -> -1400
C26: B0.1012.1-80 | D26: =I26+I27 -> 2000 | E26: 1393 | F26: =E26 -> 1393 | G26: =$D$26-F26 -> 607 | H26: 46202 | I26: 1000 | J26: WWMJ4A-24.05*C19 | K26: 46197 | L26: V5 | M26: M01150610038 | Q26: 7/15出貨 | R26: 打字+電鍍+委外組立
A27: 46196 | B27: =A27 -> 46196 | E27: 765 | F27: =F26+E27 -> 2158 | G27: =$D$26-F27 -> -158 | H27: 46202 | I27: 1000 | J27: WWMJ4A-24.05*C19 | K27: 46197 | L27: V5 | M27: M01150610041 | Q27: 7/15出貨 | R27: 打字+電鍍+委外組立
C28: BY.0083.1-80 | D28: 19200 | E28: 1036 | F28: =E28 -> 1036 | G28: =$D$28-F28 -> 18164 | H28: 46209 | I28: 20000 | J28: WWMJ4A-24.05*C19 | K28: 46197 | L28: V5 | M28: M01150527027 | Q28: 7/20出貨 | R28: 電鍍
A29: 46197 | B29: =A29 -> 46197 | C29: 試電 | E29: 2094 | F29: =F28+E29 -> 3130 | G29: =$D$28-F29 -> 16070 | H29: NG
A30: 46198 | B30: =A30 -> 46198 | E30: 2062 | F30: =F29+E30 -> 5192 | G30: =$D$28-F30 -> 14008
A31: 46199 | B31: =A31 -> 46199 | E31: 2127 | F31: =F30+E31 -> 7319 | G31: =$D$28-F31 -> 11881
A32: 46200 | B32: =A32 -> 46200 | E32: 2009 | F32: =F31+E32 -> 9328 | G32: =$D$28-F32 -> 9872
A33: 46201 | B33: =A33 -> 46201 | E33: 1748 | F33: =F32+E33 -> 11076 | G33: =$D$28-F33 -> 8124
A34: 46202 | B34: =A34 -> 46202 | E34: 2054 | F34: =F33+E34 -> 13130 | G34: =$D$28-F34 -> 6070
A35: 46203 | B35: =A35 -> 46203 | E35: 2160 | F35: =F34+E35 -> 15290 | G35: =$D$28-F35 -> 3910
A36: 46204 | B36: =A36 -> 46204 | E36: 2076 | F36: =F35+E36 -> 17366 | G36: =$D$28-F36 -> 1834
A37: 46205 | B37: =A37 -> 46205 | E37: 2146 | F37: =F36+E37 -> 19512 | G37: =$D$28-F37 -> -312
A38: 46206 | B38: =A38 -> 46206 | C38: GY.3462.1-80 | D38: 4100 | E38: 767 | F38: =E38 -> 767 | G38: =$D$38-F38 -> 3333 | H38: 46191 | I38: 7000 | J38: WWMJ6CA-27.0 | K38: 46191 | L38: 19C | M38: M01150515023 | Q38: 7/6出貨 | R38: 電鍍
A39: 46207 | B39: =A39 -> 46207 | E39: 1196 | F39: =E39+F38 -> 1963 | G39: =$D$38-F39 -> 2137 | H39: C29 | I39: 3126
A40: 46208 | B40: =A40 -> 46208 | E40: 1196 | F40: =E40+F39 -> 3159 | G40: =$D$38-F40 -> 941 | H40: C33 | I40: 3874
A41: 46209 | B41: =A41 -> 46209 | E41: 1033 | F41: =E41+F40 -> 4192 | G41: =$D$38-F41 -> -92
A42: 46210 | B42: =A42 -> 46210 | C42: B0.2092.1-80 | D42: 27653 | E42: 1456 | F42: =E42 -> 1456 | G42: =$D$42-F42 -> 26197 | H42: 2026/07/20 | I42: 27653 | J42: WWMJ4A-21*C15.5 | K42: 46190 | L42: 13B | M42: M01150602024 | Q42: 8/3出貨 | R42: 電鍍
A43: 46211 | B43: =A43 -> 46211 | E43: 1977 | F43: =F42+E43 -> 3433 | G43: =$D$42-F43 -> 24220
A44: 46212 | B44: =A44 -> 46212 | E44: 1971 | F44: =F43+E44 -> 5404 | G44: =$D$42-F44 -> 22249
...

Sheet C2
A1: 日期 | C1: 品名(42圓) | D1: 投產數 | E1: 當日產量 | F1: 累積產量 | G1: 未生產數 | H1: 預交日 | I1: 訂單數量 | J1: 銅條 | K1: 進料日 | L1: 架位 | M1: 工令單號 | N1: 實際入庫 | O1: 差異 | P1: 單重 | Q1: 備註(出貨日) | R1: 後製程
A2: 46177 | B2: =A2 -> 46177 | C2: R10300-80 | D2: 1750 | E2: 286 | F2: =E2 -> 286 | G2: =$D$2-F2 -> 1464 | H2: 46180 | I2: 1750 | J2: WWMUICA-27.0 | L2: 木箱 | M2: M01150407149 | Q2: 6/8出貨 | R2: 補數量不足
A3: 46178 | B3: =A3 -> 46178 | E3: 493 | F3: =F2+E3 -> 779 | G3: =$D$2-F3 -> 971
A4: 46179 | B4: =A4 -> 46179 | E4: 495 | F4: =F3+E4 -> 1274 | G4: =$D$2-F4 -> 476
A5: 46180 | B5: =A5 -> 46180 | E5: 495 | F5: =F4+E5 -> 1769 | G5: =$D$2-F5 -> -19
A6: 46181 | B6: =A6 -> 46181 | E6: 24 | F6: =F5+E6 -> 1793 | G6: =$D$2-F6 -> -43
C7: R10314-80 | D7: =I9 -> 4851 | E7: 295 | F7: =E7 -> 295 | G7: =$D$7-F7 -> 4556 | H7: 46188 | I7: 4800 | J7: WWMUICA-27.0 | L7: 木箱 | M7: M01150525017 | Q7: 6/29出貨 | R7: 沖角+拋光+電鍍
A8: 46182 | B8: =A8 -> 46182 | E8: 385 | F8: =F7+E8 -> 680 | G8: =$D$7-F8 -> 4171 | H8: NG | I8: 51
A9: 46183 | B9: =A9 -> 46183 | E9: 385 | F9: =F8+E9 -> 1065 | G9: =$D$7-F9 -> 3786 | I9: =SUM(I7:I8) -> 4851
A10: 46184 | B10: =A10 -> 46184 | E10: 385 | F10: =F9+E10 -> 1450 | G10: =$D$7-F10 -> 3401
A11: 46185 | B11: =A11 -> 46185 | E11: 385 | F11: =F10+E11 -> 1835 | G11: =$D$7-F11 -> 3016
A12: 46186 | B12: =A12 -> 46186 | E12: 386 | F12: =F11+E12 -> 2221 | G12: =$D$7-F12 -> 2630
A13: 46187 | B13: =A13 -> 46187 | E13: 385 | F13: =F12+E13 -> 2606 | G13: =$D$7-F13 -> 2245
A14: 46188 | B14: =A14 -> 46188 | E14: 386 | F14: =F13+E14 -> 2992 | G14: =$D$7-F14 -> 1859
A15: 46189 | B15: =A15 -> 46189 | E15: 375 | F15: =F14+E15 -> 3367 | G15: =$D$7-F15 -> 1484
A16: 46190 | B16: =A16 -> 46190 | E16: 385 | F16: =F15+E16 -> 3752 | G16: =$D$7-F16 -> 1099
A17: 46191 | B17: =A17 -> 46191 | E17: 386 | F17: =F16+E17 -> 4138 | G17: =$D$7-F17 -> 713
A18: 46192 | B18: =A18 -> 46192 | E18: 386 | F18: =F17+E18 -> 4524 | G18: =$D$7-F18 -> 327
A19: 46193 | B19: =A19 -> 46193 | E19: 387 | F19: =F18+E19 -> 4911 | G19: =$D$7-F19 -> -60
A20: 46194 | B20: =A20 -> 46194 | E20: 169 | G20: =$D$7-F20 -> #VALUE!
C21: VXR-4-80 | D21: =I30 -> 25093 | E21: 467 | F21: =E21 -> 467 | G21: =$D$21-F21 -> 24626 | H21: 46181 | I21: 600 | J21: WWHJ4CA-20.5 | L21: H1-4 | M21: M01150422024 | Q21: 6/29出貨-1449
A22: 46195 | B22: =A22 -> 46195 | E22: 1023 | F22: =F21+E22 -> 1490 | G22: =$D$21-F22 -> 23603 | H22: 46198 | I22: 3165 | J22: WWHJ4CA-20.5 | L22: H1-4 | M22: M01150409205 | Q22: 7/1出貨-250
A23: 46196 | B23: =A23 -> 46196 | E23: 1026 | F23: =F22+E23 -> 2516 | G23: =$D$21-F23 -> 22577 | H23: 46206 | I23: 18500 | J23: WWHJ4CA-20.5 | L23: H1-4 | M23: M01150507162 | Q23: 7/3出貨-11940
A24: 46197 | B24: =A24 -> 46197 | E24: 1028 | F24: =F23+E24 -> 3544 | G24: =$D$21-F24 -> 21549 | H24: 46198 | I24: 10000 | J24: WWHJ4CA-20.5 | K24: 46177 | L24: H1-4 | M24: M01150522214 | Q24: 7/6出貨-10400
A25: 46198 | B25: =A25 -> 46198 | E25: 1027 | F25: =F24+E25 -> 4571 | G25: =$D$21-F25 -> 20522 | H25: 46204 | I25: 10000 | J25: WWHJ4CA-20.5 | K25: 46189 | L25: H1-4 | M25: M01150601112 | Q25: 7/13出貨-4584
A26: 46199 | B26: =A26 -> 46199 | E26: 1026 | F26: =F25+E26 -> 5597 | G26: =$D$21-F26 -> 19496 | H26: 46216 | I26: 10000 | J26: WWHJ4CA-20.5 | K26: 46197 | L26: H1-4 | M26: M01150611076 | Q26: 7/15出貨-1800
